{
 "currentVersion": 11.5,
 "serviceDescription": "Chesapeake/WV_classes",
 "serviceItemId": "5f6cd1b697fd489cbe69c474fd1311bc",
 "name": "Chesapeake/WV_classes",
 "description": "",
 "extent": {
  "xmin": -9199954.2278,
  "ymin": 4467237.119241318,
  "xmax": -8651695.465074813,
  "ymax": 4959211.163899997,
  "spatialReference": {
   "wkid": 102100,
   "latestWkid": 3857
  }
 },
 "initialExtent": {
  "xmin": -9199954.2278,
  "ymin": 4467237.119241318,
  "xmax": -8651695.465074813,
  "ymax": 4959211.163899997,
  "spatialReference": {
   "wkid": 102100,
   "latestWkid": 3857
  }
 },
 "fullExtent": {
  "xmin": -9199954.2278,
  "ymin": 4467237.119241318,
  "xmax": -8651695.465074813,
  "ymax": 4959211.163899997,
  "spatialReference": {
   "wkid": 102100,
   "latestWkid": 3857
  }
 },
 "sortableFields": "",
 "bandCount": 1,
 "pixelType": "U8",
 "minValues": [
  1
 ],
 "maxValues": [
  12
 ],
 "meanValues": [
  4.5943627480258
 ],
 "stdvValues": [
  1.0554399957238
 ],
 "serviceProperties": "<ImageServer><ImageServiceProperties><MosaicMethod>Center<\/MosaicMethod><MosaicOperator>First<\/MosaicOperator><SortAscending>true<\/SortAscending><LockImageID><\/LockImageID><TileOrderField><\/TileOrderField><TileOrderBase>0<\/TileOrderBase><AvgImageSpacingX>0.000000<\/AvgImageSpacingX><AvgImageSpacingY>0.000000<\/AvgImageSpacingY><ViewPointX>0.0<\/ViewPointX><ViewPointY>0.0<\/ViewPointY><ViewPointDefShiftX>0.0<\/ViewPointDefShiftX><ViewPointDefShiftY>0.0<\/ViewPointDefShiftY><CompressionMethod>None<\/CompressionMethod><CompressionQuality>75<\/CompressionQuality><CompressionTolerance>0.010000<\/CompressionTolerance><SamplingMethod>Bilinear<\/SamplingMethod><\/ImageServiceProperties><\/ImageServer>",
 "allowedFields": "",
 "hasMultidimensions": false,
 "pixelSizeX": 1.9951337445148345,
 "pixelSizeY": 1.9951337445148345,
 "meanPixelSize": 1.9951337445148345,
 "datasetFormat": "TIFF",
 "uncompressedSize": 67761614426,
 "blockWidth": 512,
 "blockHeight": 512,
 "compressionType": "LZW",
 "bandNames": [
  "B1_Red"
 ],
 "allowCopy": true,
 "allowAnalysis": true,
 "itemAccess": false,
 "inspectionCapabilities": "",
 "noDataValue": 255,
 "noDataValues": [
  255
 ],
 "minPixelSize": 0,
 "maxPixelSize": 0,
 "copyrightText": "",
 "serviceDataType": "esriImageServiceDataTypeThematic",
 "serviceSourceType": "esriImageServiceSourceTypeDataset",
 "objectIdField": "",
 "fields": [],
 "capabilities": "Image,Metadata,Mensuration",
 "defaultMosaicMethod": "Center",
 "allowedMosaicMethods": "",
 "sortField": "",
 "sortValue": null,
 "sortAscending": true,
 "mosaicOperator": "First",
 "defaultCompressionQuality": 75,
 "defaultResamplingMethod": "Bilinear",
 "maxImageHeight": 4100,
 "maxImageWidth": 15000,
 "allowRasterFunction": true,
 "rasterFunctionInfos": [
  {
   "name": "None",
   "description": "Make a Raster or Raster Dataset into a Function Raster Dataset.",
   "help": ""
  }
 ],
 "rasterTypeInfos": [
  {
   "name": "Raster Dataset",
   "description": "Supports all ArcGIS Raster Datasets",
   "help": ""
  }
 ],
 "mensurationCapabilities": "Basic",
 "hasHistograms": false,
 "hasColormap": false,
 "hasRasterAttributeTable": true,
 "minScale": 0,
 "maxScale": 0,
 "exportTilesAllowed": false,
 "supportsStatistics": false,
 "supportsAdvancedQueries": false,
 "editFieldsInfo": null,
 "ownershipBasedAccessControlForRasters": null,
 "allowComputeTiePoints": false,
 "useStandardizedQueries": true,
 "advancedQueryCapabilities": {
  "useStandardizedQueries": true,
  "supportsStatistics": false,
  "supportsOrderBy": false,
  "supportsDistinct": false,
  "supportsPagination": false
 },
 "spatialReference": {
  "wkid": 102100,
  "latestWkid": 3857
 }
}
