{
 "currentVersion": 11.5,
 "serviceDescription": "EMIT_NM_L2A_RFL_Feb2023",
 "serviceItemId": "87100dae77d443a8bea42713073ea3d5",
 "name": "EMIT_NM_L2A_RFL_Feb2023",
 "description": "",
 "extent": {
  "xmin": -1.1632576173E7,
  "ymin": 3773487.724560582,
  "xmax": -1.1552537423290351E7,
  "ymax": 3840247.043700002,
  "spatialReference": {
   "wkid": 102100,
   "latestWkid": 3857
  }
 },
 "initialExtent": {
  "xmin": -1.1632576173E7,
  "ymin": 3773487.724560582,
  "xmax": -1.1552537423290351E7,
  "ymax": 3840247.043700002,
  "spatialReference": {
   "wkid": 102100,
   "latestWkid": 3857
  }
 },
 "fullExtent": {
  "xmin": -1.1632576173E7,
  "ymin": 3773487.724560582,
  "xmax": -1.1552537423290351E7,
  "ymax": 3840247.043700002,
  "spatialReference": {
   "wkid": 102100,
   "latestWkid": 3857
  }
 },
 "sortableFields": "MinPS,MaxPS,LowPS,HighPS,CenterX,CenterY,ZOrder,Shape_Length,Shape_Area",
 "bandCount": 285,
 "pixelType": "F32",
 "minValues": [],
 "maxValues": [],
 "meanValues": [],
 "stdvValues": [],
 "serviceProperties": "NorthWest<\/MosaicMethod>First<\/MosaicOperator>true<\/SortAscending><\/LockImageID>Name<\/TileOrderField>0<\/TileOrderBase>600.000000<\/AvgImageSpacingX>300.000000<\/AvgImageSpacingY>0.0<\/ViewPointX>0.0<\/ViewPointY>0.0<\/ViewPointDefShiftX>0.0<\/ViewPointDefShiftY>None<\/CompressionMethod>75<\/CompressionQuality>0.010000<\/CompressionTolerance>Bilinear<\/SamplingMethod><\/ImageServiceProperties><\/ImageServer>",
 "allowedFields": "Name,MinPS,MaxPS,LowPS,HighPS,Tag,GroupName,ProductName,CenterX,CenterY,ZOrder,Shape_Length,Shape_Area",
 "hasMultidimensions": false,
 "pixelSizeX": 60.36104804649247,
 "pixelSizeY": 60.36104804649191,
 "meanPixelSize": 60.361048046492186,
 "datasetFormat": "AMD",
 "uncompressedSize": 1671873840,
 "blockWidth": 2048,
 "blockHeight": 256,
 "compressionType": "None",
 "bandNames": [
  "Band_1",
  "Band_2",
  "Band_3",
  "Band_4",
  "Band_5",
  "Band_6",
  "Band_7",
  "Band_8",
  "Band_9",
  "Band_10",
  "Band_11",
  "Band_12",
  "Band_13",
  "Band_14",
  "Band_15",
  "Band_16",
  "Band_17",
  "Band_18",
  "Band_19",
  "Band_20",
  "Band_21",
  "Band_22",
  "Band_23",
  "Band_24",
  "Band_25",
  "Band_26",
  "Band_27",
  "Band_28",
  "Band_29",
  "Band_30",
  "Band_31",
  "Band_32",
  "Band_33",
  "Band_34",
  "Band_35",
  "Band_36",
  "Band_37",
  "Band_38",
  "Band_39",
  "Band_40",
  "Band_41",
  "Band_42",
  "Band_43",
  "Band_44",
  "Band_45",
  "Band_46",
  "Band_47",
  "Band_48",
  "Band_49",
  "Band_50",
  "Band_51",
  "Band_52",
  "Band_53",
  "Band_54",
  "Band_55",
  "Band_56",
  "Band_57",
  "Band_58",
  "Band_59",
  "Band_60",
  "Band_61",
  "Band_62",
  "Band_63",
  "Band_64",
  "Band_65",
  "Band_66",
  "Band_67",
  "Band_68",
  "Band_69",
  "Band_70",
  "Band_71",
  "Band_72",
  "Band_73",
  "Band_74",
  "Band_75",
  "Band_76",
  "Band_77",
  "Band_78",
  "Band_79",
  "Band_80",
  "Band_81",
  "Band_82",
  "Band_83",
  "Band_84",
  "Band_85",
  "Band_86",
  "Band_87",
  "Band_88",
  "Band_89",
  "Band_90",
  "Band_91",
  "Band_92",
  "Band_93",
  "Band_94",
  "Band_95",
  "Band_96",
  "Band_97",
  "Band_98",
  "Band_99",
  "Band_100",
  "Band_101",
  "Band_102",
  "Band_103",
  "Band_104",
  "Band_105",
  "Band_106",
  "Band_107",
  "Band_108",
  "Band_109",
  "Band_110",
  "Band_111",
  "Band_112",
  "Band_113",
  "Band_114",
  "Band_115",
  "Band_116",
  "Band_117",
  "Band_118",
  "Band_119",
  "Band_120",
  "Band_121",
  "Band_122",
  "Band_123",
  "Band_124",
  "Band_125",
  "Band_126",
  "Band_127",
  "Band_128",
  "Band_129",
  "Band_130",
  "Band_131",
  "Band_132",
  "Band_133",
  "Band_134",
  "Band_135",
  "Band_136",
  "Band_137",
  "Band_138",
  "Band_139",
  "Band_140",
  "Band_141",
  "Band_142",
  "Band_143",
  "Band_144",
  "Band_145",
  "Band_146",
  "Band_147",
  "Band_148",
  "Band_149",
  "Band_150",
  "Band_151",
  "Band_152",
  "Band_153",
  "Band_154",
  "Band_155",
  "Band_156",
  "Band_157",
  "Band_158",
  "Band_159",
  "Band_160",
  "Band_161",
  "Band_162",
  "Band_163",
  "Band_164",
  "Band_165",
  "Band_166",
  "Band_167",
  "Band_168",
  "Band_169",
  "Band_170",
  "Band_171",
  "Band_172",
  "Band_173",
  "Band_174",
  "Band_175",
  "Band_176",
  "Band_177",
  "Band_178",
  "Band_179",
  "Band_180",
  "Band_181",
  "Band_182",
  "Band_183",
  "Band_184",
  "Band_185",
  "Band_186",
  "Band_187",
  "Band_188",
  "Band_189",
  "Band_190",
  "Band_191",
  "Band_192",
  "Band_193",
  "Band_194",
  "Band_195",
  "Band_196",
  "Band_197",
  "Band_198",
  "Band_199",
  "Band_200",
  "Band_201",
  "Band_202",
  "Band_203",
  "Band_204",
  "Band_205",
  "Band_206",
  "Band_207",
  "Band_208",
  "Band_209",
  "Band_210",
  "Band_211",
  "Band_212",
  "Band_213",
  "Band_214",
  "Band_215",
  "Band_216",
  "Band_217",
  "Band_218",
  "Band_219",
  "Band_220",
  "Band_221",
  "Band_222",
  "Band_223",
  "Band_224",
  "Band_225",
  "Band_226",
  "Band_227",
  "Band_228",
  "Band_229",
  "Band_230",
  "Band_231",
  "Band_232",
  "Band_233",
  "Band_234",
  "Band_235",
  "Band_236",
  "Band_237",
  "Band_238",
  "Band_239",
  "Band_240",
  "Band_241",
  "Band_242",
  "Band_243",
  "Band_244",
  "Band_245",
  "Band_246",
  "Band_247",
  "Band_248",
  "Band_249",
  "Band_250",
  "Band_251",
  "Band_252",
  "Band_253",
  "Band_254",
  "Band_255",
  "Band_256",
  "Band_257",
  "Band_258",
  "Band_259",
  "Band_260",
  "Band_261",
  "Band_262",
  "Band_263",
  "Band_264",
  "Band_265",
  "Band_266",
  "Band_267",
  "Band_268",
  "Band_269",
  "Band_270",
  "Band_271",
  "Band_272",
  "Band_273",
  "Band_274",
  "Band_275",
  "Band_276",
  "Band_277",
  "Band_278",
  "Band_279",
  "Band_280",
  "Band_281",
  "Band_282",
  "Band_283",
  "Band_284",
  "Band_285"
 ],
 "allowCopy": true,
 "allowAnalysis": true,
 "itemAccess": false,
 "inspectionCapabilities": "",
 "minPixelSize": 0,
 "maxPixelSize": 0,
 "copyrightText": "",
 "serviceDataType": "esriImageServiceDataTypeGeneric",
 "serviceSourceType": "esriImageServiceSourceTypeMosaicDataset",
 "objectIdField": "OBJECTID",
 "fields": [
  {
   "name": "OBJECTID",
   "type": "esriFieldTypeOID",
   "alias": "OBJECTID",
   "domain": null
  },
  {
   "name": "Shape",
   "type": "esriFieldTypeGeometry",
   "alias": "Shape",
   "domain": null
  },
  {
   "name": "Name",
   "type": "esriFieldTypeString",
   "alias": "Name",
   "domain": null,
   "length": 200
  },
  {
   "name": "MinPS",
   "type": "esriFieldTypeDouble",
   "alias": "MinPS",
   "domain": null
  },
  {
   "name": "MaxPS",
   "type": "esriFieldTypeDouble",
   "alias": "MaxPS",
   "domain": null
  },
  {
   "name": "LowPS",
   "type": "esriFieldTypeDouble",
   "alias": "LowPS",
   "domain": null
  },
  {
   "name": "HighPS",
   "type": "esriFieldTypeDouble",
   "alias": "HighPS",
   "domain": null
  },
  {
   "name": "Category",
   "type": "esriFieldTypeInteger",
   "alias": "Category",
   "domain": {
    "type": "codedValue",
    "name": "MosaicCatalogItemCategoryDomain",
    "description": "Catalog item categories.",
    "codedValues": [
     {
      "name": "Unknown",
      "code": 0
     },
     {
      "name": "Primary",
      "code": 1
     },
     {
      "name": "Overview",
      "code": 2
     },
     {
      "name": "Unprocessed Overview",
      "code": 3
     },
     {
      "name": "Partial Overview",
      "code": 4
     },
     {
      "name": "Inactive",
      "code": 5
     },
     {
      "name": "Uploaded",
      "code": 253
     },
     {
      "name": "Incomplete",
      "code": 254
     },
     {
      "name": "Custom",
      "code": 255
     }
    ],
    "mergePolicy": "esriMPTDefaultValue",
    "splitPolicy": "esriSPTDefaultValue"
   }
  },
  {
   "name": "Tag",
   "type": "esriFieldTypeString",
   "alias": "Tag",
   "domain": null,
   "length": 100
  },
  {
   "name": "GroupName",
   "type": "esriFieldTypeString",
   "alias": "GroupName",
   "domain": null,
   "length": 100
  },
  {
   "name": "ProductName",
   "type": "esriFieldTypeString",
   "alias": "ProductName",
   "domain": null,
   "length": 100
  },
  {
   "name": "CenterX",
   "type": "esriFieldTypeDouble",
   "alias": "CenterX",
   "domain": null
  },
  {
   "name": "CenterY",
   "type": "esriFieldTypeDouble",
   "alias": "CenterY",
   "domain": null
  },
  {
   "name": "ZOrder",
   "type": "esriFieldTypeInteger",
   "alias": "ZOrder",
   "domain": null
  },
  {
   "name": "Shape_Length",
   "type": "esriFieldTypeDouble",
   "alias": "Shape_Length",
   "domain": null
  },
  {
   "name": "Shape_Area",
   "type": "esriFieldTypeDouble",
   "alias": "Shape_Area",
   "domain": null
  }
 ],
 "capabilities": "Image,Metadata,Mensuration,Catalog",
 "defaultMosaicMethod": "Northwest",
 "allowedMosaicMethods": "NorthWest,Center,LockRaster,ByAttribute,Nadir,Viewpoint,Seamline,None",
 "sortField": "",
 "sortValue": null,
 "sortAscending": true,
 "mosaicOperator": "First",
 "maxDownloadSizeLimit": 2048,
 "defaultCompressionQuality": 75,
 "defaultResamplingMethod": "Bilinear",
 "maxImageHeight": 20000,
 "maxImageWidth": 20000,
 "maxRecordCount": 1000,
 "maxDownloadImageCount": 20,
 "maxMosaicImageCount": 20,
 "allowRasterFunction": true,
 "rasterFunctionInfos": [
  {
   "name": "None",
   "description": "",
   "help": ""
  }
 ],
 "rasterTypeInfos": [
  {
   "name": "Raster Dataset",
   "description": "Supports all ArcGIS Raster Datasets",
   "help": ""
  }
 ],
 "mensurationCapabilities": "Basic",
 "hasHistograms": false,
 "hasColormap": false,
 "hasRasterAttributeTable": false,
 "minScale": 0,
 "maxScale": 0,
 "exportTilesAllowed": false,
 "supportsStatistics": true,
 "supportsAdvancedQueries": true,
 "editFieldsInfo": null,
 "ownershipBasedAccessControlForRasters": null,
 "allowComputeTiePoints": false,
 "useStandardizedQueries": true,
 "advancedQueryCapabilities": {
  "useStandardizedQueries": true,
  "supportsStatistics": true,
  "supportsOrderBy": true,
  "supportsDistinct": true,
  "supportsPagination": true
 },
 "spatialReference": {
  "wkid": 102100,
  "latestWkid": 3857
 }
}
