{
 "currentVersion": 11.4,
 "serviceDescription": "ICEYE_FloodDepth_washington_bc_R2_clean_lzw_tif",
 "name": "ICEYE_FloodDepth_washington_bc_R2_clean_lzw_tif",
 "description": "",
 "extent": {
  "xmin": 478540.8882113442,
  "ymin": 5349142.4297154695,
  "xmax": 672909.3200406728,
  "ymax": 5470940.19626938,
  "spatialReference": {
   "wkid": 32610,
   "latestWkid": 32610
  }
 },
 "initialExtent": {
  "xmin": 478540.8882113442,
  "ymin": 5349142.4297154695,
  "xmax": 672909.3200406728,
  "ymax": 5470940.19626938,
  "spatialReference": {
   "wkid": 32610,
   "latestWkid": 32610
  }
 },
 "fullExtent": {
  "xmin": 478540.8882113442,
  "ymin": 5349142.4297154695,
  "xmax": 672909.3200406728,
  "ymax": 5470940.19626938,
  "spatialReference": {
   "wkid": 32610,
   "latestWkid": 32610
  }
 },
 "sortableFields": "",
 "bandCount": 1,
 "pixelType": "F32",
 "minValues": [
  1.6293974700846E-14
 ],
 "maxValues": [
  5
 ],
 "meanValues": [
  1.1422068238093
 ],
 "stdvValues": [
  1.0513255413272
 ],
 "hasMultidimensions": false,
 "pixelSizeX": 3.268948886280102,
 "pixelSizeY": 3.2689488862801053,
 "meanPixelSize": 3.2689488862801035,
 "datasetFormat": "TIFF",
 "uncompressedSize": 8861531524,
 "blockWidth": 59459,
 "blockHeight": 1,
 "compressionType": "LZW",
 "bandNames": [
  "Band_1"
 ],
 "allowCopy": true,
 "allowAnalysis": true,
 "itemAccess": false,
 "inspectionCapabilities": "",
 "noDataValue": 0,
 "noDataValues": [
  0
 ],
 "minPixelSize": 0,
 "maxPixelSize": 0,
 "copyrightText": "",
 "serviceDataType": "esriImageServiceDataTypeGeneric",
 "serviceSourceType": "esriImageServiceSourceTypeDataset",
 "objectIdField": "",
 "fields": [],
 "capabilities": "Image,Metadata,Mensuration",
 "defaultMosaicMethod": "Center",
 "allowedMosaicMethods": "",
 "sortField": "",
 "sortValue": null,
 "sortAscending": true,
 "mosaicOperator": "First",
 "defaultCompressionQuality": 75,
 "defaultResamplingMethod": "Bilinear",
 "maxImageHeight": 4100,
 "maxImageWidth": 15000,
 "allowRasterFunction": true,
 "rasterFunctionInfos": [
  {
   "name": "None",
   "description": "",
   "help": ""
  }
 ],
 "rasterTypeInfos": [
  {
   "name": "Raster Dataset",
   "description": "Supports all ArcGIS Raster Datasets",
   "help": ""
  }
 ],
 "mensurationCapabilities": "Basic",
 "hasHistograms": true,
 "hasColormap": false,
 "hasRasterAttributeTable": false,
 "minScale": 0,
 "maxScale": 0,
 "exportTilesAllowed": false,
 "supportsStatistics": false,
 "supportsAdvancedQueries": false,
 "editFieldsInfo": null,
 "ownershipBasedAccessControlForRasters": null,
 "allowComputeTiePoints": false,
 "useStandardizedQueries": true,
 "advancedQueryCapabilities": {
  "useStandardizedQueries": true,
  "supportsStatistics": false,
  "supportsOrderBy": false,
  "supportsDistinct": false,
  "supportsPagination": false
 },
 "spatialReference": {
  "wkid": 32610,
  "latestWkid": 32610
 }
}
