{
 "currentVersion": 11.5,
 "serviceDescription": "JHall_Data/LandCART_Multiband_CRF",
 "serviceItemId": "6af8dc9f1f1643dc9e2065486be58c9c",
 "name": "JHall_Data/LandCART_Multiband_CRF",
 "description": "",
 "extent": {
  "xmin": -1.18968000013E7,
  "ymin": 3824959.9222000027,
  "xmax": -1.18560900013E7,
  "ymax": 3872809.922200002,
  "spatialReference": {
   "wkid": 102100,
   "latestWkid": 3857
  }
 },
 "initialExtent": {
  "xmin": -1.18968000013E7,
  "ymin": 3824959.9222000027,
  "xmax": -1.18560900013E7,
  "ymax": 3872809.922200002,
  "spatialReference": {
   "wkid": 102100,
   "latestWkid": 3857
  }
 },
 "fullExtent": {
  "xmin": -1.18968000013E7,
  "ymin": 3824959.9222000027,
  "xmax": -1.18560900013E7,
  "ymax": 3872809.922200002,
  "spatialReference": {
   "wkid": 102100,
   "latestWkid": 3857
  }
 },
 "sortableFields": "",
 "bandCount": 7,
 "pixelType": "F32",
 "minValues": [
  0,
  0,
  0,
  0,
  0,
  0,
  0
 ],
 "maxValues": [
  38,
  100,
  52,
  91,
  69,
  70,
  90
 ],
 "meanValues": [
  1.992865417195983,
  41.020954998092314,
  12.259520063523917,
  16.423126789501893,
  15.816750689075537,
  1.3906208734210572,
  17.20737156249642
 ],
 "stdvValues": [
  2.0568604345714627,
  18.937794682927038,
  3.3885776676038395,
  12.047999818485488,
  6.708417184457662,
  3.3213568513526393,
  7.884091752456153
 ],
 "serviceProperties": "Center<\/MosaicMethod>First<\/MosaicOperator>true<\/SortAscending><\/LockImageID><\/TileOrderField>0<\/TileOrderBase>0.000000<\/AvgImageSpacingX>0.000000<\/AvgImageSpacingY>0.0<\/ViewPointX>0.0<\/ViewPointY>0.0<\/ViewPointDefShiftX>0.0<\/ViewPointDefShiftY>None<\/CompressionMethod>75<\/CompressionQuality>0.010000<\/CompressionTolerance>Bilinear<\/SamplingMethod><\/ImageServiceProperties><\/ImageServer>",
 "allowedFields": "",
 "hasMultidimensions": true,
 "timeInfo": {
  "startTimeField": "StdTime",
  "endTimeField": "StdTime",
  "timeExtent": [
   504921600000,
   1672531200000
  ],
  "timeReference": null,
  "defaultTimeInterval": 1,
  "defaultTimeIntervalUnits": "esriTimeUnitsYears"
 },
 "pixelSizeX": 30,
 "pixelSizeY": 29.999999999999417,
 "meanPixelSize": 29.99999999999971,
 "datasetFormat": "Cache/LERC2D",
 "uncompressedSize": 60603620,
 "blockWidth": 256,
 "blockHeight": 256,
 "compressionType": "LERC2D",
 "bandNames": [
  "AFG",
  "BGR",
  "LTR",
  "PFG",
  "SHR",
  "TRE",
  "WOODY"
 ],
 "allowCopy": true,
 "allowAnalysis": true,
 "itemAccess": false,
 "defaultVariable": "",
 "inspectionCapabilities": "",
 "noDataValue": 3.3999999521443642E38,
 "noDataValues": [
  3.3999999521443642E38,
  3.3999999521443642E38,
  3.3999999521443642E38,
  3.3999999521443642E38,
  3.3999999521443642E38,
  3.3999999521443642E38,
  3.3999999521443642E38
 ],
 "minPixelSize": 0,
 "maxPixelSize": 0,
 "copyrightText": "",
 "serviceDataType": "esriImageServiceDataTypeGeneric",
 "serviceSourceType": "esriImageServiceSourceTypeDataset",
 "objectIdField": "",
 "fields": [],
 "capabilities": "Image,Metadata,Pixels,Mensuration",
 "defaultMosaicMethod": "Center",
 "allowedMosaicMethods": "",
 "sortField": "",
 "sortValue": null,
 "sortAscending": true,
 "mosaicOperator": "First",
 "defaultCompressionQuality": 75,
 "defaultResamplingMethod": "Bilinear",
 "maxImageHeight": 4100,
 "maxImageWidth": 15000,
 "allowRasterFunction": true,
 "rasterFunctionInfos": [
  {
   "name": "None",
   "description": "Make a Raster or Raster Dataset into a Function Raster Dataset.",
   "help": ""
  },
  {
   "name": "Annual Herbaceous Grasses MB",
   "description": "subsets multiband landCART to AFG band",
   "help": ""
  },
  {
   "name": "Bare Ground MB",
   "description": "subsets multiband landCART to BGR band",
   "help": ""
  },
  {
   "name": "Litter MB",
   "description": "subsets multiband landCART to LTR band",
   "help": ""
  },
  {
   "name": "Perennial Herbaceous Grasses MB",
   "description": "subsets multiband landCART to PHG band",
   "help": ""
  },
  {
   "name": "Shrubs",
   "description": "subsets multiband landCART to SHR band",
   "help": ""
  },
  {
   "name": "Trees MB",
   "description": "subsets multiband landCART to BGR band",
   "help": ""
  },
  {
   "name": "Woody Shrubs MB",
   "description": "subsets multiband landCART to Woody band",
   "help": ""
  }
 ],
 "rasterTypeInfos": [
  {
   "name": "Raster Dataset",
   "description": "Supports all ArcGIS Raster Datasets",
   "help": ""
  }
 ],
 "mensurationCapabilities": "Basic",
 "hasHistograms": true,
 "hasColormap": false,
 "hasRasterAttributeTable": false,
 "minScale": 0,
 "maxScale": 0,
 "exportTilesAllowed": false,
 "supportsStatistics": false,
 "supportsAdvancedQueries": false,
 "editFieldsInfo": null,
 "ownershipBasedAccessControlForRasters": null,
 "allowComputeTiePoints": false,
 "useStandardizedQueries": true,
 "transposeInfo": {
  "cols": 32,
  "rows": 32
 },
 "advancedQueryCapabilities": {
  "useStandardizedQueries": true,
  "supportsStatistics": false,
  "supportsOrderBy": false,
  "supportsDistinct": false,
  "supportsPagination": false
 },
 "spatialReference": {
  "wkid": 102100,
  "latestWkid": 3857
 }
}
