{
 "currentVersion": 11.5,
 "serviceDescription": "JHall_Data/Mobile_Bay_Base_Hydrological",
 "serviceItemId": "4b526e5de4a241a7ad6f586c7dc9c6d1",
 "name": "JHall_Data/Mobile_Bay_Base_Hydrological",
 "description": "",
 "extent": {
  "xmin": 500098.2723000003,
  "ymin": 4238.45380000025,
  "xmax": 584978.2723000003,
  "ymax": 73068.45380000025,
  "spatialReference": {
   "wkid": 26930,
   "latestWkid": 26930,
   "vcsWkid": 6357,
   "latestVcsWkid": 6357
  }
 },
 "initialExtent": {
  "xmin": 500098.2723000003,
  "ymin": 4238.45380000025,
  "xmax": 584978.2723000003,
  "ymax": 73068.45380000025,
  "spatialReference": {
   "wkid": 26930,
   "latestWkid": 26930,
   "vcsWkid": 6357,
   "latestVcsWkid": 6357
  }
 },
 "fullExtent": {
  "xmin": 500098.2723000003,
  "ymin": 4238.45380000025,
  "xmax": 584978.2723000003,
  "ymax": 73068.45380000025,
  "spatialReference": {
   "wkid": 26930,
   "latestWkid": 26930,
   "vcsWkid": 6357,
   "latestVcsWkid": 6357
  }
 },
 "sortableFields": "",
 "heightModelInfo": {
  "heightModel": "gravity_related_height",
  "vertCRS": "NAVD88_depth",
  "heightUnit": "meter"
 },
 "bandCount": 1,
 "pixelType": "F32",
 "minValues": [
  4.22218132019043
 ],
 "maxValues": [
  16.6706600189209
 ],
 "meanValues": [
  8.928157863273505
 ],
 "stdvValues": [
  1.7548905548715465
 ],
 "serviceProperties": "Center<\/MosaicMethod>First<\/MosaicOperator>true<\/SortAscending><\/LockImageID><\/TileOrderField>0<\/TileOrderBase>0.000000<\/AvgImageSpacingX>0.000000<\/AvgImageSpacingY>0.0<\/ViewPointX>0.0<\/ViewPointY>0.0<\/ViewPointDefShiftX>0.0<\/ViewPointDefShiftY>LERC<\/CompressionMethod>75<\/CompressionQuality>0.010000<\/CompressionTolerance>Bilinear<\/SamplingMethod><\/ImageServiceProperties><\/ImageServer>",
 "allowedFields": "",
 "hasMultidimensions": true,
 "timeInfo": {
  "startTimeField": "StdTime",
  "endTimeField": "StdTime_Max",
  "timeExtent": [
   1514764800000,
   1543622400000
  ],
  "timeReference": null,
  "defaultTimeInterval": 15.0000005,
  "defaultTimeIntervalUnits": "esriTimeUnitsDays"
 },
 "pixelSizeX": 10,
 "pixelSizeY": 10,
 "meanPixelSize": 10,
 "datasetFormat": "Cache/LERC2D",
 "uncompressedSize": 233691616,
 "blockWidth": 256,
 "blockHeight": 256,
 "compressionType": "LERC2D",
 "bandNames": [
  "Band_1"
 ],
 "allowCopy": true,
 "allowAnalysis": true,
 "itemAccess": false,
 "defaultVariable": "",
 "inspectionCapabilities": "",
 "noDataValue": 3.3999999521443642E38,
 "noDataValues": [
  3.3999999521443642E38
 ],
 "minPixelSize": 0,
 "maxPixelSize": 0,
 "copyrightText": "",
 "serviceDataType": "esriImageServiceDataTypeScientific",
 "serviceSourceType": "esriImageServiceSourceTypeDataset",
 "objectIdField": "",
 "fields": [],
 "capabilities": "Image,Metadata,Pixels,Mensuration",
 "defaultMosaicMethod": "Center",
 "allowedMosaicMethods": "",
 "sortField": "",
 "sortValue": null,
 "sortAscending": true,
 "mosaicOperator": "First",
 "defaultCompressionQuality": 10000,
 "defaultResamplingMethod": "Bilinear",
 "maxImageHeight": 4100,
 "maxImageWidth": 4100,
 "allowRasterFunction": true,
 "rasterFunctionInfos": [
  {
   "name": "None",
   "description": "Make a Raster or Raster Dataset into a Function Raster Dataset.",
   "help": ""
  },
  {
   "name": "Mean Seasonal Value",
   "description": "The mean seasonal value",
   "help": ""
  },
  {
   "name": "Mean Yearly Value",
   "description": "The mean yearly value",
   "help": ""
  },
  {
   "name": "Seasonal Value Range",
   "description": "The seasonal range of values",
   "help": ""
  }
 ],
 "rasterTypeInfos": [
  {
   "name": "Raster Dataset",
   "description": "Supports all ArcGIS Raster Datasets",
   "help": ""
  }
 ],
 "mensurationCapabilities": "Basic",
 "hasHistograms": true,
 "hasColormap": false,
 "hasRasterAttributeTable": false,
 "minScale": 0,
 "maxScale": 0,
 "exportTilesAllowed": false,
 "supportsStatistics": false,
 "supportsAdvancedQueries": false,
 "editFieldsInfo": null,
 "ownershipBasedAccessControlForRasters": null,
 "allowComputeTiePoints": false,
 "useStandardizedQueries": true,
 "advancedQueryCapabilities": {
  "useStandardizedQueries": true,
  "supportsStatistics": false,
  "supportsOrderBy": false,
  "supportsDistinct": false,
  "supportsPagination": false
 },
 "spatialReference": {
  "wkid": 26930,
  "latestWkid": 26930,
  "vcsWkid": 6357,
  "latestVcsWkid": 6357
 }
}
