{
 "currentVersion": 11.5,
 "serviceDescription": "JHall_Data/USGS_RCMAP_Multidimensional",
 "serviceItemId": "a6084bb724eb401eb382909b2ea08d97",
 "name": "JHall_Data/USGS_RCMAP_Multidimensional",
 "description": "",
 "extent": {
  "xmin": -2363085,
  "ymin": 681555.0000157747,
  "xmax": -357855.000012666,
  "ymax": 3178935,
  "spatialReference": {
   "wkt2": "PROJCRS[\"Albers_Conical_Equal_Area\",BASEGEOGCRS[\"GCS_North_American_1983\",DATUM[\"D_North_American_1983\",ELLIPSOID[\"GRS_1980\",6378137.0,298.257222101,LENGTHUNIT[\"Meter\",1.0]]],PRIMEM[\"Greenwich\",0.0,ANGLEUNIT[\"Degree\",0.0174532925199433]],CS[ellipsoidal,2],AXIS[\"Latitude (lat)\",north,ORDER[1]],AXIS[\"Longitude (lon)\",east,ORDER[2]],ANGLEUNIT[\"Degree\",0.0174532925199433]],CONVERSION[\"Albers\",METHOD[\"Albers\"],PARAMETER[\"false_easting\",0.0,LENGTHUNIT[\"Meter\",1.0]],PARAMETER[\"false_northing\",0.0,LENGTHUNIT[\"Meter\",1.0]],PARAMETER[\"central_meridian\",-96.0,ANGLEUNIT[\"Degree\",0.0174532925199433]],PARAMETER[\"standard_parallel_1\",29.5,ANGLEUNIT[\"Degree\",0.0174532925199433]],PARAMETER[\"standard_parallel_2\",45.5,ANGLEUNIT[\"Degree\",0.0174532925199433]],PARAMETER[\"latitude_of_origin\",23.0,ANGLEUNIT[\"Degree\",0.0174532925199433]]],CS[Cartesian,2],AXIS[\"Easting (X)\",east,ORDER[1]],AXIS[\"Northing (Y)\",north,ORDER[2]],LENGTHUNIT[\"Meter\",1.0]]",
   "wkt": "PROJCS[\"Albers_Conical_Equal_Area\",GEOGCS[\"GCS_North_American_1983\",DATUM[\"D_North_American_1983\",SPHEROID[\"GRS_1980\",6378137.0,298.257222101]],PRIMEM[\"Greenwich\",0.0],UNIT[\"Degree\",0.0174532925199433]],PROJECTION[\"Albers\"],PARAMETER[\"false_easting\",0.0],PARAMETER[\"false_northing\",0.0],PARAMETER[\"central_meridian\",-96.0],PARAMETER[\"standard_parallel_1\",29.5],PARAMETER[\"standard_parallel_2\",45.5],PARAMETER[\"latitude_of_origin\",23.0],UNIT[\"Meter\",1.0]]"
  }
 },
 "initialExtent": {
  "xmin": -2363085,
  "ymin": 681555.0000157747,
  "xmax": -357855.000012666,
  "ymax": 3178935,
  "spatialReference": {
   "wkt2": "PROJCRS[\"Albers_Conical_Equal_Area\",BASEGEOGCRS[\"GCS_North_American_1983\",DATUM[\"D_North_American_1983\",ELLIPSOID[\"GRS_1980\",6378137.0,298.257222101,LENGTHUNIT[\"Meter\",1.0]]],PRIMEM[\"Greenwich\",0.0,ANGLEUNIT[\"Degree\",0.0174532925199433]],CS[ellipsoidal,2],AXIS[\"Latitude (lat)\",north,ORDER[1]],AXIS[\"Longitude (lon)\",east,ORDER[2]],ANGLEUNIT[\"Degree\",0.0174532925199433]],CONVERSION[\"Albers\",METHOD[\"Albers\"],PARAMETER[\"false_easting\",0.0,LENGTHUNIT[\"Meter\",1.0]],PARAMETER[\"false_northing\",0.0,LENGTHUNIT[\"Meter\",1.0]],PARAMETER[\"central_meridian\",-96.0,ANGLEUNIT[\"Degree\",0.0174532925199433]],PARAMETER[\"standard_parallel_1\",29.5,ANGLEUNIT[\"Degree\",0.0174532925199433]],PARAMETER[\"standard_parallel_2\",45.5,ANGLEUNIT[\"Degree\",0.0174532925199433]],PARAMETER[\"latitude_of_origin\",23.0,ANGLEUNIT[\"Degree\",0.0174532925199433]]],CS[Cartesian,2],AXIS[\"Easting (X)\",east,ORDER[1]],AXIS[\"Northing (Y)\",north,ORDER[2]],LENGTHUNIT[\"Meter\",1.0]]",
   "wkt": "PROJCS[\"Albers_Conical_Equal_Area\",GEOGCS[\"GCS_North_American_1983\",DATUM[\"D_North_American_1983\",SPHEROID[\"GRS_1980\",6378137.0,298.257222101]],PRIMEM[\"Greenwich\",0.0],UNIT[\"Degree\",0.0174532925199433]],PROJECTION[\"Albers\"],PARAMETER[\"false_easting\",0.0],PARAMETER[\"false_northing\",0.0],PARAMETER[\"central_meridian\",-96.0],PARAMETER[\"standard_parallel_1\",29.5],PARAMETER[\"standard_parallel_2\",45.5],PARAMETER[\"latitude_of_origin\",23.0],UNIT[\"Meter\",1.0]]"
  }
 },
 "fullExtent": {
  "xmin": -2363085,
  "ymin": 681555.0000157747,
  "xmax": -357855.000012666,
  "ymax": 3178935,
  "spatialReference": {
   "wkt2": "PROJCRS[\"Albers_Conical_Equal_Area\",BASEGEOGCRS[\"GCS_North_American_1983\",DATUM[\"D_North_American_1983\",ELLIPSOID[\"GRS_1980\",6378137.0,298.257222101,LENGTHUNIT[\"Meter\",1.0]]],PRIMEM[\"Greenwich\",0.0,ANGLEUNIT[\"Degree\",0.0174532925199433]],CS[ellipsoidal,2],AXIS[\"Latitude (lat)\",north,ORDER[1]],AXIS[\"Longitude (lon)\",east,ORDER[2]],ANGLEUNIT[\"Degree\",0.0174532925199433]],CONVERSION[\"Albers\",METHOD[\"Albers\"],PARAMETER[\"false_easting\",0.0,LENGTHUNIT[\"Meter\",1.0]],PARAMETER[\"false_northing\",0.0,LENGTHUNIT[\"Meter\",1.0]],PARAMETER[\"central_meridian\",-96.0,ANGLEUNIT[\"Degree\",0.0174532925199433]],PARAMETER[\"standard_parallel_1\",29.5,ANGLEUNIT[\"Degree\",0.0174532925199433]],PARAMETER[\"standard_parallel_2\",45.5,ANGLEUNIT[\"Degree\",0.0174532925199433]],PARAMETER[\"latitude_of_origin\",23.0,ANGLEUNIT[\"Degree\",0.0174532925199433]]],CS[Cartesian,2],AXIS[\"Easting (X)\",east,ORDER[1]],AXIS[\"Northing (Y)\",north,ORDER[2]],LENGTHUNIT[\"Meter\",1.0]]",
   "wkt": "PROJCS[\"Albers_Conical_Equal_Area\",GEOGCS[\"GCS_North_American_1983\",DATUM[\"D_North_American_1983\",SPHEROID[\"GRS_1980\",6378137.0,298.257222101]],PRIMEM[\"Greenwich\",0.0],UNIT[\"Degree\",0.0174532925199433]],PROJECTION[\"Albers\"],PARAMETER[\"false_easting\",0.0],PARAMETER[\"false_northing\",0.0],PARAMETER[\"central_meridian\",-96.0],PARAMETER[\"standard_parallel_1\",29.5],PARAMETER[\"standard_parallel_2\",45.5],PARAMETER[\"latitude_of_origin\",23.0],UNIT[\"Meter\",1.0]]"
  }
 },
 "sortableFields": "",
 "bandCount": 1,
 "pixelType": "U8",
 "minValues": [
  0
 ],
 "maxValues": [
  100
 ],
 "meanValues": [
  5.972834064966533
 ],
 "stdvValues": [
  10.310878486467251
 ],
 "serviceProperties": "Center<\/MosaicMethod>First<\/MosaicOperator>true<\/SortAscending><\/LockImageID><\/TileOrderField>0<\/TileOrderBase>0.000000<\/AvgImageSpacingX>0.000000<\/AvgImageSpacingY>0.0<\/ViewPointX>0.0<\/ViewPointY>0.0<\/ViewPointDefShiftX>0.0<\/ViewPointDefShiftY>None<\/CompressionMethod>75<\/CompressionQuality>0.010000<\/CompressionTolerance>Bilinear<\/SamplingMethod><\/ImageServiceProperties><\/ImageServer>",
 "allowedFields": "",
 "hasMultidimensions": true,
 "timeInfo": {
  "startTimeField": "StdTime",
  "endTimeField": "StdTime",
  "timeExtent": [
   504835200000,
   1703980800000
  ],
  "timeReference": null,
  "defaultTimeInterval": 1,
  "defaultTimeIntervalUnits": "esriTimeUnitsYears"
 },
 "pixelSizeX": 29.999999999810505,
 "pixelSizeY": 29.999999999810505,
 "meanPixelSize": 29.999999999810505,
 "datasetFormat": "Cache/LERC2D",
 "uncompressedSize": 5564245886,
 "blockWidth": 256,
 "blockHeight": 256,
 "compressionType": "LERC2D",
 "bandNames": [
  "Band_1"
 ],
 "allowCopy": false,
 "allowAnalysis": true,
 "itemAccess": false,
 "defaultVariable": "",
 "inspectionCapabilities": "",
 "minPixelSize": 0,
 "maxPixelSize": 0,
 "copyrightText": "",
 "serviceDataType": "esriImageServiceDataTypeScientific",
 "serviceSourceType": "esriImageServiceSourceTypeDataset",
 "objectIdField": "",
 "fields": [],
 "capabilities": "Image,Metadata,Pixels,Mensuration",
 "defaultMosaicMethod": "Center",
 "allowedMosaicMethods": "",
 "sortField": "",
 "sortValue": null,
 "sortAscending": true,
 "mosaicOperator": "First",
 "defaultCompressionQuality": 75,
 "defaultResamplingMethod": "Bilinear",
 "maxImageHeight": 4100,
 "maxImageWidth": 15000,
 "allowRasterFunction": true,
 "rasterFunctionInfos": [
  {
   "name": "None",
   "description": "",
   "help": ""
  }
 ],
 "rasterTypeInfos": [
  {
   "name": "Raster Dataset",
   "description": "Supports all ArcGIS Raster Datasets",
   "help": ""
  }
 ],
 "mensurationCapabilities": "Basic",
 "hasHistograms": true,
 "hasColormap": false,
 "hasRasterAttributeTable": true,
 "minScale": 0,
 "maxScale": 0,
 "exportTilesAllowed": false,
 "supportsStatistics": false,
 "supportsAdvancedQueries": false,
 "editFieldsInfo": null,
 "ownershipBasedAccessControlForRasters": null,
 "allowComputeTiePoints": false,
 "useStandardizedQueries": true,
 "transposeInfo": {
  "cols": 128,
  "rows": 128
 },
 "advancedQueryCapabilities": {
  "useStandardizedQueries": true,
  "supportsStatistics": false,
  "supportsOrderBy": false,
  "supportsDistinct": false,
  "supportsPagination": false
 },
 "spatialReference": {
  "wkt2": "PROJCRS[\"Albers_Conical_Equal_Area\",BASEGEOGCRS[\"GCS_North_American_1983\",DATUM[\"D_North_American_1983\",ELLIPSOID[\"GRS_1980\",6378137.0,298.257222101,LENGTHUNIT[\"Meter\",1.0]]],PRIMEM[\"Greenwich\",0.0,ANGLEUNIT[\"Degree\",0.0174532925199433]],CS[ellipsoidal,2],AXIS[\"Latitude (lat)\",north,ORDER[1]],AXIS[\"Longitude (lon)\",east,ORDER[2]],ANGLEUNIT[\"Degree\",0.0174532925199433]],CONVERSION[\"Albers\",METHOD[\"Albers\"],PARAMETER[\"false_easting\",0.0,LENGTHUNIT[\"Meter\",1.0]],PARAMETER[\"false_northing\",0.0,LENGTHUNIT[\"Meter\",1.0]],PARAMETER[\"central_meridian\",-96.0,ANGLEUNIT[\"Degree\",0.0174532925199433]],PARAMETER[\"standard_parallel_1\",29.5,ANGLEUNIT[\"Degree\",0.0174532925199433]],PARAMETER[\"standard_parallel_2\",45.5,ANGLEUNIT[\"Degree\",0.0174532925199433]],PARAMETER[\"latitude_of_origin\",23.0,ANGLEUNIT[\"Degree\",0.0174532925199433]]],CS[Cartesian,2],AXIS[\"Easting (X)\",east,ORDER[1]],AXIS[\"Northing (Y)\",north,ORDER[2]],LENGTHUNIT[\"Meter\",1.0]]",
  "wkt": "PROJCS[\"Albers_Conical_Equal_Area\",GEOGCS[\"GCS_North_American_1983\",DATUM[\"D_North_American_1983\",SPHEROID[\"GRS_1980\",6378137.0,298.257222101]],PRIMEM[\"Greenwich\",0.0],UNIT[\"Degree\",0.0174532925199433]],PROJECTION[\"Albers\"],PARAMETER[\"false_easting\",0.0],PARAMETER[\"false_northing\",0.0],PARAMETER[\"central_meridian\",-96.0],PARAMETER[\"standard_parallel_1\",29.5],PARAMETER[\"standard_parallel_2\",45.5],PARAMETER[\"latitude_of_origin\",23.0],UNIT[\"Meter\",1.0]]"
 }
}
