{
 "currentVersion": 11.4,
 "serviceDescription": "NAIP_NBS_NDVI_Change_2011_2020",
 "name": "NAIP_NBS_NDVI_Change_2011_2020",
 "description": "",
 "extent": {
  "xmin": -9128678.512,
  "ymin": 4534986.613452464,
  "xmax": -9044302.824099999,
  "ymax": 4597559.381999999,
  "spatialReference": {
   "wkid": 102100,
   "latestWkid": 3857
  }
 },
 "initialExtent": {
  "xmin": -9128678.512,
  "ymin": 4534986.613452464,
  "xmax": -9044302.824099999,
  "ymax": 4597559.381999999,
  "spatialReference": {
   "wkid": 102100,
   "latestWkid": 3857
  }
 },
 "fullExtent": {
  "xmin": -9128678.512,
  "ymin": 4534986.613452464,
  "xmax": -9044302.824099999,
  "ymax": 4597559.381999999,
  "spatialReference": {
   "wkid": 102100,
   "latestWkid": 3857
  }
 },
 "sortableFields": "",
 "bandCount": 1,
 "pixelType": "F32",
 "minValues": [
  -1.9600000381469727
 ],
 "maxValues": [
  1.377245545387268
 ],
 "meanValues": [
  -0.226839912965863
 ],
 "stdvValues": [
  0.20138728935865893
 ],
 "hasMultidimensions": false,
 "pixelSizeX": 0.9999963010808901,
 "pixelSizeY": 0.9999963010808965,
 "meanPixelSize": 0.9999963010808933,
 "datasetFormat": "Cache/LERC2D",
 "uncompressedSize": 21118637792,
 "blockWidth": 256,
 "blockHeight": 256,
 "compressionType": "LERC2D",
 "bandNames": [
  "Band_1"
 ],
 "allowCopy": true,
 "allowAnalysis": true,
 "itemAccess": false,
 "inspectionCapabilities": "",
 "noDataValue": 3.3999999521443642E38,
 "noDataValues": [
  3.3999999521443642E38
 ],
 "minPixelSize": 0,
 "maxPixelSize": 0,
 "copyrightText": "",
 "serviceDataType": "esriImageServiceDataTypeGeneric",
 "serviceSourceType": "esriImageServiceSourceTypeDataset",
 "objectIdField": "",
 "fields": [],
 "capabilities": "Image,Metadata,Mensuration",
 "defaultMosaicMethod": "Center",
 "allowedMosaicMethods": "",
 "sortField": "",
 "sortValue": null,
 "sortAscending": true,
 "mosaicOperator": "First",
 "defaultCompressionQuality": 75,
 "defaultResamplingMethod": "Bilinear",
 "maxImageHeight": 1000000000,
 "maxImageWidth": 1000000000,
 "allowRasterFunction": true,
 "rasterFunctionInfos": [
  {
   "name": "None",
   "description": "",
   "help": ""
  }
 ],
 "rasterTypeInfos": [
  {
   "name": "Raster Dataset",
   "description": "Supports all ArcGIS Raster Datasets",
   "help": ""
  }
 ],
 "mensurationCapabilities": "Basic",
 "hasHistograms": true,
 "hasColormap": false,
 "hasRasterAttributeTable": false,
 "minScale": 0,
 "maxScale": 0,
 "exportTilesAllowed": false,
 "supportsStatistics": false,
 "supportsAdvancedQueries": false,
 "editFieldsInfo": null,
 "ownershipBasedAccessControlForRasters": null,
 "allowComputeTiePoints": false,
 "useStandardizedQueries": true,
 "advancedQueryCapabilities": {
  "useStandardizedQueries": true,
  "supportsStatistics": false,
  "supportsOrderBy": false,
  "supportsDistinct": false,
  "supportsPagination": false
 },
 "spatialReference": {
  "wkid": 102100,
  "latestWkid": 3857
 }
}
