{
 "currentVersion": 11.4,
 "serviceDescription": "NOAA_Ian_Naples3738",
 "name": "NOAA_Ian_Naples3738",
 "description": "",
 "extent": {
  "xmin": 423537.17,
  "ymin": 2874188.9,
  "xmax": 447873.13,
  "ymax": 2883544.5,
  "spatialReference": {
   "wkid": 32617,
   "latestWkid": 32617,
   "vcsWkid": 115700,
   "latestVcsWkid": 115700
  }
 },
 "initialExtent": {
  "xmin": 423537.17,
  "ymin": 2874188.9,
  "xmax": 447873.13,
  "ymax": 2883544.5,
  "spatialReference": {
   "wkid": 32617,
   "latestWkid": 32617,
   "vcsWkid": 115700,
   "latestVcsWkid": 115700
  }
 },
 "fullExtent": {
  "xmin": 423537.17,
  "ymin": 2874188.9,
  "xmax": 447873.13,
  "ymax": 2883544.5,
  "spatialReference": {
   "wkid": 32617,
   "latestWkid": 32617,
   "vcsWkid": 115700,
   "latestVcsWkid": 115700
  }
 },
 "sortableFields": "",
 "heightModelInfo": {
  "heightModel": "ellipsoidal",
  "vertCRS": "WGS_1984",
  "heightUnit": "meter"
 },
 "bandCount": 3,
 "pixelType": "U8",
 "minValues": [
  1,
  1,
  1
 ],
 "maxValues": [
  255,
  255,
  255
 ],
 "meanValues": [
  59.278922526151135,
  61.64916466057644,
  68.96839824359458
 ],
 "stdvValues": [
  31.720504981531825,
  29.80481128276,
  26.710054876375178
 ],
 "hasMultidimensions": false,
 "pixelSizeX": 0.19000000000000017,
 "pixelSizeY": 0.1900000000000019,
 "meanPixelSize": 0.19000000000000103,
 "datasetFormat": "Cache/RAW",
 "uncompressedSize": 18920568480,
 "blockWidth": 256,
 "blockHeight": 256,
 "compressionType": "RAW",
 "bandNames": [
  "Band_1",
  "Band_2",
  "Band_3"
 ],
 "allowCopy": true,
 "allowAnalysis": true,
 "itemAccess": false,
 "inspectionCapabilities": "",
 "noDataValue": 255,
 "noDataValues": [
  255,
  255,
  255
 ],
 "minPixelSize": 0,
 "maxPixelSize": 0,
 "copyrightText": "",
 "serviceDataType": "esriImageServiceDataTypeRGB",
 "serviceSourceType": "esriImageServiceSourceTypeDataset",
 "objectIdField": "",
 "fields": [],
 "capabilities": "Image,Metadata,Mensuration",
 "defaultMosaicMethod": "Center",
 "allowedMosaicMethods": "",
 "sortField": "",
 "sortValue": null,
 "sortAscending": true,
 "mosaicOperator": "First",
 "defaultCompressionQuality": 75,
 "defaultResamplingMethod": "Bilinear",
 "maxImageHeight": 4100,
 "maxImageWidth": 15000,
 "allowRasterFunction": true,
 "rasterFunctionInfos": [
  {
   "name": "None",
   "description": "Make a Raster or Raster Dataset into a Function Raster Dataset.",
   "help": ""
  }
 ],
 "rasterTypeInfos": [
  {
   "name": "Raster Dataset",
   "description": "Supports all ArcGIS Raster Datasets",
   "help": ""
  }
 ],
 "mensurationCapabilities": "Basic",
 "hasHistograms": true,
 "hasColormap": false,
 "hasRasterAttributeTable": false,
 "minScale": 0,
 "maxScale": 0,
 "exportTilesAllowed": false,
 "supportsStatistics": false,
 "supportsAdvancedQueries": false,
 "editFieldsInfo": null,
 "ownershipBasedAccessControlForRasters": null,
 "allowComputeTiePoints": false,
 "useStandardizedQueries": true,
 "advancedQueryCapabilities": {
  "useStandardizedQueries": true,
  "supportsStatistics": false,
  "supportsOrderBy": false,
  "supportsDistinct": false,
  "supportsPagination": false
 },
 "spatialReference": {
  "wkid": 32617,
  "latestWkid": 32617,
  "vcsWkid": 115700,
  "latestVcsWkid": 115700
 }
}
