{
 "currentVersion": 11.4,
 "serviceDescription": "PineBeetle_2",
 "name": "PineBeetle_2",
 "description": "",
 "extent": {
  "xmin": -1.36923320396E7,
  "ymin": 7173480.111699998,
  "xmax": -1.31777620396E7,
  "ymax": 7728260.111699998,
  "spatialReference": {
   "wkid": 102100,
   "latestWkid": 3857
  }
 },
 "initialExtent": {
  "xmin": -1.36923320396E7,
  "ymin": 7173480.111699998,
  "xmax": -1.31777620396E7,
  "ymax": 7728260.111699998,
  "spatialReference": {
   "wkid": 102100,
   "latestWkid": 3857
  }
 },
 "fullExtent": {
  "xmin": -1.36923320396E7,
  "ymin": 7173480.111699998,
  "xmax": -1.31777620396E7,
  "ymax": 7728260.111699998,
  "spatialReference": {
   "wkid": 102100,
   "latestWkid": 3857
  }
 },
 "sortableFields": "MinPS,MaxPS,LowPS,HighPS,AcquisitionDate,CloudCover,Best,TargetDates",
 "bandCount": 15,
 "pixelType": "U16",
 "minValues": [
  0,
  0,
  0,
  0,
  0,
  0,
  0,
  0,
  0,
  0,
  0,
  0,
  0,
  0,
  0
 ],
 "maxValues": [
  19726,
  19144,
  18040,
  17208,
  16899,
  16585,
  16421,
  16296,
  16186,
  16147,
  15412,
  15241,
  208,
  3007,
  11
 ],
 "meanValues": [
  3972.237257577389,
  3956.864170925476,
  3964.4155155586895,
  3970.2973307168636,
  4212.509695025044,
  4455.307857938388,
  4388.4950919341245,
  4521.385025187653,
  4323.66751381801,
  4601.0003908053695,
  811.9234308449174,
  725.8903540047294,
  123.58694332086748,
  382.7782982119309,
  9.38004295215994
 ],
 "stdvValues": [
  3231.429864639851,
  3478.883695507838,
  3387.291739894475,
  3407.559116435484,
  3369.6521740344556,
  3057.906548382588,
  2867.522652564141,
  2936.689171117495,
  2701.6226430165016,
  2927.0118158065343,
  750.1125100376581,
  764.678863243534,
  45.77548299621827,
  155.3980817141889,
  2.564750605822107
 ],
 "hasMultidimensions": false,
 "timeInfo": {
  "startTimeField": "DayDate",
  "endTimeField": "DayDate",
  "timeExtent": [
   1485648000000,
   1679184000000
  ],
  "timeReference": null,
  "defaultTimeInterval": 1,
  "defaultTimeIntervalUnits": "esriTimeUnitsDays"
 },
 "pixelSizeX": 10,
 "pixelSizeY": 10,
 "meanPixelSize": 10,
 "datasetFormat": "AMD",
 "uncompressedSize": 85641943380,
 "blockWidth": 2048,
 "blockHeight": 256,
 "compressionType": "None",
 "bandNames": [
  "B1_Aerosols",
  "B2_Blue",
  "B3_Green",
  "B4_Red",
  "B5_RedEdge",
  "B6_RedEdge",
  "B7_RedEdge",
  "B8_NearInfraRed",
  "B8A_NarrowNIR",
  "B9_WaterVapour",
  "B11_ShortWaveInfraRed",
  "B12_ShortWaveInfraRed",
  "B13_AOTMap",
  "B14_WVPMap",
  "B15_SCL"
 ],
 "allowCopy": true,
 "allowAnalysis": true,
 "itemAccess": false,
 "inspectionCapabilities": "",
 "minPixelSize": 0,
 "maxPixelSize": 0,
 "copyrightText": "",
 "serviceDataType": "esriImageServiceDataTypeGeneric",
 "serviceSourceType": "esriImageServiceSourceTypeMosaicDataset",
 "objectIdField": "OBJECTID",
 "fields": [
  {
   "name": "OBJECTID",
   "type": "esriFieldTypeOID",
   "alias": "OBJECTID",
   "domain": null
  },
  {
   "name": "Shape",
   "type": "esriFieldTypeGeometry",
   "alias": "Shape",
   "domain": null
  },
  {
   "name": "Name",
   "type": "esriFieldTypeString",
   "alias": "Name",
   "domain": null,
   "length": 200
  },
  {
   "name": "MinPS",
   "type": "esriFieldTypeDouble",
   "alias": "MinPS",
   "domain": null
  },
  {
   "name": "MaxPS",
   "type": "esriFieldTypeDouble",
   "alias": "MaxPS",
   "domain": null
  },
  {
   "name": "LowPS",
   "type": "esriFieldTypeDouble",
   "alias": "LowPS",
   "domain": null
  },
  {
   "name": "HighPS",
   "type": "esriFieldTypeDouble",
   "alias": "HighPS",
   "domain": null
  },
  {
   "name": "Category",
   "type": "esriFieldTypeInteger",
   "alias": "Category",
   "domain": {
    "type": "codedValue",
    "name": "MosaicCatalogItemCategoryDomain",
    "description": "Catalog item categories.",
    "codedValues": [
     {
      "name": "Unknown",
      "code": 0
     },
     {
      "name": "Primary",
      "code": 1
     },
     {
      "name": "Overview",
      "code": 2
     },
     {
      "name": "Unprocessed Overview",
      "code": 3
     },
     {
      "name": "Partial Overview",
      "code": 4
     },
     {
      "name": "Inactive",
      "code": 5
     },
     {
      "name": "Uploaded",
      "code": 253
     },
     {
      "name": "Incomplete",
      "code": 254
     },
     {
      "name": "Custom",
      "code": 255
     }
    ],
    "mergePolicy": "esriMPTDefaultValue",
    "splitPolicy": "esriSPTDefaultValue"
   }
  },
  {
   "name": "ProductName",
   "type": "esriFieldTypeString",
   "alias": "ProductName",
   "domain": null,
   "length": 100
  },
  {
   "name": "AcquisitionDate",
   "type": "esriFieldTypeDate",
   "alias": "AcquisitionDate",
   "domain": null,
   "length": 8
  },
  {
   "name": "CloudCover",
   "type": "esriFieldTypeSingle",
   "alias": "CloudCover",
   "domain": null
  },
  {
   "name": "Best",
   "type": "esriFieldTypeInteger",
   "alias": "Best",
   "domain": null
  },
  {
   "name": "TargetDates",
   "type": "esriFieldTypeSmallInteger",
   "alias": "TargetDates",
   "domain": null
  }
 ],
 "capabilities": "Image,Metadata,Mensuration,Catalog",
 "defaultMosaicMethod": "ByAttribute",
 "allowedMosaicMethods": "ByAttribute,Seamline,NorthWest,Center,LockRaster,Nadir,Viewpoint,None",
 "sortField": "best",
 "sortValue": "0",
 "sortAscending": true,
 "mosaicOperator": "First",
 "maxDownloadSizeLimit": 2048,
 "defaultCompressionQuality": 85,
 "defaultResamplingMethod": "Bilinear",
 "maxImageHeight": 5000,
 "maxImageWidth": 5000,
 "maxRecordCount": 2000,
 "maxDownloadImageCount": 50,
 "maxMosaicImageCount": 50,
 "allowRasterFunction": true,
 "rasterFunctionInfos": [
  {
   "name": "None",
   "description": "Make a Raster or Raster Dataset into a Function Raster Dataset.",
   "help": ""
  },
  {
   "name": "Natural Color with DRA",
   "description": "Natural Color bands red, green, blue (4, 3, 2) displayed with dynamic range adjustment applied.",
   "help": ""
  },
  {
   "name": "Agriculture with DRA",
   "description": "Bands shortwave IR-1, near-IR, blue (11, 8, 2) with dynamic range adjustment applied. Vigorous veg. is bright green, stressed veg. dull green and bare areas as brown.",
   "help": ""
  },
  {
   "name": "Bathymetric with DRA",
   "description": "Bands red, green, coastal/aerosol(4, 3, 1) with dynamic range adjustment applied. Useful in bathymetric mapping applicaitons.",
   "help": ""
  },
  {
   "name": "Color Infrared with DRA",
   "description": "Bands near-infrared, red, green (8,4,3) with dynamic range adjustment applied. Healthy vegetation is bright red while stressed vegetation is dull red.",
   "help": ""
  },
  {
   "name": "Short-wave Infrared with DRA",
   "description": "Bands shortwave infrared-2, shortwave infrared-1, red (12, 11, 4) with dynamic range adjustment applied.",
   "help": ""
  },
  {
   "name": "Geology with DRA",
   "description": "Bands shortwave IR-2, shortwave IR-1, blue (12, 11, 2) with dynamic range adjustment applied. Highlights geological features.",
   "help": ""
  },
  {
   "name": "Natural Color",
   "description": "Natural Color bands red, green, blue(4, 3, 2) displayed with fixed stretch applied.",
   "help": ""
  },
  {
   "name": "Agriculture",
   "description": "Bands shortwave IR-1, near-IR, blue (11,8,2) with fixed stretched applied. Vigorous vegetation is bright green, stressed vegetation dull green and bare areas as brown.",
   "help": ""
  },
  {
   "name": "Bathymetric",
   "description": "Bands red, green, coastal/aerosol(4, 3, 1) with fixed stretched applied. Useful in bathymetric mapping applicaitons.",
   "help": ""
  },
  {
   "name": "Geology",
   "description": "Bands shortwave IR-2, shortwave IR-1, blue (12, 11, 2) with fixed stretched applied. Highlights geological features.",
   "help": ""
  },
  {
   "name": "Short-wave Infrared",
   "description": "Bands shortwave infrared-2, shortwave infrared-1, red (12, 11, 4) with fixed stretch.",
   "help": ""
  },
  {
   "name": "Color Infrared",
   "description": "Bands near-infrared, red, green (8,4,3) with fixed stretch applied. Healthy vegetation is bright red while stressed vegetation is dull red.",
   "help": ""
  },
  {
   "name": "NDVI Colormap",
   "description": "Normalized difference vegetation index (NDVI) with colormap. Dark green represents vigorous vegetation and brown represents sparse vegetation. It is computed as (b8 - b4) / (b8 + b4) and is suitable for vegetation, land cover and plant health monitoring.",
   "help": ""
  },
  {
   "name": "NDMI Colorized",
   "description": "Normalized Difference Moisture Index with color map. Wetlands and moist areas appear blue whereas dry areas are represented by deep yellow and brown color. It is computed as NIR(B8)-SWIR1(B11)/NIR(B8)+SWIR1(B11).",
   "help": ""
  },
  {
   "name": "Normalized Burn Ratio",
   "description": "The NBR index is computed as NIR(Band08)-SWIR(Band12)/NIR(Band08)+SWIR(Band12) and appropriate for highlighting burned areas and estimating fire severity. It highlights burnt areas in fire zones greater than 500 acres. You will need to generate a differenced NBR image by subtracting a post-fire image from a pre-fire image. The resulting darker pixels represent burned areas.",
   "help": ""
  },
  {
   "name": "Normalized Difference Built-Up Index (NDBI)",
   "description": "The NDBI index is computed as SWIR(Band11)-NIR(Band08)/ SWIR(Band11)+NIR(Band08) and is suitable for watershed runoff predictions, tracking urbananisation and land-use planning. It highlights urban areas with higher reflectance in the SWIR region, compared to the NIR region.",
   "help": ""
  },
  {
   "name": "NDVI Raw",
   "description": "Normalized difference vegetation index (NDVI) computed as (b8 - b4) / (b8 + b4) and is suitable for vegetation, land cover and plant health monitoring.",
   "help": ""
  },
  {
   "name": "NDVI - VRE only Raw",
   "description": "The NDVI - VRE only (NDVI705) Raw index is computed as VRE(Band06)-VRE(Band05)/VRE(Band06)+VRE(Band05) and is most suitable for precision agriculture, forest monitoring and vegetation stress detection. This index is an alteration of the NDVI index and unlike the NDVI index which uses bands from the main absorption and reflectance peaks, this index uses the bands along the red edge. The VRE bands are very sensitive to minor changes in canopy foliage content, gap fraction and deterioration.",
   "help": ""
  },
  {
   "name": "NDVI - with VRE Raw",
   "description": "The NDVI - with VRE(NDRE) Raw index is computed as NIR(Band08)-VRE(Band05)/NIR(Band08)+VRE(Band05), also known as NDRE (Normalized Difference Red Edge) and is more appropriate than NDVI index for intensive management applications throughout the growing season. It is a modification of the NDVI index, however works as a better measure of vegetation health than NDVI especially for mid-late season crops that have elevated levels of chlorophyll because VRE bands are more translucent to leaves than red light and hence is seldom completely absorbed by a canopy.",
   "help": ""
  },
  {
   "name": "NDWI Raw",
   "description": "The NDWI index is computed as Green(Band03)-NIR(Band08)/ Green(Band03)+NIR(Band08) and is most suitable for mapping of water bodies, droughts, boundary evaluation. Water bodies have strong absorbability and low radiation within the visible to infrared spectral ranges and this index is based on this phenomenon.",
   "help": ""
  },
  {
   "name": "NDWI - with VRE Raw",
   "description": "The NDWI - with VRE Raw index is computed as Green(Band03)-VRE(Band05)/Green(Band03)+VRE(Band05) and is most suitable for mapping of water bodies, droughts, boundary evaluation. This index is an alteration of the NDWI index and unlike the NDWI index which uses the NIR band, this index uses VRE band05 along the red edge.",
   "help": ""
  },
  {
   "name": "Scene Classification Map",
   "description": "Supervised classified land cover image",
   "help": ""
  },
  {
   "name": "WaterVapourMap",
   "description": "WaterVapourMap",
   "help": ""
  },
  {
   "name": "Aerosol Optical Thickness Map",
   "description": "AerosolOpticalThicknessMap",
   "help": ""
  },
  {
   "name": "NDVI_Classified",
   "description": "Classified NDVI into four buckets: dead plant, unhealthy, moderately healthy and very healthy.",
   "help": ""
  },
  {
   "name": "NDVI_Classified_newsave",
   "description": "Classified NDVI into four buckets: dead plant, unhealthy, moderately healthy and very healthy.",
   "help": ""
  }
 ],
 "rasterTypeInfos": [
  {
   "name": "Raster Dataset",
   "description": "Supports all ArcGIS Raster Datasets",
   "help": ""
  }
 ],
 "mensurationCapabilities": "Basic,Base-Top Height,Base-Top Shadow Height,Top-Top Shadow Height,3D",
 "hasHistograms": true,
 "hasColormap": false,
 "hasRasterAttributeTable": false,
 "minScale": 0,
 "maxScale": 0,
 "exportTilesAllowed": false,
 "supportsStatistics": true,
 "supportsAdvancedQueries": true,
 "editFieldsInfo": null,
 "ownershipBasedAccessControlForRasters": null,
 "allowComputeTiePoints": false,
 "useStandardizedQueries": true,
 "advancedQueryCapabilities": {
  "useStandardizedQueries": true,
  "supportsStatistics": true,
  "supportsOrderBy": true,
  "supportsDistinct": true,
  "supportsPagination": true
 },
 "spatialReference": {
  "wkid": 102100,
  "latestWkid": 3857
 }
}
