{
 "currentVersion": 11.4,
 "serviceDescription": "SolarSiteImagery",
 "name": "SolarSiteImagery",
 "description": "",
 "extent": {
  "xmin": 494684.038,
  "ymin": 4425463.7645000005,
  "xmax": 494893.038,
  "ymax": 4425862.7645000005,
  "spatialReference": {
   "wkid": 32613,
   "latestWkid": 32613
  }
 },
 "initialExtent": {
  "xmin": 494684.038,
  "ymin": 4425463.7645000005,
  "xmax": 494893.038,
  "ymax": 4425862.7645000005,
  "spatialReference": {
   "wkid": 32613,
   "latestWkid": 32613
  }
 },
 "fullExtent": {
  "xmin": 494684.038,
  "ymin": 4425463.7645000005,
  "xmax": 494893.038,
  "ymax": 4425862.7645000005,
  "spatialReference": {
   "wkid": 32613,
   "latestWkid": 32613
  }
 },
 "sortableFields": "",
 "bandCount": 4,
 "pixelType": "U8",
 "minValues": [],
 "maxValues": [],
 "meanValues": [],
 "stdvValues": [],
 "hasMultidimensions": false,
 "pixelSizeX": 0.0095,
 "pixelSizeY": 0.0095,
 "meanPixelSize": 0.0095,
 "datasetFormat": "TIFF",
 "uncompressedSize": 3696000000,
 "blockWidth": 256,
 "blockHeight": 256,
 "compressionType": "DEFLATE",
 "bandNames": [
  "Band_1",
  "Band_2",
  "Band_3",
  "Band_4"
 ],
 "allowCopy": true,
 "allowAnalysis": true,
 "itemAccess": false,
 "inspectionCapabilities": "",
 "noDataValue": 0,
 "noDataValues": [
  0,
  0,
  0,
  0
 ],
 "minPixelSize": 0,
 "maxPixelSize": 0,
 "copyrightText": "",
 "serviceDataType": "esriImageServiceDataTypeProcessed",
 "serviceSourceType": "esriImageServiceSourceTypeDataset",
 "objectIdField": "",
 "fields": [],
 "capabilities": "Image,Metadata,Mensuration",
 "defaultMosaicMethod": "Center",
 "allowedMosaicMethods": "",
 "sortField": "",
 "sortValue": null,
 "sortAscending": true,
 "mosaicOperator": "First",
 "defaultCompressionQuality": 75,
 "defaultResamplingMethod": "Bilinear",
 "maxImageHeight": 4100,
 "maxImageWidth": 15000,
 "allowRasterFunction": true,
 "rasterFunctionInfos": [
  {
   "name": "None",
   "description": "",
   "help": ""
  }
 ],
 "rasterTypeInfos": [
  {
   "name": "Raster Dataset",
   "description": "Supports all ArcGIS Raster Datasets",
   "help": ""
  }
 ],
 "mensurationCapabilities": "Basic",
 "hasHistograms": false,
 "hasColormap": false,
 "hasRasterAttributeTable": false,
 "minScale": 0,
 "maxScale": 0,
 "exportTilesAllowed": false,
 "supportsStatistics": false,
 "supportsAdvancedQueries": false,
 "editFieldsInfo": null,
 "ownershipBasedAccessControlForRasters": null,
 "allowComputeTiePoints": false,
 "useStandardizedQueries": true,
 "advancedQueryCapabilities": {
  "useStandardizedQueries": true,
  "supportsStatistics": false,
  "supportsOrderBy": false,
  "supportsDistinct": false,
  "supportsPagination": false
 },
 "spatialReference": {
  "wkid": 32613,
  "latestWkid": 32613
 }
}
