{
 "currentVersion": 11.4,
 "serviceDescription": "Sunrise_Pueblo_Imagery_20200902",
 "name": "Sunrise_Pueblo_Imagery_20200902",
 "description": "",
 "extent": {
  "xmin": -6486.1,
  "ymin": -20245.000000000004,
  "xmax": 5780.9,
  "ymax": 159.09999999999854,
  "spatialReference": {
   "wkt2": "PROJCRS[\"Local\",BASEGEOGCRS[\"GCS_North_American_1983\",DATUM[\"D_NORTH_AMERICAN_1983\",ELLIPSOID[\"GRS_1980\",6378137.0,298.257222101,LENGTHUNIT[\"Meter\",1.0]]],PRIMEM[\"Greenwich\",0.0,ANGLEUNIT[\"Degree\",0.0174532925199433]],CS[ellipsoidal,2],AXIS[\"Latitude (lat)\",north,ORDER[1]],AXIS[\"Longitude (lon)\",east,ORDER[2]],ANGLEUNIT[\"Degree\",0.0174532925199433]],CONVERSION[\"Local\",METHOD[\"Local\"],PARAMETER[\"false_easting\",749.9985,LENGTHUNIT[\"Foot_US\",0.3048006096012192]],PARAMETER[\"false_northing\",-7500.131981333334,LENGTHUNIT[\"Foot_US\",0.3048006096012192]],PARAMETER[\"scale_factor\",1.000211622,SCALEUNIT[\"Unity\",1.0]],PARAMETER[\"azimuth\",-0.313626517,ANGLEUNIT[\"Degree\",0.0174532925199433]],PARAMETER[\"longitude_of_center\",-104.608257586,ANGLEUNIT[\"Degree\",0.0174532925199433]],PARAMETER[\"latitude_of_center\",38.223415514001,ANGLEUNIT[\"Degree\",0.0174532925199433]]],CS[Cartesian,2],AXIS[\"Easting (X)\",east,ORDER[1]],AXIS[\"Northing (Y)\",north,ORDER[2]],LENGTHUNIT[\"Foot_US\",0.3048006096012192]]",
   "wkt": "PROJCS[\"Local\",GEOGCS[\"GCS_North_American_1983\",DATUM[\"D_NORTH_AMERICAN_1983\",SPHEROID[\"GRS_1980\",6378137.0,298.257222101]],PRIMEM[\"Greenwich\",0.0],UNIT[\"Degree\",0.0174532925199433]],PROJECTION[\"Local\"],PARAMETER[\"false_easting\",749.9985],PARAMETER[\"false_northing\",-7500.131981333334],PARAMETER[\"scale_factor\",1.000211622],PARAMETER[\"azimuth\",-0.313626517],PARAMETER[\"longitude_of_center\",-104.608257586],PARAMETER[\"latitude_of_center\",38.223415514001],UNIT[\"Foot_US\",0.3048006096012192]]"
  }
 },
 "initialExtent": {
  "xmin": -6486.1,
  "ymin": -20245.000000000004,
  "xmax": 5780.9,
  "ymax": 159.09999999999854,
  "spatialReference": {
   "wkt2": "PROJCRS[\"Local\",BASEGEOGCRS[\"GCS_North_American_1983\",DATUM[\"D_NORTH_AMERICAN_1983\",ELLIPSOID[\"GRS_1980\",6378137.0,298.257222101,LENGTHUNIT[\"Meter\",1.0]]],PRIMEM[\"Greenwich\",0.0,ANGLEUNIT[\"Degree\",0.0174532925199433]],CS[ellipsoidal,2],AXIS[\"Latitude (lat)\",north,ORDER[1]],AXIS[\"Longitude (lon)\",east,ORDER[2]],ANGLEUNIT[\"Degree\",0.0174532925199433]],CONVERSION[\"Local\",METHOD[\"Local\"],PARAMETER[\"false_easting\",749.9985,LENGTHUNIT[\"Foot_US\",0.3048006096012192]],PARAMETER[\"false_northing\",-7500.131981333334,LENGTHUNIT[\"Foot_US\",0.3048006096012192]],PARAMETER[\"scale_factor\",1.000211622,SCALEUNIT[\"Unity\",1.0]],PARAMETER[\"azimuth\",-0.313626517,ANGLEUNIT[\"Degree\",0.0174532925199433]],PARAMETER[\"longitude_of_center\",-104.608257586,ANGLEUNIT[\"Degree\",0.0174532925199433]],PARAMETER[\"latitude_of_center\",38.223415514001,ANGLEUNIT[\"Degree\",0.0174532925199433]]],CS[Cartesian,2],AXIS[\"Easting (X)\",east,ORDER[1]],AXIS[\"Northing (Y)\",north,ORDER[2]],LENGTHUNIT[\"Foot_US\",0.3048006096012192]]",
   "wkt": "PROJCS[\"Local\",GEOGCS[\"GCS_North_American_1983\",DATUM[\"D_NORTH_AMERICAN_1983\",SPHEROID[\"GRS_1980\",6378137.0,298.257222101]],PRIMEM[\"Greenwich\",0.0],UNIT[\"Degree\",0.0174532925199433]],PROJECTION[\"Local\"],PARAMETER[\"false_easting\",749.9985],PARAMETER[\"false_northing\",-7500.131981333334],PARAMETER[\"scale_factor\",1.000211622],PARAMETER[\"azimuth\",-0.313626517],PARAMETER[\"longitude_of_center\",-104.608257586],PARAMETER[\"latitude_of_center\",38.223415514001],UNIT[\"Foot_US\",0.3048006096012192]]"
  }
 },
 "fullExtent": {
  "xmin": -6486.1,
  "ymin": -20245.000000000004,
  "xmax": 5780.9,
  "ymax": 159.09999999999854,
  "spatialReference": {
   "wkt2": "PROJCRS[\"Local\",BASEGEOGCRS[\"GCS_North_American_1983\",DATUM[\"D_NORTH_AMERICAN_1983\",ELLIPSOID[\"GRS_1980\",6378137.0,298.257222101,LENGTHUNIT[\"Meter\",1.0]]],PRIMEM[\"Greenwich\",0.0,ANGLEUNIT[\"Degree\",0.0174532925199433]],CS[ellipsoidal,2],AXIS[\"Latitude (lat)\",north,ORDER[1]],AXIS[\"Longitude (lon)\",east,ORDER[2]],ANGLEUNIT[\"Degree\",0.0174532925199433]],CONVERSION[\"Local\",METHOD[\"Local\"],PARAMETER[\"false_easting\",749.9985,LENGTHUNIT[\"Foot_US\",0.3048006096012192]],PARAMETER[\"false_northing\",-7500.131981333334,LENGTHUNIT[\"Foot_US\",0.3048006096012192]],PARAMETER[\"scale_factor\",1.000211622,SCALEUNIT[\"Unity\",1.0]],PARAMETER[\"azimuth\",-0.313626517,ANGLEUNIT[\"Degree\",0.0174532925199433]],PARAMETER[\"longitude_of_center\",-104.608257586,ANGLEUNIT[\"Degree\",0.0174532925199433]],PARAMETER[\"latitude_of_center\",38.223415514001,ANGLEUNIT[\"Degree\",0.0174532925199433]]],CS[Cartesian,2],AXIS[\"Easting (X)\",east,ORDER[1]],AXIS[\"Northing (Y)\",north,ORDER[2]],LENGTHUNIT[\"Foot_US\",0.3048006096012192]]",
   "wkt": "PROJCS[\"Local\",GEOGCS[\"GCS_North_American_1983\",DATUM[\"D_NORTH_AMERICAN_1983\",SPHEROID[\"GRS_1980\",6378137.0,298.257222101]],PRIMEM[\"Greenwich\",0.0],UNIT[\"Degree\",0.0174532925199433]],PROJECTION[\"Local\"],PARAMETER[\"false_easting\",749.9985],PARAMETER[\"false_northing\",-7500.131981333334],PARAMETER[\"scale_factor\",1.000211622],PARAMETER[\"azimuth\",-0.313626517],PARAMETER[\"longitude_of_center\",-104.608257586],PARAMETER[\"latitude_of_center\",38.223415514001],UNIT[\"Foot_US\",0.3048006096012192]]"
  }
 },
 "sortableFields": "MinPS,MaxPS,LowPS,HighPS,CenterX,CenterY,ZOrder,Shape_Length,Shape_Area,AcquisitionDate",
 "bandCount": 3,
 "pixelType": "U8",
 "minValues": [],
 "maxValues": [],
 "meanValues": [],
 "stdvValues": [],
 "hasMultidimensions": false,
 "pixelSizeX": 0.1,
 "pixelSizeY": 0.1,
 "meanPixelSize": 0.030480060960121926,
 "datasetFormat": "AMD",
 "uncompressedSize": 75089128410,
 "blockWidth": 2048,
 "blockHeight": 256,
 "compressionType": "None",
 "bandNames": [
  "Band_1",
  "Band_2",
  "Band_3"
 ],
 "allowCopy": true,
 "allowAnalysis": true,
 "itemAccess": false,
 "inspectionCapabilities": "",
 "minPixelSize": 0,
 "maxPixelSize": 0,
 "copyrightText": "",
 "serviceDataType": "esriImageServiceDataTypeRGB",
 "serviceSourceType": "esriImageServiceSourceTypeMosaicDataset",
 "objectIdField": "OBJECTID",
 "fields": [
  {
   "name": "OBJECTID",
   "type": "esriFieldTypeOID",
   "alias": "OBJECTID",
   "domain": null
  },
  {
   "name": "Shape",
   "type": "esriFieldTypeGeometry",
   "alias": "Shape",
   "domain": null
  },
  {
   "name": "Name",
   "type": "esriFieldTypeString",
   "alias": "Name",
   "domain": null,
   "length": 200
  },
  {
   "name": "MinPS",
   "type": "esriFieldTypeDouble",
   "alias": "MinPS",
   "domain": null
  },
  {
   "name": "MaxPS",
   "type": "esriFieldTypeDouble",
   "alias": "MaxPS",
   "domain": null
  },
  {
   "name": "LowPS",
   "type": "esriFieldTypeDouble",
   "alias": "LowPS",
   "domain": null
  },
  {
   "name": "HighPS",
   "type": "esriFieldTypeDouble",
   "alias": "HighPS",
   "domain": null
  },
  {
   "name": "Category",
   "type": "esriFieldTypeInteger",
   "alias": "Category",
   "domain": {
    "type": "codedValue",
    "name": "MosaicCatalogItemCategoryDomain",
    "description": "Catalog item categories.",
    "codedValues": [
     {
      "name": "Unknown",
      "code": 0
     },
     {
      "name": "Primary",
      "code": 1
     },
     {
      "name": "Overview",
      "code": 2
     },
     {
      "name": "Unprocessed Overview",
      "code": 3
     },
     {
      "name": "Partial Overview",
      "code": 4
     },
     {
      "name": "Inactive",
      "code": 5
     },
     {
      "name": "Uploaded",
      "code": 253
     },
     {
      "name": "Incomplete",
      "code": 254
     },
     {
      "name": "Custom",
      "code": 255
     }
    ],
    "mergePolicy": "esriMPTDefaultValue",
    "splitPolicy": "esriSPTDefaultValue"
   }
  },
  {
   "name": "Tag",
   "type": "esriFieldTypeString",
   "alias": "Tag",
   "domain": null,
   "length": 100
  },
  {
   "name": "GroupName",
   "type": "esriFieldTypeString",
   "alias": "GroupName",
   "domain": null,
   "length": 100
  },
  {
   "name": "ProductName",
   "type": "esriFieldTypeString",
   "alias": "ProductName",
   "domain": null,
   "length": 100
  },
  {
   "name": "CenterX",
   "type": "esriFieldTypeDouble",
   "alias": "CenterX",
   "domain": null
  },
  {
   "name": "CenterY",
   "type": "esriFieldTypeDouble",
   "alias": "CenterY",
   "domain": null
  },
  {
   "name": "ZOrder",
   "type": "esriFieldTypeInteger",
   "alias": "ZOrder",
   "domain": null
  },
  {
   "name": "AcquisitionDate",
   "type": "esriFieldTypeDate",
   "alias": "AcquisitionDate",
   "domain": null,
   "length": 8
  },
  {
   "name": "Shape_Length",
   "type": "esriFieldTypeDouble",
   "alias": "Shape_Length",
   "domain": null
  },
  {
   "name": "Shape_Area",
   "type": "esriFieldTypeDouble",
   "alias": "Shape_Area",
   "domain": null
  }
 ],
 "capabilities": "Image,Metadata,Mensuration,Catalog",
 "defaultMosaicMethod": "ByAttribute",
 "allowedMosaicMethods": "ByAttribute,None",
 "sortField": "AcquisitionDate",
 "sortValue": "2050/01/01",
 "sortAscending": true,
 "mosaicOperator": "First",
 "maxDownloadSizeLimit": 2048,
 "defaultCompressionQuality": 75,
 "defaultResamplingMethod": "Bilinear",
 "maxImageHeight": 4100,
 "maxImageWidth": 15000,
 "maxRecordCount": 1000,
 "maxDownloadImageCount": 20,
 "maxMosaicImageCount": 20,
 "allowRasterFunction": true,
 "rasterFunctionInfos": [
  {
   "name": "None",
   "description": "",
   "help": ""
  }
 ],
 "rasterTypeInfos": [
  {
   "name": "Raster Dataset",
   "description": "Supports all ArcGIS Raster Datasets",
   "help": ""
  }
 ],
 "mensurationCapabilities": "Basic",
 "hasHistograms": false,
 "hasColormap": false,
 "hasRasterAttributeTable": false,
 "minScale": 0,
 "maxScale": 0,
 "exportTilesAllowed": false,
 "supportsStatistics": true,
 "supportsAdvancedQueries": true,
 "editFieldsInfo": null,
 "ownershipBasedAccessControlForRasters": null,
 "allowComputeTiePoints": false,
 "useStandardizedQueries": true,
 "advancedQueryCapabilities": {
  "useStandardizedQueries": true,
  "supportsStatistics": true,
  "supportsOrderBy": true,
  "supportsDistinct": true,
  "supportsPagination": true
 },
 "spatialReference": {
  "wkt2": "PROJCRS[\"Local\",BASEGEOGCRS[\"GCS_North_American_1983\",DATUM[\"D_NORTH_AMERICAN_1983\",ELLIPSOID[\"GRS_1980\",6378137.0,298.257222101,LENGTHUNIT[\"Meter\",1.0]]],PRIMEM[\"Greenwich\",0.0,ANGLEUNIT[\"Degree\",0.0174532925199433]],CS[ellipsoidal,2],AXIS[\"Latitude (lat)\",north,ORDER[1]],AXIS[\"Longitude (lon)\",east,ORDER[2]],ANGLEUNIT[\"Degree\",0.0174532925199433]],CONVERSION[\"Local\",METHOD[\"Local\"],PARAMETER[\"false_easting\",749.9985,LENGTHUNIT[\"Foot_US\",0.3048006096012192]],PARAMETER[\"false_northing\",-7500.131981333334,LENGTHUNIT[\"Foot_US\",0.3048006096012192]],PARAMETER[\"scale_factor\",1.000211622,SCALEUNIT[\"Unity\",1.0]],PARAMETER[\"azimuth\",-0.313626517,ANGLEUNIT[\"Degree\",0.0174532925199433]],PARAMETER[\"longitude_of_center\",-104.608257586,ANGLEUNIT[\"Degree\",0.0174532925199433]],PARAMETER[\"latitude_of_center\",38.223415514001,ANGLEUNIT[\"Degree\",0.0174532925199433]]],CS[Cartesian,2],AXIS[\"Easting (X)\",east,ORDER[1]],AXIS[\"Northing (Y)\",north,ORDER[2]],LENGTHUNIT[\"Foot_US\",0.3048006096012192]]",
  "wkt": "PROJCS[\"Local\",GEOGCS[\"GCS_North_American_1983\",DATUM[\"D_NORTH_AMERICAN_1983\",SPHEROID[\"GRS_1980\",6378137.0,298.257222101]],PRIMEM[\"Greenwich\",0.0],UNIT[\"Degree\",0.0174532925199433]],PROJECTION[\"Local\"],PARAMETER[\"false_easting\",749.9985],PARAMETER[\"false_northing\",-7500.131981333334],PARAMETER[\"scale_factor\",1.000211622],PARAMETER[\"azimuth\",-0.313626517],PARAMETER[\"longitude_of_center\",-104.608257586],PARAMETER[\"latitude_of_center\",38.223415514001],UNIT[\"Foot_US\",0.3048006096012192]]"
 }
}
