{
 "currentVersion": 11.4,
 "serviceDescription": "Vexcel_Hollywood_Obliques",
 "name": "Vexcel_Hollywood_Obliques",
 "description": "",
 "extent": {
  "xmin": 1966474.784394262,
  "ymin": 563905.1023943042,
  "xmax": 1974498.3501226143,
  "ymax": 569678.4544341939,
  "spatialReference": {
   "wkid": 103001,
   "latestWkid": 6423
  }
 },
 "initialExtent": {
  "xmin": 1966474.784394262,
  "ymin": 563905.1023943042,
  "xmax": 1974498.3501226143,
  "ymax": 569678.4544341939,
  "spatialReference": {
   "wkid": 103001,
   "latestWkid": 6423
  }
 },
 "fullExtent": {
  "xmin": 1966474.784394262,
  "ymin": 563905.1023943042,
  "xmax": 1974498.3501226143,
  "ymax": 569678.4544341939,
  "spatialReference": {
   "wkid": 103001,
   "latestWkid": 6423
  }
 },
 "sortableFields": "MinPS,MaxPS,LowPS,HighPS,CenterX,CenterY,ZOrder,Shape_Length,Shape_Area,SensorAzimuth,SensorElevation,ImageID,PerspectiveX,PerspectiveY,PerspectiveZ,CameraID",
 "bandCount": 3,
 "pixelType": "U8",
 "minValues": [
  0,
  0,
  0
 ],
 "maxValues": [
  255,
  255,
  255
 ],
 "meanValues": [
  133.30736415938944,
  128.796891114423,
  120.99657468570106
 ],
 "stdvValues": [
  60.84401806504313,
  59.13223086427699,
  60.03064015989663
 ],
 "hasMultidimensions": false,
 "pixelSizeX": 0.05188410625923027,
 "pixelSizeY": 0.051884106259230955,
 "meanPixelSize": 0.05188410625923061,
 "datasetFormat": "AMD",
 "uncompressedSize": 51623569368,
 "blockWidth": 2048,
 "blockHeight": 256,
 "compressionType": "None",
 "bandNames": [
  "Band_1",
  "Band_2",
  "Band_3"
 ],
 "allowCopy": true,
 "allowAnalysis": true,
 "itemAccess": false,
 "inspectionCapabilities": "Nadir,Oblique",
 "minPixelSize": 0,
 "maxPixelSize": 0,
 "copyrightText": "",
 "serviceDataType": "esriImageServiceDataTypeRGB",
 "serviceSourceType": "esriImageServiceSourceTypeMosaicDataset",
 "objectIdField": "OBJECTID",
 "fields": [
  {
   "name": "OBJECTID",
   "type": "esriFieldTypeOID",
   "alias": "OBJECTID",
   "domain": null
  },
  {
   "name": "Shape",
   "type": "esriFieldTypeGeometry",
   "alias": "Shape",
   "domain": null
  },
  {
   "name": "Name",
   "type": "esriFieldTypeString",
   "alias": "Name",
   "domain": null,
   "length": 200
  },
  {
   "name": "MinPS",
   "type": "esriFieldTypeDouble",
   "alias": "MinPS",
   "domain": null
  },
  {
   "name": "MaxPS",
   "type": "esriFieldTypeDouble",
   "alias": "MaxPS",
   "domain": null
  },
  {
   "name": "LowPS",
   "type": "esriFieldTypeDouble",
   "alias": "LowPS",
   "domain": null
  },
  {
   "name": "HighPS",
   "type": "esriFieldTypeDouble",
   "alias": "HighPS",
   "domain": null
  },
  {
   "name": "Category",
   "type": "esriFieldTypeInteger",
   "alias": "Category",
   "domain": {
    "type": "codedValue",
    "name": "MosaicCatalogItemCategoryDomain",
    "description": "Catalog item categories.",
    "codedValues": [
     {
      "name": "Unknown",
      "code": 0
     },
     {
      "name": "Primary",
      "code": 1
     },
     {
      "name": "Overview",
      "code": 2
     },
     {
      "name": "Unprocessed Overview",
      "code": 3
     },
     {
      "name": "Partial Overview",
      "code": 4
     },
     {
      "name": "Inactive",
      "code": 5
     },
     {
      "name": "Uploaded",
      "code": 253
     },
     {
      "name": "Incomplete",
      "code": 254
     },
     {
      "name": "Custom",
      "code": 255
     }
    ],
    "mergePolicy": "esriMPTDefaultValue",
    "splitPolicy": "esriSPTDefaultValue"
   }
  },
  {
   "name": "Tag",
   "type": "esriFieldTypeString",
   "alias": "Tag",
   "domain": null,
   "length": 100
  },
  {
   "name": "GroupName",
   "type": "esriFieldTypeString",
   "alias": "GroupName",
   "domain": null,
   "length": 100
  },
  {
   "name": "ProductName",
   "type": "esriFieldTypeString",
   "alias": "ProductName",
   "domain": null,
   "length": 100
  },
  {
   "name": "CenterX",
   "type": "esriFieldTypeDouble",
   "alias": "CenterX",
   "domain": null
  },
  {
   "name": "CenterY",
   "type": "esriFieldTypeDouble",
   "alias": "CenterY",
   "domain": null
  },
  {
   "name": "ZOrder",
   "type": "esriFieldTypeInteger",
   "alias": "ZOrder",
   "domain": null
  },
  {
   "name": "SensorAzimuth",
   "type": "esriFieldTypeDouble",
   "alias": "Sensor Azimuth",
   "domain": null
  },
  {
   "name": "SensorElevation",
   "type": "esriFieldTypeDouble",
   "alias": "Sensor Elevation",
   "domain": null
  },
  {
   "name": "ImageID",
   "type": "esriFieldTypeInteger",
   "alias": "ImageID",
   "domain": null
  },
  {
   "name": "Camera_Type",
   "type": "esriFieldTypeString",
   "alias": "Camera_Type",
   "domain": null,
   "length": 8000
  },
  {
   "name": "PerspectiveX",
   "type": "esriFieldTypeDouble",
   "alias": "PerspectiveX",
   "domain": null
  },
  {
   "name": "PerspectiveY",
   "type": "esriFieldTypeDouble",
   "alias": "PerspectiveY",
   "domain": null
  },
  {
   "name": "PerspectiveZ",
   "type": "esriFieldTypeDouble",
   "alias": "PerspectiveZ",
   "domain": null
  },
  {
   "name": "Camera_SerialId",
   "type": "esriFieldTypeString",
   "alias": "Camera_SerialId",
   "domain": null,
   "length": 8000
  },
  {
   "name": "CameraID",
   "type": "esriFieldTypeInteger",
   "alias": "CameraID",
   "domain": null
  },
  {
   "name": "Shape_Length",
   "type": "esriFieldTypeDouble",
   "alias": "Shape_Length",
   "domain": null
  },
  {
   "name": "Shape_Area",
   "type": "esriFieldTypeDouble",
   "alias": "Shape_Area",
   "domain": null
  }
 ],
 "capabilities": "Image,Metadata,Mensuration,Catalog",
 "defaultMosaicMethod": "Northwest",
 "allowedMosaicMethods": "NorthWest,Center,LockRaster,ByAttribute,Nadir,Viewpoint,Seamline,None",
 "sortField": "",
 "sortValue": null,
 "sortAscending": true,
 "mosaicOperator": "First",
 "maxDownloadSizeLimit": 2048,
 "defaultCompressionQuality": 75,
 "defaultResamplingMethod": "Bilinear",
 "maxImageHeight": 4100,
 "maxImageWidth": 15000,
 "maxRecordCount": 1000,
 "maxDownloadImageCount": 20,
 "maxMosaicImageCount": 20,
 "allowRasterFunction": true,
 "rasterFunctionInfos": [
  {
   "name": "None",
   "description": "",
   "help": ""
  }
 ],
 "rasterTypeInfos": [
  {
   "name": "Raster Dataset",
   "description": "Supports all ArcGIS Raster Datasets",
   "help": ""
  }
 ],
 "mensurationCapabilities": "Basic,Base-Top Height",
 "hasHistograms": true,
 "hasColormap": false,
 "hasRasterAttributeTable": false,
 "minScale": 0,
 "maxScale": 0,
 "exportTilesAllowed": false,
 "supportsStatistics": true,
 "supportsAdvancedQueries": true,
 "editFieldsInfo": null,
 "ownershipBasedAccessControlForRasters": null,
 "allowComputeTiePoints": false,
 "useStandardizedQueries": true,
 "advancedQueryCapabilities": {
  "useStandardizedQueries": true,
  "supportsStatistics": true,
  "supportsOrderBy": true,
  "supportsDistinct": true,
  "supportsPagination": true
 },
 "spatialReference": {
  "wkid": 103001,
  "latestWkid": 6423
 }
}
