View In:
ArcGIS JavaScript
ArcGIS Online Map Viewer
ArcGIS Earth
Service Description: 20231122_Full_DTM_Digital_Terrain_Model
Name: 20231122_Full_DTM_Digital_Terrain_Model
Description:
Single Fused Map Cache: false
Extent:
XMin: 664071.75
YMin: 6246370.6875
XMax: 665624.4375
YMax: 6247358.4375
Spatial Reference: 32608
(32608)
VCSWkid(5773)
LatestVCSWkid(5773)
Initial Extent:
XMin: 664071.75
YMin: 6246370.6875
XMax: 665624.4375
YMax: 6247358.4375
Spatial Reference: 32608
(32608)
VCSWkid(5773)
LatestVCSWkid(5773)
Full Extent:
XMin: 664071.75
YMin: 6246370.6875
XMax: 665624.4375
YMax: 6247358.4375
Spatial Reference: 32608
(32608)
VCSWkid(5773)
LatestVCSWkid(5773)
Pixel Size X: 0.1875
Pixel Size Y: 0.1875
Band Count: 1
Pixel Type: F32
RasterFunction Infos: {"rasterFunctionInfos": [{
"name": "None",
"description": "",
"help": ""
}]}
Mensuration Capabilities: Basic
Inspection Capabilities:
Has Histograms: true
Has Colormap: false
Has Multi Dimensions : false
Rendering Rule:
Min Scale: 0
Max Scale: 0
Copyright Text:
Service Data Type: esriImageServiceDataTypeGeneric
Min Values: -22.803873062134
Max Values: 528.77160644531
Mean Values: 156.72669713929
Standard Deviation Values: 154.41690482244
Object ID Field:
Fields:
None
Default Mosaic Method: Center
Allowed Mosaic Methods:
SortField:
SortValue: null
Mosaic Operator: First
Default Compression Quality: 75
Default Resampling Method: Bilinear
Max Record Count: null
Max Image Height: 4100
Max Image Width: 15000
Max Download Image Count: null
Max Mosaic Image Count: null
Allow Raster Function: true
Allow Copy: true
Allow Analysis: true
Allow Compute TiePoints: false
Supports Statistics: false
Supports Advanced Queries: false
Use StandardizedQueries: true
Raster Type Infos:
Name: Raster Dataset
Description: Supports all ArcGIS Raster Datasets
Help:
Has Raster Attribute Table: false
Edit Fields Info: null
Ownership Based AccessControl For Rasters: null
Child Resources:
Info
Histograms
Statistics
Key Properties
Legend
Raster Function Infos
Supported Operations:
Export Image
Identify
Measure
Compute Histograms
Compute Statistics Histograms
Get Samples
Compute Class Statistics
Query Boundary
Compute Pixel Location
Compute Angles
Validate
Project