View In:
ArcGIS JavaScript
ArcGIS Online Map Viewer
ArcGIS Earth
Service Description: 20231206_Slide_Full_DTM_Digital_Terrain_Model
Name: 20231206_Slide_Full_DTM_Digital_Terrain_Model
Description:
Single Fused Map Cache: false
Extent:
XMin: 663999.41
YMin: 6246337.595
XMax: 665676.435
YMax: 6247333.819999999
Spatial Reference: 32608
(32608)
VCSWkid(5773)
LatestVCSWkid(5773)
Initial Extent:
XMin: 663999.41
YMin: 6246337.595
XMax: 665676.435
YMax: 6247333.819999999
Spatial Reference: 32608
(32608)
VCSWkid(5773)
LatestVCSWkid(5773)
Full Extent:
XMin: 663999.41
YMin: 6246337.595
XMax: 665676.435
YMax: 6247333.819999999
Spatial Reference: 32608
(32608)
VCSWkid(5773)
LatestVCSWkid(5773)
Pixel Size X: 0.18500000000000258
Pixel Size Y: 0.18499999999993083
Band Count: 1
Pixel Type: F32
RasterFunction Infos: {"rasterFunctionInfos": [{
"name": "None",
"description": "",
"help": ""
}]}
Mensuration Capabilities: Basic
Inspection Capabilities:
Has Histograms: true
Has Colormap: false
Has Multi Dimensions : false
Rendering Rule:
Min Scale: 0
Max Scale: 0
Copyright Text:
Service Data Type: esriImageServiceDataTypeGeneric
Min Values: -67.701591491699
Max Values: 549.81237792969
Mean Values: 159.45575942931
Standard Deviation Values: 159.30874149113
Object ID Field:
Fields:
None
Default Mosaic Method: Center
Allowed Mosaic Methods:
SortField:
SortValue: null
Mosaic Operator: First
Default Compression Quality: 75
Default Resampling Method: Bilinear
Max Record Count: null
Max Image Height: 4100
Max Image Width: 15000
Max Download Image Count: null
Max Mosaic Image Count: null
Allow Raster Function: true
Allow Copy: true
Allow Analysis: true
Allow Compute TiePoints: false
Supports Statistics: false
Supports Advanced Queries: false
Use StandardizedQueries: true
Raster Type Infos:
Name: Raster Dataset
Description: Supports all ArcGIS Raster Datasets
Help:
Has Raster Attribute Table: false
Edit Fields Info: null
Ownership Based AccessControl For Rasters: null
Child Resources:
Info
Histograms
Statistics
Key Properties
Legend
Raster Function Infos
Supported Operations:
Export Image
Identify
Measure
Compute Histograms
Compute Statistics Histograms
Get Samples
Compute Class Statistics
Query Boundary
Compute Pixel Location
Compute Angles
Validate
Project