View In:
ArcGIS JavaScript
ArcGIS Online Map Viewer
ArcGIS Earth
Service Description: AVIRIS_CV_Imagery
Name: AVIRIS_CV_Imagery
Description:
Single Fused Map Cache: false
Extent:
XMin: 276962.20183936856
YMin: 3993137.3052696823
XMax: 289999.52190617163
YMax: 4000354.43291
Spatial Reference: 0
(0)
LatestVCSWkid(0)
Initial Extent:
XMin: 276962.20183936856
YMin: 3993137.3052696823
XMax: 289999.52190617163
YMax: 4000354.43291
Spatial Reference: 0
(0)
LatestVCSWkid(0)
Full Extent:
XMin: 276962.20183936856
YMin: 3993137.3052696823
XMax: 289999.52190617163
YMax: 4000354.43291
Spatial Reference: 0
(0)
LatestVCSWkid(0)
Pixel Size X: 19.604992581658763
Pixel Size Y: 1.5604600303389535
Band Count: 425
Pixel Type: F32
RasterFunction Infos: {"rasterFunctionInfos": [
{
"name": "AVIRIS Subsetted Bands",
"description": "A raster function template to subset the AVIRIS reflectance imagery. The water vapor bands were excluded to reduce noise (bands 192 to 211 and 285 to 314).",
"help": ""
},
{
"name": "None",
"description": "Make a Raster or Raster Dataset into a Function Raster Dataset.",
"help": ""
}
]}
Mensuration Capabilities: Basic
Inspection Capabilities:
Has Histograms: true
Has Colormap: false
Has Multi Dimensions : false
Rendering Rule:
Min Scale: 0
Max Scale: 0
Copyright Text:
Service Data Type: esriImageServiceDataTypeGeneric
Min Values: -0.054245248436927795, -0.035855505615472794, -0.028925331309437752, -0.02628878876566887, -0.024835893884301186, -0.026201210916042328, -0.02517957240343094, -0.025103440508246422, -0.02511475794017315, -0.024247251451015472, -0.023939315229654312, -0.024007970467209816, -0.024405192583799362, -0.024241100996732712, -0.02425260841846466, -0.02412007562816143, -0.023419741541147232, -0.023362554609775543, -0.022519055753946304, -0.022190570831298828, -0.02127838134765625, -0.02045765146613121, -0.01985192485153675, -0.019208820536732674, -0.01847834698855877, -0.017777269706130028, -0.017362527549266815, -0.017063308507204056, -0.016697686165571213, -0.016607392579317093, -0.015873659402132034, -0.01574389450252056, -0.015313707292079926, -0.014989896677434444, -0.014908069744706154, -0.014067865908145905, -0.01364137977361679, -0.013301106169819832, -0.012788294814527035, -0.012497078627347946, -0.012388029135763645, -0.011840315535664558, -0.011850405484437943, -0.011796313337981701, -0.011036993004381657, -0.010810986161231995, -0.010339902713894844, -0.009921910241246223, -0.009868297725915909, -0.00962268840521574, -0.009354536421597004, -0.009180553257465363, -0.009270131587982178, -0.008909272029995918, -0.008878854103386402, -0.008510262705385685, -0.008415955118834972, -0.007996202446520329, -0.007783943321555853, -0.008206931874155998, -0.007561881560832262, -0.007178130093961954, -0.007645029574632645, -0.007612415123730898, -0.007594261318445206, -0.006999361328780651, -0.006800130940973759, -0.006781644653528929, -0.007846209220588207, -0.007678349036723375, -0.0076274573802948, -0.006491580046713352, -0.005797914229333401, -0.005037594586610794, -0.004764828830957413, -0.0044446662068367004, -0.004722022917121649, -0.0059961844235658646, -0.004537081811577082, -0.003941829781979322, -0.0038741088937968016, -0.0037818995770066977, -0.0037475675344467163, -0.003765594447031617, -0.0039777252823114395, -0.004010149277746677, -0.003922103904187679, -0.004945783410221338, -0.005999644752591848, -0.005943714641034603, -0.005048692226409912, -0.004361846949905157, -0.0036742105148732662, -0.003270998364314437, -0.003138879546895623, -0.0033813242334872484, -0.0030104289762675762, -0.003208849811926484, -0.0030629467219114304, -0.0026505168061703444, -0.002655233023688197, -0.002919109771028161, -0.0029139602556824684, -0.003175054444000125, -0.006241383031010628, -0.004981177393347025, -0.00572934141382575, -0.007174319587647915, -0.006161305122077465, -0.003877576207742095, -0.008295999839901924, -0.030398696660995483, -0.030505523085594177, -0.024904094636440277, -0.02593263052403927, -0.023909863084554672, -0.021035008132457733, -0.014749153517186642, -0.0077102938666939735, -0.007060552481561899, -0.007176498882472515, -0.004074113443493843, -0.0027197159361094236, -0.002288837917149067, -0.002182726515457034, -0.002199562033638358, -0.0023947791196405888, -0.0020466786809265614, -0.003869992680847645, -0.0019174233311787248, -0.002047659596428275, -0.002044970402494073, -0.001979163847863674, -0.002072567818686366, -0.0020024513360112906, -0.002139738528057933, -0.002151736058294773, -0.002293296856805682, -0.0026977297384291887, -0.0026097558438777924, -0.0027846996672451496, -0.003208097303286195, -0.00283634546212852, -0.0038253162056207657, -0.005461917724460363, -0.006657364312559366, -0.008711915463209152, -0.014554020017385483, -0.0336638018488884, -0.03939463198184967, -0.038002900779247284, -0.03342753276228905, -0.022019971162080765, -0.025772642344236374, -0.026739584282040596, -0.022485340014100075, -0.014021329581737518, -0.00890513975173235, -0.007841339334845543, -0.006492282263934612, -0.006332780700176954, -0.00744633749127388, -0.006861007772386074, -0.005443050526082516, -0.0060891322791576385, -0.006049592513591051, -0.005141910631209612, -0.005010698456317186, -0.0035012259613722563, -0.003334410721436143, -0.0025583128444850445, -0.00210390891879797, -0.001488679088652134, -0.0012587950332090259, -0.0014407549751922488, -0.001303179538808763, -0.001282491721212864, -0.0012843681033700705, -0.001330335158854723, -0.0012132703559473157, -0.0014734221622347832, -0.0014815721660852432, -0.0021864769514650106, -0.003246971406042576, -0.003652855521067977, -0.005113828461617231, -0.0068313730880618095, -0.008792968466877937, -0.009487082250416279, -0.012255063280463219, -0.01834305189549923, -0.02231256477534771, -0.024415690451860428, 0.023194294422864914, -0.03476038575172424, -1.662166714668274, -1.035740613937378, -1.604490876197815, -1.6276248693466187, -1.059748888015747, 0.0497722364962101, 0.1129002571105957, -0.06340449303388596, -0.23325090110301971, -0.05905411019921303, 0.09591038525104523, -0.10413316637277603, -0.06807198375463486, -0.06845101714134216, -0.02967439405620098, -0.01839851215481758, -0.020533746108412743, -0.01961747370660305, -0.019382089376449585, -0.009702013805508614, -0.01996288076043129, -0.020392484962940216, -0.020324628800153732, -0.016439953818917274, -0.016354301944375038, -0.016276387497782707, -0.014773703180253506, -0.01101005356758833, -0.009497413411736488, -0.006538031622767448, -0.005907890852540731, -0.004541662521660328, -0.0040262616239488125, -0.003737310878932476, -0.002689410699531436, -0.002117067575454712, -0.0016419731546193361, -0.0016542692901566625, -0.0014516987139359117, -0.0012067279312759638, -0.0011934879003092647, -0.0013071715366095304, -0.0015395261580124497, -0.0012199032353237271, -0.001304140780121088, -0.0012355714570730925, -0.001186933135613799, -0.0013017309829592705, -0.001269949832931161, -0.0012298144865781069, -0.0011521184351295233, -0.0010826921788975596, -0.001229432295076549, -9.449740755371749E-4, -9.527448564767838E-4, -8.463926496915519E-4, -0.0010338942520320415, -0.0011141268769279122, -0.0012502653989940882, -0.0010529730934649706, -0.0011815587058663368, -0.0012858195696026087, -0.001477573299780488, -0.0012076986022293568, -0.0012588802492246032, -0.0013245868030935526, -0.0012965683126822114, -0.0014589115744456649, -0.0016260312404483557, -0.0016030767001211643, -0.0018199487822130322, -0.0021647890098392963, -0.0023005336988717318, -0.002061629667878151, -0.002942474791780114, -0.0026802539359778166, -0.003309068735688925, -0.0034204660914838314, -0.0035603628493845463, -0.00408113794401288, -0.00433116452768445, -0.004679924342781305, -0.00610114261507988, -0.007184890564531088, -0.008499841205775738, -0.0102152144536376, -0.011942680925130844, -0.012075820937752724, -0.019821729511022568, -0.02248326502740383, -0.021033138036727905, -0.03406142443418503, -0.37116891145706177, -2.9137911796569824, -1.1215629577636719, -0.28403913974761963, 0.14061783254146576, -0.3003229796886444, 0.020730620250105858, -1.2763302326202393, -0.33285996317863464, -0.3234005570411682, -3.114302158355713, -0.4146401286125183, -0.3226613700389862, -0.20703186094760895, -0.22311139106750488, -0.1452127993106842, -0.09433864802122116, -0.07074756175279617, -0.3102065920829773, 0.043439723551273346, -0.4352581799030304, -0.03513483703136444, -0.02381802722811699, -0.41990166902542114, -0.20826426148414612, -0.3301847279071808, -0.03963382542133331, -0.01681671105325222, -0.029252976179122925, -0.012684431858360767, -0.0016271390486508608, -0.005052013788372278, -0.009716424159705639, -0.008254039101302624, -0.0075980620458722115, -0.006787813268601894, -0.006569011136889458, -0.008713841438293457, -0.014550473541021347, -0.008123974315822124, -0.011212222278118134, -0.007483709137886763, -0.0038433722220361233, -0.0037211233284324408, -0.002374825533479452, -0.002760665724053979, -0.002649353351444006, -0.0029079588130116463, -0.0037693700287491083, -0.0034249115269631147, -0.002863706322386861, -0.00300576351583004, -0.0023134516086429358, -0.0024892091751098633, -0.0025799896102398634, -0.002475726418197155, -0.002316179685294628, -0.0026781100314110518, -0.002209949539974332, -0.0020671880338340998, -0.0020220184233039618, -0.0021870534401386976, -0.00204848893918097, -0.0017321659252047539, -0.0018025307217612863, -0.0017908435547724366, -0.0017835041508078575, -0.0024044248275458813, -0.0027325551491230726, -0.0028979317285120487, -0.0024929752107709646, -0.002324317581951618, -0.002446782775223255, -0.0026816080790013075, -0.003493375377729535, -0.00244845449924469, -0.003641183488070965, -0.002929811831563711, -0.0032626960892230272, -0.0023086066357791424, -0.0023460944648832083, -0.001961745088919997, -0.002422718098387122, -0.0018974319100379944, -0.001936960848979652, -0.002210844773799181, -0.0019194147316738963, -0.0023133358918130398, -0.0024756176862865686, -0.002255826722830534, -0.002251751720905304, -0.002336051780730486, -0.002267907140776515, -0.002153499983251095, -0.002206623088568449, -0.003255844349041581, -0.0029454370960593224, -0.0027346541173756123, -0.002871972043067217, -0.0031057652086019516, -0.0028966546524316072, -0.00366232730448246, -0.003594554727897048, -0.003411761485040188, -0.0036470352206379175, -0.005257767159491777, -0.00463543925434351, -0.0062509560957551, -0.005834309384226799, -0.004901662934571505, -0.006004390772432089, -0.008289776742458344, -0.007533728145062923, -0.011049390770494938, -0.009586576372385025, -0.009120781905949116, -0.008535142056643963, -0.008441784419119358, -0.012346846982836723, -0.012518293224275112, -0.019645409658551216, -0.015682928264141083, -0.013870572671294212, -0.012338382191956043, -0.021446047350764275, -0.014941447414457798, -0.024473123252391815, -0.040334541350603104, -0.023655539378523827, -0.02272893488407135, -0.03008970431983471, -0.04317382350564003, -0.04170743376016617, -0.06383182108402252, -0.17025108635425568, -0.26356348395347595, -0.1597648710012436, -0.0642198696732521
Max Values: 0.833804726600647, 0.5524529814720154, 0.40427812933921814, 0.3991428315639496, 0.3748242259025574, 0.40430784225463867, 0.3919048011302948, 0.4082440137863159, 0.40961697697639465, 0.41032180190086365, 0.4160754680633545, 0.4335182309150696, 0.4550899267196655, 0.47137975692749023, 0.49432721734046936, 0.5133885741233826, 0.5290026664733887, 0.5450987815856934, 0.5605419278144836, 0.5815275311470032, 0.5963310599327087, 0.614456832408905, 0.6222903728485107, 0.6390990018844604, 0.6648684740066528, 0.6780429482460022, 0.6923049688339233, 0.7077630162239075, 0.7156247496604919, 0.7285572290420532, 0.7442338466644287, 0.7606240510940552, 0.7746787071228027, 0.786775529384613, 0.7958248853683472, 0.8032398223876953, 0.8165420293807983, 0.8168242573738098, 0.8266773223876953, 0.8359197974205017, 0.848933219909668, 0.8486603498458862, 0.8552155494689941, 0.8565012812614441, 0.8577298521995544, 0.861299455165863, 0.8577584028244019, 0.863686203956604, 0.8666666150093079, 0.8714268207550049, 0.8760173916816711, 0.8772494792938232, 0.8832577466964722, 0.8827080130577087, 0.8819876313209534, 0.8805642127990723, 0.8812469840049744, 0.8859284520149231, 0.8872416019439697, 0.8918594121932983, 0.9085837006568909, 0.9144182801246643, 0.9195689558982849, 0.9100632071495056, 0.9052543640136719, 0.898447573184967, 0.8983539342880249, 0.8981950879096985, 0.8922549486160278, 0.8900845050811768, 0.8857774138450623, 0.8776295781135559, 0.8809266686439514, 0.8803751468658447, 0.8802562355995178, 0.8789585828781128, 0.9019824266433716, 0.8644652366638184, 0.8805577754974365, 0.8723582625389099, 0.8757568001747131, 0.8772648572921753, 0.8793610334396362, 0.8737363219261169, 0.8721254467964172, 0.8692185282707214, 0.8704548478126526, 0.8697634935379028, 0.8740299940109253, 0.8706700801849365, 0.8692485094070435, 0.8601970076560974, 0.8639537692070007, 0.8639089465141296, 0.8756390810012817, 0.8834595084190369, 0.8955039381980896, 0.9045979976654053, 0.914438784122467, 0.928550124168396, 0.9409351944923401, 0.9482571482658386, 0.9666959643363953, 0.9739788174629211, 0.9835681319236755, 1.008401870727539, 1.0183920860290527, 1.0276228189468384, 1.0463541746139526, 1.0653164386749268, 1.064987063407898, 1.0361385345458984, 1.0786914825439453, 1.0944828987121582, 1.1055967807769775, 1.1213515996932983, 1.1316524744033813, 1.1594699621200562, 1.1839795112609863, 1.1895240545272827, 1.2087674140930176, 1.224164366722107, 1.2238997220993042, 1.2346246242523193, 1.2483258247375488, 1.2526956796646118, 1.2536288499832153, 1.265150547027588, 1.2797377109527588, 1.2837042808532715, 1.2827517986297607, 1.2947977781295776, 1.3105088472366333, 1.3138948678970337, 1.3189600706100464, 1.3325531482696533, 1.3364126682281494, 1.349607229232788, 1.3603990077972412, 1.3703964948654175, 1.3813114166259766, 1.3876549005508423, 1.390546441078186, 1.4091439247131348, 1.4142835140228271, 1.4233226776123047, 1.4281573295593262, 1.4081298112869263, 1.3473191261291504, 1.300020456314087, 1.3829197883605957, 1.3944145441055298, 1.480107307434082, 1.4644240140914917, 1.4586200714111328, 1.489209532737732, 1.515880823135376, 1.5279510021209717, 1.5466901063919067, 1.5566986799240112, 1.5618953704833984, 1.5580397844314575, 1.567613124847412, 1.5814062356948853, 1.5739781856536865, 1.5856893062591553, 1.5931168794631958, 1.6067144870758057, 1.6223349571228027, 1.6381813287734985, 1.655457615852356, 1.664717197418213, 1.6836986541748047, 1.6824806928634644, 1.6915773153305054, 1.7071501016616821, 1.6963993310928345, 1.6800103187561035, 1.6901038885116577, 1.7202686071395874, 1.7383157014846802, 1.7356064319610596, 1.7548909187316895, 1.763608455657959, 1.7963173389434814, 1.7899786233901978, 1.8135929107666016, 1.8214058876037598, 1.8293145895004272, 1.8687574863433838, 1.878213882446289, 1.8602083921432495, 1.9889345169067383, 2.6945626735687256, 2.1267597675323486, 1.3177334070205688, 4.549581527709961, 5.8194403648376465, 2.8592112064361572, 2.0165133476257324, 1.6864140033721924, 1.589997410774231, 1.8029069900512695, 1.733659029006958, 1.6024036407470703, 1.4717562198638916, 1.6362274885177612, 1.443521499633789, 1.4051614999771118, 1.5884286165237427, 1.6420096158981323, 1.4808242321014404, 1.4700852632522583, 1.7916560173034668, 1.7948049306869507, 1.9118411540985107, 1.96975839138031, 1.9490748643875122, 1.5966297388076782, 1.7880700826644897, 1.7176979780197144, 1.8284703493118286, 1.8946280479431152, 1.9508177042007446, 1.975426435470581, 1.9451004266738892, 1.9418193101882935, 1.836145281791687, 1.8034782409667969, 1.716478943824768, 1.6495137214660645, 1.620693325996399, 1.570014238357544, 1.607617974281311, 1.5374294519424438, 1.7282078266143799, 1.686163067817688, 1.5441666841506958, 1.7305142879486084, 1.6604870557785034, 1.5795371532440186, 1.5497090816497803, 1.5954875946044922, 1.5541335344314575, 1.6069773435592651, 1.651795744895935, 1.7336748838424683, 1.6027406454086304, 1.529482364654541, 1.5082393884658813, 1.5464227199554443, 1.5532225370407104, 1.6381553411483765, 1.6045054197311401, 1.601770281791687, 1.656703233718872, 1.7267367839813232, 1.7024942636489868, 1.7270653247833252, 1.6889015436172485, 1.7452871799468994, 1.784356713294983, 1.748138666152954, 1.7161409854888916, 1.819286584854126, 1.7587778568267822, 1.8184398412704468, 1.943711519241333, 1.8736039400100708, 2.0183327198028564, 1.9355274438858032, 2.024258613586426, 2.125211715698242, 2.2215425968170166, 2.192145586013794, 2.267094612121582, 2.2135307788848877, 2.291128396987915, 2.279542922973633, 2.2284445762634277, 2.2710866928100586, 2.2345285415649414, 2.2989776134490967, 2.091125249862671, 2.134979724884033, 1.666298270225525, 1.2722545862197876, 0.7697241902351379, 1.5425937175750732, 1.9285227060317993, 1.5812612771987915, 1.5772148370742798, 0.5875345468521118, 1.609387755393982, 1.680193305015564, 0.839551568031311, 0.9834081530570984, 4.655029296875, 1.1289176940917969, 0.8407050371170044, 1.519783616065979, 1.6571866273880005, 1.8333011865615845, 1.6562162637710571, 1.6029006242752075, 0.7945639491081238, 1.5529721975326538, 1.8326351642608643, 1.5431123971939087, 1.6169923543930054, 1.848241925239563, 0.9564652442932129, 2.1746745109558105, 1.7413724660873413, 2.023690938949585, 1.5961205959320068, 1.9664911031723022, 2.4442343711853027, 3.0904390811920166, 2.395138740539551, 2.4771337509155273, 2.5239319801330566, 2.4769935607910156, 2.389439344406128, 2.110647678375244, 1.8122515678405762, 2.1644933223724365, 2.011448383331299, 2.263169527053833, 2.4396603107452393, 2.5119545459747314, 2.5668840408325195, 2.548691987991333, 2.5651915073394775, 2.5090084075927734, 2.46797513961792, 2.5282375812530518, 2.4914958477020264, 2.4908738136291504, 2.5280706882476807, 2.5700130462646484, 2.550049066543579, 2.5520925521850586, 2.5873074531555176, 2.5797505378723145, 2.5527992248535156, 2.552614450454712, 2.5566632747650146, 2.5563859939575195, 2.591118812561035, 2.6251673698425293, 2.618762731552124, 2.613450050354004, 2.585235595703125, 2.600755214691162, 2.6076853275299072, 2.6098053455352783, 2.5788419246673584, 2.5987534523010254, 2.5985538959503174, 2.566779136657715, 2.577261447906494, 2.613248348236084, 2.5778024196624756, 2.5525567531585693, 2.562039852142334, 2.6308324337005615, 2.624669313430786, 2.6141114234924316, 2.612379789352417, 2.6378531455993652, 2.6094436645507812, 2.6206138134002686, 2.600940465927124, 2.5736899375915527, 2.5694971084594727, 2.5680458545684814, 2.5485928058624268, 2.576751947402954, 2.5944983959198, 2.549670457839966, 2.5924453735351562, 2.5662577152252197, 2.527897596359253, 2.5487687587738037, 2.5780773162841797, 2.618358850479126, 2.532459020614624, 2.5261588096618652, 2.5874788761138916, 2.5852560997009277, 2.58062481880188, 2.5415942668914795, 2.566249370574951, 2.486320972442627, 2.5894052982330322, 2.629615545272827, 2.589768886566162, 2.556704521179199, 2.5640718936920166, 2.520463705062866, 2.4533121585845947, 2.6035563945770264, 2.6532015800476074, 2.665525197982788, 2.5754406452178955, 2.5264759063720703, 2.4230568408966064, 2.552490234375, 2.6783883571624756, 2.7670907974243164, 2.602942705154419, 2.7517478466033936, 2.5318808555603027, 2.39656400680542, 2.956934928894043, 2.9362077713012695, 2.834810733795166, 2.693065643310547, 2.649967670440674, 2.17421293258667, 2.902533531188965, 3.4258639812469482, 4.2177581787109375, 2.117260456085205
