View In:
ArcGIS JavaScript
ArcGIS Online Map Viewer
ArcGIS Earth
Service Description: Chesapeake/howa_24027_landcover_2018
Name: Chesapeake/howa_24027_landcover_2018
Description:
Single Fused Map Cache: false
Extent:
XMin: -8598428.18716196
YMin: 4732766.056698105
XMax: -8534015.169738991
YMax: 4779958.702311229
Spatial Reference: 102100
(3857)
LatestVCSWkid(0)
Initial Extent:
XMin: -8598428.18716196
YMin: 4732766.056698105
XMax: -8534015.169738991
YMax: 4779958.702311229
Spatial Reference: 102100
(3857)
LatestVCSWkid(0)
Full Extent:
XMin: -8598428.18716196
YMin: 4732766.056698105
XMax: -8534015.169738991
YMax: 4779958.702311229
Spatial Reference: 102100
(3857)
LatestVCSWkid(0)
Pixel Size X: 1.0007771145373665
Pixel Size Y: 1.0007771145373583
Band Count: 1
Pixel Type: U8
RasterFunction Infos: {"rasterFunctionInfos": [{
"name": "None",
"description": "",
"help": ""
}]}
Mensuration Capabilities: Basic
Inspection Capabilities:
Has Histograms: false
Has Colormap: false
Has Multi Dimensions : false
Rendering Rule:
Min Scale: 0
Max Scale: 0
Copyright Text:
Service Data Type: esriImageServiceDataTypeThematic
Min Values: 1
Max Values: 12
Mean Values: 4.5243220779735
Standard Deviation Values: 1.9497894246821
Object ID Field:
Fields:
None
Default Mosaic Method: Center
Allowed Mosaic Methods:
SortField:
SortValue: null
Mosaic Operator: First
Default Compression Quality: 75
Default Resampling Method: Bilinear
Max Record Count: null
Max Image Height: 4100
Max Image Width: 15000
Max Download Image Count: null
Max Mosaic Image Count: null
Allow Raster Function: true
Allow Copy: true
Allow Analysis: true
Allow Compute TiePoints: false
Supports Statistics: false
Supports Advanced Queries: false
Use StandardizedQueries: true
Raster Type Infos:
Name: Raster Dataset
Description: Supports all ArcGIS Raster Datasets
Help:
Has Raster Attribute Table: true
Edit Fields Info: null
Ownership Based AccessControl For Rasters: null
Child Resources:
Info
Raster Attribute Table
Statistics
Key Properties
Legend
Raster Function Infos
Supported Operations:
Export Image
Identify
Measure
Compute Histograms
Compute Statistics Histograms
Get Samples
Compute Class Statistics
Query Boundary
Compute Pixel Location
Compute Angles
Validate
Project