View In:
ArcGIS JavaScript
ArcGIS Online Map Viewer
ArcGIS Earth
Service Description: Headwall_Imagery
Name: Headwall_Imagery
Description:
Single Fused Map Cache: false
Extent:
XMin: -71.6004181648319
YMin: 42.42771636537444
XMax: -71.59919221894708
YMax: 42.428663057027
Spatial Reference: 4326
(4326)
LatestVCSWkid(0)
Initial Extent:
XMin: -71.6004181648319
YMin: 42.42771636537444
XMax: -71.59919221894708
YMax: 42.428663057027
Spatial Reference: 4326
(4326)
LatestVCSWkid(0)
Full Extent:
XMin: -71.6004181648319
YMin: 42.42771636537444
XMax: -71.59919221894708
YMax: 42.428663057027
Spatial Reference: 4326
(4326)
LatestVCSWkid(0)
Pixel Size X: 1.9805264698094718E-7
Pixel Size Y: 1.9805264698019552E-7
Band Count: 343
Pixel Type: F32
RasterFunction Infos: {"rasterFunctionInfos": [
{
"name": "None",
"description": "Make a Raster or Raster Dataset into a Function Raster Dataset.",
"help": ""
},
{
"name": "RGB with DRA",
"description": "NA",
"help": ""
},
{
"name": "Agriculture",
"description": "NA",
"help": ""
},
{
"name": "CIR with DRA",
"description": "NA",
"help": ""
},
{
"name": "NDVI with Colormap",
"description": "NA",
"help": ""
},
{
"name": "Shadow Composite",
"description": "NA",
"help": ""
},
{
"name": "Yellow Composite",
"description": "NA",
"help": ""
}
]}
Mensuration Capabilities: Basic
Inspection Capabilities:
Has Histograms: true
Has Colormap: false
Has Multi Dimensions : false
Rendering Rule:
Min Scale: 0
Max Scale: 0
Copyright Text:
Service Data Type: esriImageServiceDataTypeGeneric
Min Values: -0.006307543088041712, -0.006374667977070203, -0.005686143489583628, -0.005785222714621341, -0.006386617969837971, -0.00562010369321797, -0.004002886349553592, -0.0029397889538813615, -0.004566279440041399, -0.0018169890172430314, -0.0024218479593400843, -0.00199692835121823, -4.350845429144101E-4, -0.0020106714455323527, -0.0016429771640105173, -0.0024042370432653115, -0.0018590263980513555, -4.900416743112146E-4, -0.0011127167708764318, -0.0013845711464455235, -0.001099955098652572, -5.565208157349844E-4, -0.002439983596559614, -0.0010738503906395636, -6.782568416383583E-4, -9.138630857705721E-4, -2.3206968762679026E-4, 3.799845726462081E-4, 5.3704201491200365E-5, -2.1549870916715008E-4, -2.1329142055037664E-4, 3.3188783572768443E-4, 3.975395916313573E-4, -1.2548039831017377E-4, 5.9897366372752E-4, 5.232077364780707E-5, 6.56946303024597E-4, 3.280209639342502E-4, 6.831644900557876E-4, 1.3853214977643802E-4, -1.068015208147699E-4, 1.7437995347791002E-4, 3.497302568575833E-4, 3.9829907518651453E-4, 4.436703366081929E-4, -0.0012331203097346588, 3.0801382035861025E-4, -6.582729220099282E-4, -9.105070753321343E-4, -5.037784681007906E-4, 6.026029559507151E-4, -3.087204449911951E-4, 1.6656811931170523E-4, -0.0032079699403766426, 3.815624586422928E-5, -0.00408526592036651, 1.8748695219983347E-4, 5.908905495743966E-5, 7.918812229945615E-4, 8.995795815280871E-5, 6.023359931077721E-4, 2.785614378808532E-5, -3.2632520196784753E-4, 2.9469442097251886E-4, 5.736631258059788E-4, 1.384984643664211E-4, 9.158647594631475E-4, 2.0854013155258144E-4, 5.443380623546545E-4, -1.1548513020898099E-4, 9.006834347928816E-4, 6.945694792648283E-4, 1.4705663534186897E-4, 3.2925170080488897E-4, 8.08845026540439E-4, 6.03123042083098E-4, 7.729216447387444E-4, 3.6775355101781315E-4, 9.207599321143789E-4, 9.873845924630587E-4, 0.001217618028022116, 0.0012534174433085354, 8.263610593530757E-4, 5.422176582214888E-5, 2.2517873730976135E-4, -3.2579401522525586E-4, 3.297093253422645E-4, 5.760137478318939E-4, 0.0011045410151382384, 9.022670967624435E-4, 0.00126900043119349, 6.284833393692679E-4, 0.0010943598865651438, 0.0010709207826948841, 8.968008585270582E-4, 0.0010846947702702892, 6.034726629877696E-5, 0.0012179488817309903, 8.448370701898966E-4, 9.067987593880389E-4, 3.0653399244329194E-4, 5.758933282322687E-4, 6.719799234815582E-4, 4.815012680410291E-4, 4.815573774976656E-4, 9.304435350259155E-4, 5.54063191430032E-4, -1.645022348384373E-5, 4.3920109419559594E-5, 2.886144211515784E-4, 6.423996369449014E-4, 2.842394083018007E-4, 4.2517622614468564E-4, 1.070790199264593E-4, 6.173272449814249E-4, 1.7670787656243192E-4, -6.095852049838868E-4, 3.6519860668704496E-4, -7.508920048167056E-4, -1.654824700381141E-5, -6.133697611403477E-4, 4.781521224686003E-4, 3.8778943871875526E-4, -5.747017294197576E-4, -5.833016030010185E-5, 1.4576628018403426E-5, 6.175185826577945E-4, 2.0712928835564526E-4, 3.5210766827731277E-4, 4.8878036523092305E-5, 8.29113614599919E-5, -3.1080767712410307E-4, -2.89768865059159E-4, -3.8499232368849334E-4, -4.6573641566283186E-4, -1.692387286311714E-5, -2.0990022449041135E-4, 1.8220681658931426E-4, -1.0697509242163505E-4, -1.905430044644163E-4, -8.157410547937616E-4, -3.8070003620305215E-4, -8.296946243717684E-4, -4.870311618105916E-4, -3.185618870702456E-4, -8.162782160070492E-4, -0.0010763328609755263, -0.0012784812033714843, -2.716748408602143E-4, -0.0010014360896093422, -0.0017190532953463844, -0.0015651316789444536, -7.099660333551583E-4, -8.971989236670197E-4, -0.0014958426127122948, -0.002409517044725362, -0.0014593557416446856, -0.0010130575183211477, -8.115794944387744E-4, -0.00112158828687825, -0.001166415105217311, -9.577091777828173E-4, -0.0011657523755275179, -0.002151296583178919, -0.002092328905746399, -0.0037953368646412855, -0.002416785124296439, -0.0010052385750896065, -1.1787942366936477E-4, -0.0017312166055489797, -5.669740357916453E-4, -1.9734684155992E-4, -9.538031399642932E-4, 9.777488849067595E-4, -0.008392229676246643, 0.0014207518465809699, 0.0021066785648145014, 0.0017396177022419579, 0.0017547338948133984, 0.0027401371971791377, 0.0018904315106738068, 0.002679734084267693, 0.0026716530292105745, 0.0027616684055828955, 0.0021392639082478127, 0.002684420295736345, 0.003327181093482068, 0.0034401453285681782, 0.0028654268753598444, 0.0032955415340438776, 0.003283491788806714, 0.002698838425658323, 0.0032530483272239508, 0.002676208666343882, 0.003309066336896649, 0.0033517546166876855, 0.003266703394274373, 0.00337334112600729, 0.004360383492667097, 0.0040107480745064095, 0.0040825262926773576, 0.002377310634983587, 0.0031503765494562685, 0.003161462844673224, -0.002449654661177192, 0.0017841241033238475, 2.1951221788185649E-4, 0.001181470512165106, 6.282398226176156E-4, 0.0016366845247830497, 0.002386880904850841, 0.003545892645888671, 0.004224454820359824, 0.0013076630484647467, 7.542020957771456E-4, -0.0011000914328178624, 0.0033565273697604425, -8.743618054722901E-4, 0.002814830374518351, 0.0027742630500142695, 6.43529027911427E-4, 4.661089515138883E-4, 0.001977296726181521, 0.001385768894579087, 0.003806843885286071, 0.0018671641664695926, -0.001978834978217492, 0.0010940974570985418, 8.06956360975164E-4, 0.0024147290951077593, -0.0017348716282867827, 0.0020929336533299647, 0.0013159104655642295, 0.002123292915712227, -0.007223992681247182, 0.0013515715145331342, -7.396702112600906E-4, 4.61598170659272E-4, -0.004855765451793559, -0.0033062558104575146, 5.126414180267602E-4, -0.004838621858652914, -0.0018418495965306647, -0.009246530848031398, 2.2880772667122073E-4, -0.0038277887833828572, -9.902599995257333E-4, -0.0029765254839730915, -0.0012659811854973668, 0.0010551949526416138, -4.93261644805898E-4, -0.003422699544898933, -0.0014283853452070616, -0.005453461035358487, -0.005801196490210714, -6.792551794205792E-4, -0.001421360608219402, -0.0038323022999975365, -0.001992471432458842, -0.001038727172272047, -8.857338143570814E-4, -0.0021090832560730632, -0.0034630100744834635, -0.004701341455074726, -0.009712594466691371, -0.007070624371408485, -0.0024310677545145154, -0.004968339115293929, -0.008502818374836352, -0.0013621925936604384, -0.0032934768314589746, -0.004497037312830798, -0.0031731031776871532, -0.004822826311283279, -0.005204964760196162, -0.008394143980694935, -0.006215329849510454, -0.007685013581067324, -0.006746812145138392, -0.003489774746412877, -0.004739707273984095, -0.0023133518188842572, -0.00839105458726408, -0.019083049046457745, -0.008919927080569323, -0.013739182220888324, -0.008086928733973764, -0.02092231334245298, -0.01020542229525745, -0.021131055800651666, -0.012451907918148208, -0.014885683740430977, -0.028802002852899022, -0.033282805496128276, -0.013152623811038211, -0.01073394499690039, -0.013976683665532619, -0.02623599098296836, -0.026527774083660915, -0.02573085526819341, -0.014401548854948487, -0.03266979250474833, -0.05467974858765956, -0.07156167237553746, -0.12898968387162313, -0.17558299729716964, -0.09701785116340034, -0.0860072159266565, -0.10205066596972756, -0.12799832358723506, -0.12085371412103996, -0.10226957660051994, -0.12216910414281301, -0.12287868710700423, -0.10309612969285809, -0.13663354120217264, -0.11339337093522772, -0.1285843515652232, -0.12361198902362958, -0.10248629853595048, -0.11000505779520608, -0.08748157965601422, -0.10710141196614131, -0.059601618093438447, -0.07010982290375978, -0.0775344758585561, -0.07759850437287241, -0.11202597853844054, -0.09560690837679431, -0.0879161063930951, -0.07638955625589006, -0.09232330994564109, -0.07762574750813656, -0.08856468464364298, -0.10352608398534358, -0.09167907101800665, -0.18598100781673566, -0.21065491187619045, -0.1573527666623704, -0.1461274845059961, -0.21883818547939882, -0.13847574853571132, -0.24004409386543557
Max Values: 8.081434582192742, 6.924631246944045, 6.157938379870757, 5.9576254278326815, 5.432115810763207, 4.934089947855682, 4.4710865742436, 4.047694462680738, 3.7052757248420676, 3.4799869555063196, 3.3147871153851156, 3.155821491489405, 3.0063504739391647, 2.8927143616838293, 2.8197221134760184, 2.7512213796080687, 2.8237164289648717, 2.903056828064109, 2.815461192778457, 2.6254954835849276, 2.4224849066640672, 2.314270870458131, 2.225771643628832, 2.1371219657148686, 2.039503167139628, 1.947067988586241, 1.881520564602397, 1.8110803539602784, 1.778315270834355, 1.721995430278639, 1.699609147774936, 1.65761918099588, 1.6191926778888046, 1.5818778053408096, 1.5467726168462832, 1.5050093042636945, 1.4952688513121757, 1.4823063669464318, 1.4618684122938248, 1.4620048827368919, 1.4310511297171615, 1.393878936488818, 1.3830356877260783, 1.361617603688046, 1.3331301972302754, 1.308233447699422, 1.2819696554715847, 1.2783430415838666, 1.2963095901327506, 1.319329863191797, 1.3136898293187187, 1.295880788521572, 1.2548227429797407, 1.2331312159030858, 1.217851888428413, 1.2101947328828828, 1.2127226492557384, 1.228106590090647, 1.2333081083011166, 1.230683432778278, 1.2315327343783338, 1.2225834249456966, 1.2110192161217128, 1.2103307275333464, 1.2137786031551059, 1.2358433980552945, 1.2764326310275464, 1.2981827966764286, 1.2956008417122575, 1.257913901437405, 1.1964914349614446, 1.15742359526962, 1.1316375684832565, 1.126056879691987, 1.129349527313252, 1.1211237187401366, 1.1117374392490547, 1.113155673147503, 1.1126614582501588, 1.1148027997619465, 1.1256368482463586, 1.1220476502372776, 1.116370112466484, 1.1141274504570902, 1.1036402882746188, 1.10607762323707, 1.1133095536451947, 1.109092812238032, 1.1196489216440568, 1.134514458437252, 1.133486509590739, 1.145703972692445, 1.1475736404715917, 1.1587789925424659, 1.1598509825164456, 1.1730417437934193, 1.1891086382011054, 1.1932298527995044, 1.1938041336632068, 1.194881463652564, 1.2002436082175336, 1.1974480802866765, 1.1951315675873957, 1.1867063850631894, 1.1895917912042933, 1.1965700173625464, 1.2167992465460884, 1.254514117998042, 1.2725720569878831, 1.2883631499717012, 1.2915559684784057, 1.2830550270241474, 1.2757962199425492, 1.2784273466354534, 1.283601421786443, 1.2872973818912214, 1.2912547696660113, 1.293911864731399, 1.3093250444167097, 1.3250485654407385, 1.3518475750611287, 1.3824949551540158, 1.3968262707448957, 1.4102087116643816, 1.4144726323734176, 1.4111930825420131, 1.422302932916864, 1.4319730942324895, 1.4486892684549275, 1.4751350179853944, 1.489791262525614, 1.5003926816416424, 1.516007847338642, 1.516190289156384, 1.5233100121081407, 1.5284466085677195, 1.5536714041604682, 1.5602131152249967, 1.5547759408418642, 1.5674920515093618, 1.5929656129219438, 1.6135447917517922, 1.6325804305442944, 1.643734863473128, 1.6899415466205028, 1.7371387100411084, 1.745104953282862, 1.7588700812675597, 1.7480278647403793, 1.732440699183826, 1.7590670761846923, 1.7808340371993836, 1.8108795310590722, 1.834356580403437, 1.8654419349277305, 1.881231474901142, 1.9046918328813263, 1.9206470313738464, 1.931891847724728, 1.9620308370822386, 2.007476965135538, 2.0374690824182835, 2.1386746606622182, 2.1672676625821623, 2.2455661236826927, 2.267248309150091, 2.281441036860997, 2.2123998829174525, 2.232513798929176, 2.2471887112369586, 2.2302438097403865, 2.24078890034707, 2.2326956240676736, 2.2450726704009867, 2.2727545648813248, 2.237029093849287, 2.2626290750831686, 2.280711995405454, 2.3250696103341397, 2.4426095980106766, 2.6219016787331384, 2.8053784975190865, 2.8853998378881442, 2.9833848431044316, 2.9736387765678955, 2.973330267849633, 3.0529160019978008, 3.07110432263471, 3.042560140900605, 2.956261024784453, 2.8960393935326465, 2.8447805317641723, 2.846334967022358, 2.863549665850769, 2.8734718373284522, 2.898493526162838, 2.9017109467545197, 2.934168285034957, 2.9565008226784357, 3.0086102001805557, 3.0549008101429536, 3.109319000637697, 3.2054071993916295, 3.449777031195026, 3.830672246091126, 4.749218583880975, 5.848330593249557, 6.082077490815209, 4.971098953510591, 4.201719282542399, 3.7629103620010937, 3.829123013897515, 3.7507986316231836, 3.8072746396001094, 3.7558064411077794, 3.846180553717204, 3.8681974561695824, 3.9826471850647067, 3.9574548112223056, 4.01957067542935, 4.04292387465739, 4.054192458581383, 4.158743913105354, 4.25805440496606, 4.363304363566385, 4.425920493660669, 4.521591089553112, 4.6230293808512215, 4.733250567880532, 4.872641240597659, 4.956235178025963, 5.115000916273857, 5.245099655256126, 5.43717561903577, 5.719126171505195, 6.1669467381543654, 6.637037774400596, 7.092110012414196, 7.233425965954666, 7.407848770864803, 7.346368018042995, 7.278614037353691, 7.297272483767301, 7.292616977261787, 7.262343277758191, 7.4098808121962065, 7.392305519038928, 7.335644783361204, 7.199280215378167, 7.133207389197196, 7.078410674499537, 7.09822634388911, 7.106530488548742, 7.210162132232654, 7.290222783853096, 7.476542089782015, 7.5458512979857915, 7.918181506229303, 8.18406316070832, 8.213530148201244, 8.322683792041062, 8.313919053322024, 8.33998642559527, 8.574356258799526, 8.89441093699861, 9.154928819378256, 9.273340913583525, 9.46597998915604, 9.475444514035189, 9.57634062055513, 9.735190745275759, 9.961299904665793, 10.10511783286347, 10.242462406233244, 10.287936190474284, 10.470224029821111, 10.676962900543003, 10.799265452194959, 10.952845320458437, 11.244468540979142, 11.645418081370735, 12.432309175470436, 13.504638469086785, 15.043443653630675, 16.13061581437796, 16.48607431964774, 16.043922962257056, 15.90972908110416, 16.08024171437137, 17.11249992102239, 17.901704723313742, 18.6855214845491, 19.072741153722745, 19.637773219757946, 19.70703951481846, 19.368251988365955, 18.70046474580886, 18.625796162348706, 18.74816003118758, 19.064205638569547, 20.509708200894238, 24.55447583887144, 31.146028866045526, 33.72648064105306, 28.896488862519618, 28.779224402998807, 46.041954827000154, 39.451543384144315, 36.66101263856399, 29.126084031013306, 30.47983553208178, 33.81244495671126, 32.29273028366151, 36.48723645659629, 31.154549883998698, 31.931686904048547, 31.81606296164682, 36.014561232354026, 31.023847433330957, 32.6824047426926, 35.02546726856963, 32.13841871070326, 31.834683121589478, 34.17533863906283, 32.69590763107408, 31.993203693564283, 32.546542875119485, 30.165226953598903, 28.78079910593806, 30.826525628974196, 30.106520642963005, 32.076633087563096, 31.96743236083421, 31.867261713399785, 32.319086162606254, 31.414191191026475, 32.28215074777836, 30.304277745366562, 29.23632400360657, 31.39733662432991, 30.355263412406202, 30.230830910441, 30.349922246474307
Mean Values: 0.028506312153779176, 0.028855364479332058, 0.02901999650236585, 0.029512915445356835, 0.028674478743999723, 0.028880560269903814, 0.029007223903508936, 0.028827655503824684, 0.02691282544793267, 0.02772110761343513, 0.026794802979642027, 0.026334564212753292, 0.026968092552651538, 0.02579189224299038, 0.025983468466051977, 0.025268032251493985, 0.027237841050987754, 0.027643475634832416, 0.027524794776440903, 0.02765552925791659, 0.027823080803431533, 0.02769127075480153, 0.027159515414509082, 0.02782452371363152, 0.02837601572293159, 0.0281372906653571, 0.028720950435825912, 0.029278852475832114, 0.02955782917917158, 0.02942225427727404, 0.02977129604402624, 0.02995025341410876, 0.030351750906336603, 0.030026735634470593, 0.030576095925514784, 0.030434000914170662, 0.030719930052791434, 0.030665645991295436, 0.031031546477520825, 0.03077848394938917, 0.0308814024082858, 0.03102502483475596, 0.031289509624744104, 0.031260124524056944, 0.03155080622786816, 0.030814307670957226, 0.03175165301058982, 0.03127813876661276, 0.031292073546422314, 0.031407414918092486, 0.032342498590135965, 0.03201209926503131, 0.032420338599137594, 0.03194995992022268, 0.03262341671943455, 0.03253508803067112, 0.03296631476572414, 0.03294044520894383, 0.0336349243535498, 0.033534167554708776, 0.03421871136138692, 0.03405949992643171, 0.03425621874573771, 0.03487730004536443, 0.0354358230035527, 0.03557325889806036, 0.03658628319038917, 0.036756418986842475, 0.03781029464251806, 0.03813749731386616, 0.03917257752270774, 0.0395105613218457, 0.03971855511296898, 0.04041103223601581, 0.041332474767204586, 0.04145556689736292, 0.041995100030754656, 0.042126008245035804, 0.04288330768140199, 0.043131441504077765, 0.04358517057211593, 0.043754134719836836, 0.04399482479013322, 0.04379497870491938, 0.0440395504599288, 0.044049624058157585, 0.04453460009816076, 0.04484325724537965, 0.045415385057034297, 0.04526696378703572, 0.04539629909956416, 0.045046264323280745, 0.04538933870720279, 0.04529316546156392, 0.04509904845050936, 0.0449939818698821, 0.044325922381355465, 0.044701279712331454, 0.04453762843709911, 0.044375277957491056, 0.0438988380634901, 0.04381781086107446, 0.04399834726464415, 0.04366352449065363, 0.04375375545644181, 0.04367714694744908, 0.043320935380651855, 0.04314399354116587, 0.04301799964214493, 0.043363537131237785, 0.043680877744641154, 0.043416604172844105, 0.043514011531944397, 0.0433994847463198, 0.04367918021653891, 0.04339486517154, 0.04302186287631856, 0.04353978475173946, 0.04298365807452491, 0.043131168143683535, 0.04285393145043824, 0.04328665191165337, 0.04329992882169488, 0.0425072126386746, 0.04309517422818059, 0.04295702318287223, 0.043251199190169023, 0.042966059590015156, 0.04302396719324151, 0.042813275189582514, 0.04301758097073884, 0.0428147622808318, 0.04298231596449692, 0.04272092705797397, 0.04284458688506298, 0.04293161504127046, 0.04290639624671279, 0.04279003984170131, 0.042706865047608226, 0.04241066857415512, 0.041948553218786336, 0.04189516259606039, 0.04180477212360369, 0.04177921632927091, 0.042067152764801004, 0.04139092600978513, 0.04119152413884346, 0.041226307207888536, 0.04197908532042031, 0.0411380958979676, 0.04072369638670554, 0.040401487331952354, 0.04083905700796229, 0.040610457054282116, 0.04029036378170151, 0.039678514105082316, 0.04035315161252774, 0.040605190294704656, 0.040843444878808574, 0.04069236513181952, 0.041095465896682254, 0.041005445296997727, 0.04152496204403671, 0.04110311985929468, 0.042019177837004665, 0.04179961043420122, 0.04421592523990828, 0.04589332498040919, 0.047696941617065586, 0.04811309975139899, 0.0506918866720508, 0.052494675841298535, 0.054013767194016724, 0.056504758111081965, 0.05733529814434519, 0.06129275387448785, 0.06303096251225128, 0.06418848058197886, 0.06646335807201026, 0.06856107213713719, 0.06987208075054693, 0.07169388371940089, 0.07460067063535553, 0.07754666596017794, 0.07949747806702061, 0.08069450334071755, 0.08356093821556536, 0.0854414490718935, 0.0876157470680668, 0.08954503287336281, 0.09170685579398734, 0.09220775264722891, 0.09385654090269557, 0.09489856314166423, 0.09680550601291388, 0.09818163224286751, 0.09923510645782496, 0.09977806030700918, 0.10162416410010998, 0.10187496341887221, 0.10276235638036503, 0.10201805612948638, 0.1038764859787545, 0.103067839410992, 0.09789480613299467, 0.09867591653959876, 0.10077690571887883, 0.10667360628682257, 0.10726501210689417, 0.10814070183287906, 0.10788945866231399, 0.10774575344780221, 0.10796275996297824, 0.10535873780656471, 0.10564846145491748, 0.10488849632598886, 0.10823553154278438, 0.10555888455163587, 0.10839408532368693, 0.1081301260628413, 0.10669587069717529, 0.10699387245526536, 0.10855525194672867, 0.10843488089013784, 0.10984297867780855, 0.10872980956132823, 0.10732326138671475, 0.10932432352079031, 0.10902064230741872, 0.10965691621494054, 0.10743975287037467, 0.11068070465768494, 0.10934581867890154, 0.1101303346276854, 0.10584135275347621, 0.10892147059574624, 0.10781789744412959, 0.10981372891084756, 0.10706665251938524, 0.10911761977645722, 0.11106446761978625, 0.1062805806303496, 0.11049222241279787, 0.10657157935501728, 0.11168351355272373, 0.10791156135598239, 0.1123111462115352, 0.11000819660035117, 0.1123461968786427, 0.11329859974558518, 0.1121713264175676, 0.11155956566842264, 0.11172104976615153, 0.11019907025226718, 0.1098735722271686, 0.11270508800401802, 0.11143408377658409, 0.11171870972174641, 0.1124325793300319, 0.11238864611788837, 0.11448709042333938, 0.11397585945314974, 0.11124609913799671, 0.11164016461623413, 0.10986509924775603, 0.11061513047157343, 0.11284131214363807, 0.11625549718975556, 0.11276471093276896, 0.11477612722727071, 0.1140299378253952, 0.11610654471032658, 0.11456446535158298, 0.11593770125943972, 0.11070020994043325, 0.11400761234005062, 0.11540638608373091, 0.11170654223410786, 0.11178384652267741, 0.1138906740032229, 0.11224175269298964, 0.1164927791412542, 0.1117190707534257, 0.1081660146135573, 0.11311048689399084, 0.11116806074450611, 0.11638104580497258, 0.10945130942502779, 0.11207715719676554, 0.10660908221214495, 0.11163885496404066, 0.11031917889153008, 0.0983990896580773, 0.09608027455748434, 0.11260303972243313, 0.115948179873712, 0.11218161599199243, 0.1053954964026169, 0.10108003938866769, 0.10363749708608522, 0.1069723827887826, 0.10113414268560822, 0.08353909837101207, 0.11587935958435058, 0.10265698747651056, 0.0937746004128971, 0.11525163890497596, 0.1208967659322421, 0.10301556581194914, 0.10478786820688071, 0.08068119848938435, 0.10836095107784625, 0.08974917426666904, 0.10689299118068632, 0.11713647108026023, 0.10772245316060872, 0.10964082370103999, 0.12460531196458788, 0.09337212089325755, 0.10320888859043717, 0.09952407809551556, 0.1140001305341348, 0.0856518421636191, 0.09117408166273484, 0.10430611326736765, 0.11795890174359587, 0.11793516545964394, 0.09169889884084266, 0.10030545120417729, 0.11459935716768674, 0.11690026600357577, 0.11322530937678764, 0.12078767227084221, 0.11708254657974017, 0.1022814527157917, 0.11141125394880964, 0.090278755818621, 0.07883608553600743, 0.07483037791917678, 0.10792729406352741, 0.10066613766500492, 0.10084732531786489, 0.09393415883171835
