View In:
ArcGIS JavaScript
ArcGIS Online Map Viewer
ArcGIS Earth
Service Description: The RasterRendering service is a multi-tenant raster rendering provider.
Name: Hosted/nitf_test
Description:
Single Fused Map Cache: false
Extent:
XMin: -122.57133074993884
YMin: 37.648612625753834
XMax: -122.34618288102772
YMax: 37.80230741218533
Spatial Reference: 4326
(4326)
VCSWkid(115700)
LatestVCSWkid(115700)
Initial Extent:
XMin: -122.57133074993884
YMin: 37.648612625753834
XMax: -122.34618288102772
YMax: 37.80230741218533
Spatial Reference: 4326
(4326)
VCSWkid(115700)
LatestVCSWkid(115700)
Full Extent:
XMin: -122.57133074993884
YMin: 37.648612625753834
XMax: -122.34618288102772
YMax: 37.80230741218533
Spatial Reference: 4326
(4326)
VCSWkid(115700)
LatestVCSWkid(115700)
Pixel Size X: 6.523378017938297E-6
Pixel Size Y: 4.887267439312323E-6
Band Count: 1
Pixel Type: U16
RasterFunction Infos: {"rasterFunctionInfos": [{
"name": "None",
"description": "",
"help": ""
}]}
Mensuration Capabilities: Basic,Height,Base-Top Height,Base-Top Shadow Height,Top-Top Shadow Height,Shadow
Inspection Capabilities:
Has Histograms: false
Has Colormap: false
Has Multi Dimensions : false
Rendering Rule:
Min Scale: 0
Max Scale: 0
Copyright Text:
Service Data Type: esriImageServiceDataTypeGeneric
Min Values: N/A
Max Values: N/A
Mean Values: N/A
Standard Deviation Values: N/A
Object ID Field:
Fields:
None
Default Mosaic Method: Center
Allowed Mosaic Methods:
SortField:
SortValue: null
Mosaic Operator: First
Default Compression Quality: 75
Default Resampling Method: Bilinear
Max Record Count: 1000
Max Image Height: 4100
Max Image Width: 15000
Max Download Image Count: 20
Max Mosaic Image Count: 20
Allow Raster Function: true
Allow Copy: true
Allow Analysis: true
Allow Compute TiePoints: false
Supports Statistics: false
Supports Advanced Queries: false
Use StandardizedQueries: true
Raster Type Infos:
Name: Raster Dataset
Description: Supports all ArcGIS Raster Datasets
Help:
Has Raster Attribute Table: false
Edit Fields Info: null
Ownership Based AccessControl For Rasters: null
Child Resources:
Info
Statistics
Key Properties
Legend
Raster Function Infos
Supported Operations:
Export Image
Identify
Measure
Compute Histograms
Compute Statistics Histograms
Get Samples
Compute Class Statistics
Query Boundary
Compute Pixel Location
Compute Angles
Validate
Project