View In:
ArcGIS JavaScript
ArcGIS Online Map Viewer
ArcGIS Earth
Service Description: JHall_Data/EelRiver_Monthly_HBCM_Full
Name: JHall_Data/EelRiver_Monthly_HBCM_Full
Description:
Single Fused Map Cache: false
Extent:
XMin: -391235.836354
YMin: 128236.66581099998
XMax: -211145.83635400003
YMax: 315346.665811
Spatial Reference: 3310
(3310)
LatestVCSWkid(0)
Initial Extent:
XMin: -391235.836354
YMin: 128236.66581099998
XMax: -211145.83635400003
YMax: 315346.665811
Spatial Reference: 3310
(3310)
LatestVCSWkid(0)
Full Extent:
XMin: -391235.836354
YMin: 128236.66581099998
XMax: -211145.83635400003
YMax: 315346.665811
Spatial Reference: 3310
(3310)
LatestVCSWkid(0)
Time Info:
Start Time Field: StdTime
End Time Field: StdTime
Time Extent:
[1895/10/02 00:00:00 UTC, 2019/09/02 00:00:00 UTC]
Time Reference:
N/A
Pixel Size X: 270.0
Pixel Size Y: 270.0
Band Count: 1
Pixel Type: F32
RasterFunction Infos: {"rasterFunctionInfos": [{
"name": "None",
"description": "Make a Raster or Raster Dataset into a Function Raster Dataset.",
"help": ""
}]}
Mensuration Capabilities: Basic
Inspection Capabilities:
Has Histograms: true
Has Colormap: false
Has Multi Dimensions : true
Rendering Rule:
Min Scale: 0
Max Scale: 0
Resampling: false
Copyright Text:
Service Data Type: esriImageServiceDataTypeGeneric
Min Values: 0
Max Values: 194.60000610351562
Mean Values: 53.1191117619935
Standard Deviation Values: 46.63958035528738
Object ID Field:
Fields:
None
Default Mosaic Method: Center
Allowed Mosaic Methods:
SortField:
SortValue: null
Mosaic Operator: First
Default Compression Quality: 75
Default Resampling Method: Bilinear
Max Record Count: null
Max Image Height: 4100
Max Image Width: 15000
Max Download Image Count: null
Max Mosaic Image Count: null
Allow Raster Function: true
Allow Copy: true
Allow Analysis: true
Allow Compute TiePoints: false
Supports Statistics: false
Supports Advanced Queries: false
Use StandardizedQueries: true
Raster Type Infos:
Name: Raster Dataset
Description: Supports all ArcGIS Raster Datasets
Help:
Has Raster Attribute Table: false
Edit Fields Info: null
Ownership Based AccessControl For Rasters: null
Child Resources:
Info
Histograms
Statistics
Key Properties
Legend
Raster Function Infos
Multidimensional Info
Slices
Supported Operations:
Export Image
Identify
Add Rasters
Update Raster
Delete Rasters
Measure
Compute Histograms
Compute Statistics Histograms
Get Samples
Compute Class Statistics
Query Boundary
Compute Pixel Location
Compute Angles
Validate
Project