View In:
ArcGIS JavaScript
ArcGIS Online Map Viewer
ArcGIS Earth
Service Description: JHall_Data/LandCART_Multivariate_MD
Name: JHall_Data/LandCART_Multivariate_MD
Description:
Single Fused Map Cache: false
Extent:
XMin: -1.18968000013E7
YMin: 3824959.9222000027
XMax: -1.18560900013E7
YMax: 3872809.922200002
Spatial Reference: 102100
(3857)
LatestVCSWkid(0)
Initial Extent:
XMin: -1.18968000013E7
YMin: 3824959.9222000027
XMax: -1.18560900013E7
YMax: 3872809.922200002
Spatial Reference: 102100
(3857)
LatestVCSWkid(0)
Full Extent:
XMin: -1.18968000013E7
YMin: 3824959.9222000027
XMax: -1.18560900013E7
YMax: 3872809.922200002
Spatial Reference: 102100
(3857)
LatestVCSWkid(0)
Time Info:
Start Time Field: StdTime
End Time Field: StdTime
Time Extent:
[1986/01/01 00:00:00 UTC, 2023/01/01 00:00:00 UTC]
Time Reference:
N/A
Pixel Size X: 30.0
Pixel Size Y: 29.999999999999417
Band Count: 1
Pixel Type: F32
RasterFunction Infos: {"rasterFunctionInfos": [
{
"name": "None",
"description": "Make a Raster or Raster Dataset into a Function Raster Dataset.",
"help": ""
},
{
"name": "Annual Herbaceous Grasses CRF",
"description": "subsets multiband landCART to AFG band",
"help": ""
},
{
"name": "Bare Ground CRF",
"description": "subsets multiband landCART to BGR band",
"help": ""
},
{
"name": "Litter CRF",
"description": "subsets multiband landCART to LTR band",
"help": ""
},
{
"name": "Perennial Herbaceous Grasses CRF",
"description": "subsets multiband landCART to PHG band",
"help": ""
},
{
"name": "Shrubs CRF",
"description": "subsets multiband landCART to SHR band",
"help": ""
},
{
"name": "Trees CRF",
"description": "subsets multiband landCART to BGR band",
"help": ""
},
{
"name": "Woody Shrubs CRF",
"description": "subsets multiband landCART to Woody band",
"help": ""
}
]}
Mensuration Capabilities: Basic
Inspection Capabilities:
Has Histograms: true
Has Colormap: false
Has Multi Dimensions : true
Rendering Rule:
Min Scale: 0
Max Scale: 0
Copyright Text:
Service Data Type: esriImageServiceDataTypeGeneric
Min Values: 0.041015625
Max Values: 20.958984375
Mean Values: 1.9993868226679186
Standard Deviation Values: 1.424141462213909
Object ID Field: OBJECTID
Fields:
-
OBJECTID
(
type: esriFieldTypeOID, alias: OBJECTID
)
-
Shape
(
type: esriFieldTypeGeometry, alias: Shape
)
-
Name
(
type: esriFieldTypeString, alias: Name, length: 200
)
-
MinPS
(
type: esriFieldTypeDouble, alias: MinPS
)
-
MaxPS
(
type: esriFieldTypeDouble, alias: MaxPS
)
-
LowPS
(
type: esriFieldTypeDouble, alias: LowPS
)
-
HighPS
(
type: esriFieldTypeDouble, alias: HighPS
)
-
Category
(
type: esriFieldTypeInteger, alias: Category
, Coded Values:
[0: Unknown]
, [1: Primary]
, [2: Overview]
, ...6 more...
)
-
Tag
(
type: esriFieldTypeString, alias: Tag, length: 100
)
-
GroupName
(
type: esriFieldTypeString, alias: GroupName, length: 100
)
-
ProductName
(
type: esriFieldTypeString, alias: ProductName, length: 100
)
-
CenterX
(
type: esriFieldTypeDouble, alias: CenterX
)
-
CenterY
(
type: esriFieldTypeDouble, alias: CenterY
)
-
ZOrder
(
type: esriFieldTypeInteger, alias: ZOrder
)
-
StdTime
(
type: esriFieldTypeDate, alias: Standard Time, length: 8
)
-
Dimensions
(
type: esriFieldTypeString, alias: Dimensions, length: 50
)
-
Variable
(
type: esriFieldTypeString, alias: Variable, length: 50
)
-
Shape_Length
(
type: esriFieldTypeDouble, alias: Shape_Length
)
-
Shape_Area
(
type: esriFieldTypeDouble, alias: Shape_Area
)
Default Mosaic Method: ByAttribute
Allowed Mosaic Methods: ByAttribute,None,NorthWest,Center,LockRaster,Nadir,Viewpoint,Seamline
SortField: StdTime
SortValue: 0
Mosaic Operator: First
Default Compression Quality: 75
Default Resampling Method: Bilinear
Max Record Count: 1000
Max Image Height: 4100
Max Image Width: 15000
Max Download Image Count: 20
Max Mosaic Image Count: 20
Allow Raster Function: true
Allow Copy: true
Allow Analysis: true
Allow Compute TiePoints: false
Supports Statistics: true
Supports Advanced Queries: true
Use StandardizedQueries: true
Raster Type Infos:
Name: Raster Dataset
Description: Supports all ArcGIS Raster Datasets
Help:
Has Raster Attribute Table: false
Edit Fields Info: null
Ownership Based AccessControl For Rasters: null
Child Resources:
Info
Histograms
Statistics
Key Properties
Legend
Raster Function Infos
Multidimensional Info
Slices
Supported Operations:
Export Image
Query
Identify
Download Rasters
Get Image Url
Measure
Compute Histograms
Compute Statistics Histograms
Get Samples
Compute Class Statistics
Query GPS Info
Find Images
Image to Map
Map to Image
Measure from Image
Image to Map Multiray
Query Boundary
Compute Pixel Location
Compute Angles
Validate
Project