View In:
ArcGIS JavaScript
ArcGIS Online Map Viewer
ArcGIS Earth
Service Description: JHall_Data/PACE_SR
Name: JHall_Data/PACE_SR
Description:
Single Fused Map Cache: false
Extent:
XMin: -180.0
YMin: -90.00000000000001
XMax: 179.99999491432584
YMax: 89.9999974571629
Spatial Reference: 4326
(4326)
LatestVCSWkid(0)
Initial Extent:
XMin: -180.0
YMin: -90.00000000000001
XMax: 179.99999491432584
YMax: 89.9999974571629
Spatial Reference: 4326
(4326)
LatestVCSWkid(0)
Full Extent:
XMin: -180.0
YMin: -90.00000000000001
XMax: 179.99999491432584
YMax: 89.9999974571629
Spatial Reference: 4326
(4326)
LatestVCSWkid(0)
Time Info:
Start Time Field: StdTime
End Time Field: StdTime
Time Extent:
[2024/04/01 00:00:00 UTC, 2024/04/10 00:00:00 UTC]
Time Reference:
N/A
Pixel Size X: 0.04166666607804697
Pixel Size Y: 0.04166666607804697
Band Count: 122
Pixel Type: F32
RasterFunction Infos: {"rasterFunctionInfos": [{
"name": "None",
"description": "Make a Raster or Raster Dataset into a Function Raster Dataset.",
"help": ""
}]}
Mensuration Capabilities: Basic
Inspection Capabilities:
Has Histograms: true
Has Colormap: false
Has Multi Dimensions : true
Rendering Rule:
Min Scale: 0
Max Scale: 0
Copyright Text:
Service Data Type: esriImageServiceDataTypeGeneric
Min Values: -0.05000000074505806, -0.05000000074505806, -0.05000000074505806, -0.05000000074505806, -0.05000000074505806, -0.05000000074505806, -0.05000000074505806, -0.05000000074505806, -0.05000000074505806, -0.05000000074505806, -0.05000000074505806, -0.05000000074505806, -0.05000000074505806, -0.05000000074505806, -0.05000000074505806, -0.05000000074505806, -0.05000000074505806, -0.05000000074505806, -0.05000000074505806, -0.05000000074505806, -0.05000000074505806, -0.05000000074505806, -0.05000000074505806, -0.05000000074505806, -0.05000000074505806, -0.05000000074505806, -0.05000000074505806, -0.05000000074505806, -0.05000000074505806, -0.05000000074505806, -0.05000000074505806, -0.05000000074505806, -0.05000000074505806, -0.05000000074505806, -0.05000000074505806, -0.05000000074505806, -0.05000000074505806, -0.049939852207899094, -0.04920384660363197, -0.046558789908885956, -0.04409818351268768, -0.04190865159034729, -0.03997493162751198, -0.03763873875141144, -0.03553375229239464, -0.033048491925001144, -0.030882984399795532, -0.029645150527358055, -0.03537898510694504, -0.021900389343500137, -0.020770205184817314, -0.01985654979944229, -0.018751412630081177, -0.01831584982573986, -0.017525488510727882, -0.017200086265802383, -0.025713667273521423, -0.03210694342851639, -0.032448895275592804, -0.03091793693602085, -0.029491238296031952, -0.02675754204392433, -0.019597355276346207, -0.014663733541965485, -0.014406449161469936, -0.01410882268100977, -0.013809267431497574, -0.013516400009393692, -0.013221381232142448, -0.012899397872388363, -0.012578468769788742, -0.012437001802027225, -0.02576250210404396, -0.02510247938334942, -0.024716123938560486, -0.023540597409009933, -0.02178274467587471, -0.019735239446163177, -0.01866585947573185, -0.022787651047110558, -0.0240650437772274, -0.02328471839427948, -0.022516855970025063, -0.020875126123428345, -0.017811236903071404, -0.013376523740589619, -0.007291349582374096, -0.007144213188439608, -0.0070206704549491405, -0.006863284856081009, -0.0067499070428311825, -0.005702332593500614, -0.005633877124637365, -0.005431817378848791, -0.005245237145572901, -0.013597073033452034, -0.012923931702971458, -0.013050969690084457, -0.012336475774645805, -0.012601256370544434, -0.014217665418982506, -0.01392933540046215, -0.013530896045267582, -0.013123401440680027, -0.012369837611913681, -0.010350892320275307, -0.00699476758018136, -0.004437943920493126, -0.0033032605424523354, -0.0026898712385445833, -0.0025567710399627686, -0.0023822239600121975, -0.0022019606549292803, -0.0019555678591132164, -0.001984840724617243, -0.005394150037318468, -0.009534003213047981, -0.001638111425563693, -0.0011603834573179483, -8.639242150820792E-4, -3.2707140780985355E-4, -2.815500774886459E-4
Max Values: 1, 1, 1, 1, 1, 1, 1, 1, 1, 1, 1, 1, 1, 1, 1, 1, 1, 1, 1, 1, 1, 1, 1, 1, 1, 1, 1, 1, 1, 1, 1, 1, 1, 1, 1, 1, 1, 1, 1, 1, 1, 1, 1, 1, 1, 1, 1, 1, 1, 1, 1, 1, 1, 1, 1, 1, 1, 1, 1, 1, 1, 1, 1, 1, 1, 1, 1, 1, 1, 1, 1, 1, 1, 1, 1, 1, 1, 1, 1, 1, 1, 1, 1, 1, 1, 1, 1, 1, 1, 1, 1, 1, 1, 1, 1, 1, 1, 1, 1, 1, 1, 1, 1, 1, 1, 1, 1, 1, 1, 1, 1, 1, 1, 1, 1, 1, 1, 1, 1, 0.7885798215866089, 0.883343517780304, 0.9475522637367249
Mean Values: 0.32911258074853666, 0.327207232631709, 0.32618618222883816, 0.32225386565102654, 0.31713112603856913, 0.3097739072547804, 0.30882068381447997, 0.30794605860726526, 0.30812201949309265, 0.30731802703660904, 0.3070964688746335, 0.3064406933067627, 0.3048422552695121, 0.30393347809617743, 0.30318226829882233, 0.30239234834678624, 0.30151767735638874, 0.30114108298259945, 0.30053397108651725, 0.29953963196533134, 0.2986704455048599, 0.2978230309316216, 0.29721859832949094, 0.2967077426522518, 0.29566313329966465, 0.2942799231239903, 0.29209539203431456, 0.2914881213143453, 0.2915845197593126, 0.2911258447755608, 0.28964001062723216, 0.2884004522482201, 0.2879503597369019, 0.2865327346500665, 0.28539336764742496, 0.285589019892839, 0.284939837716869, 0.2844040112064211, 0.28345850503920356, 0.28399716589883267, 0.28396484478213835, 0.28371400468067987, 0.28303492212944753, 0.2827850293495017, 0.28181611560326103, 0.27930077426799704, 0.27537189220354363, 0.2773509517552595, 0.2814464582515273, 0.27947635422459466, 0.27829056357512655, 0.27582555754398586, 0.27277952575970293, 0.2766649938244482, 0.2785095577678749, 0.27903012278812267, 0.27955016406662364, 0.27960302064896886, 0.279192798962893, 0.27926275658369404, 0.2795840501363215, 0.27898197768118055, 0.27788704229967687, 0.27673454293250094, 0.2757006255061761, 0.2751742718932712, 0.2747164112264223, 0.2743739058419781, 0.2741795337628517, 0.2738714797548818, 0.2737628803121994, 0.2726205599336225, 0.2768194705421902, 0.2785929525146758, 0.2800061675262181, 0.2811339133529357, 0.28218962671304887, 0.2830344178514925, 0.2840084482137019, 0.285098726285232, 0.2833956050672619, 0.28503463922119415, 0.2880182122066899, 0.2908951100033744, 0.291754500229884, 0.2918116186901689, 0.2917785769144351, 0.291698972746945, 0.2916501782967071, 0.29141326515191357, 0.290967452422763, 0.2919048586453213, 0.29096069050319195, 0.2904858128710693, 0.2902937736507509, 0.2901552332082199, 0.28997907090448843, 0.2905122254969226, 0.2907508886401127, 0.29124839386506396, 0.2902483777787735, 0.2887880157076223, 0.2905849008806976, 0.2919235274509136, 0.2940268942121779, 0.293436399441697, 0.2922223166607776, 0.29150218499502023, 0.2908557448983904, 0.290593852953062, 0.289271306283662, 0.2879271025375148, 0.2865133967527788, 0.28450549477959436, 0.28345682254963817, 0.2828663828047962, 0.28310646975026393, 0.25207050408193965, 0.19183130043580834, 0.10932813861141029, 0.0815415921144941, 0.10246505742313125
Standard Deviation Values: 0.4017417963829763, 0.4004941857839565, 0.39799631774533734, 0.3942072129290479, 0.3886411015011302, 0.3792130152959857, 0.3787192328208665, 0.3778143460180875, 0.3778991936789135, 0.37759607946331986, 0.3771043829655271, 0.37731055242151684, 0.37691063389583235, 0.3766613395177233, 0.37623785547161775, 0.3758224466310315, 0.3754670218283108, 0.37482438791418315, 0.3746267259769607, 0.374086327634848, 0.37361172135714704, 0.3733996623908361, 0.37284037070175774, 0.3719553090098724, 0.37063656655589694, 0.36894310057187496, 0.36617572584678565, 0.3656014150001914, 0.3662750348502184, 0.36592900445370496, 0.3647320840545974, 0.363860902767849, 0.36353133513848945, 0.3629354035465653, 0.3618958207459813, 0.3611723715114288, 0.35929661830801396, 0.3575533160329982, 0.3555551629784814, 0.3554929390714548, 0.3547270571411258, 0.3538492230813473, 0.3522276067732801, 0.3510579733525321, 0.34897629190502016, 0.34460597914781904, 0.3387201254772342, 0.3417534313210836, 0.3475440847246296, 0.34364411358391156, 0.3416412130949738, 0.3376717746785331, 0.3328667906394515, 0.3379201264934366, 0.34052614565273004, 0.3412405252515719, 0.34176371233612296, 0.3414539789226046, 0.34071625997834265, 0.3408148783163674, 0.3411868544735928, 0.34034944902905073, 0.3389366629943805, 0.3374999551129701, 0.33618951191144325, 0.33545528005634323, 0.33478008794404407, 0.33420561539362165, 0.33380614311585866, 0.33321706615883645, 0.33281930545745664, 0.33127435357825835, 0.3307967999148441, 0.33156267320879207, 0.33179753420981734, 0.3318688261414641, 0.3318461474512363, 0.3315333491930874, 0.33133366192768826, 0.33124334959463086, 0.32380256740500685, 0.32401175553901473, 0.32541444990427637, 0.32823730931975154, 0.32780999406940087, 0.32709425963424227, 0.32624796155770874, 0.32542703035468995, 0.32473911345445755, 0.3239081081360385, 0.3228861178336366, 0.3218985149888256, 0.32023074279601915, 0.3189400919386605, 0.31822448669980125, 0.3173677963312785, 0.31655198459385875, 0.3168098864441147, 0.31676218657911126, 0.3172565417415929, 0.3149234899534526, 0.31188425359044714, 0.3142510650453092, 0.3159602159746463, 0.31927577903025695, 0.31834150422243196, 0.3164319237001405, 0.31519108713708716, 0.3141093128397524, 0.3134508907247431, 0.31140050598921853, 0.30932692396796785, 0.30713322037661067, 0.30431205738785694, 0.3026417920631153, 0.3016273504556797, 0.30187810346594746, 0.2547457848116735, 0.18220897376838652, 0.12878623851542767, 0.11190086156875927, 0.11191624176687046
Object ID Field:
Fields:
None
Default Mosaic Method: Center
Allowed Mosaic Methods:
SortField:
SortValue: null
Mosaic Operator: First
Default Compression Quality: 75
Default Resampling Method: Bilinear
Max Record Count: null
Max Image Height: 15000
Max Image Width: 15000
Max Download Image Count: null
Max Mosaic Image Count: null
Allow Raster Function: true
Allow Copy: true
Allow Analysis: true
Allow Compute TiePoints: false
Supports Statistics: false
Supports Advanced Queries: false
Use StandardizedQueries: true
Raster Type Infos:
Name: Raster Dataset
Description: Supports all ArcGIS Raster Datasets
Help:
Has Raster Attribute Table: false
Edit Fields Info: null
Ownership Based AccessControl For Rasters: null
Child Resources:
Info
Histograms
Statistics
Key Properties
Legend
Raster Function Infos
Multidimensional Info
Slices
Supported Operations:
Export Image
Identify
Measure
Compute Histograms
Compute Statistics Histograms
Get Samples
Compute Class Statistics
Query Boundary
Compute Pixel Location
Compute Angles
Validate
Project