View In:
ArcGIS JavaScript
ArcGIS Online Map Viewer
ArcGIS Earth
Service Description: SEGI_SPOT_NDVI_20230719
Name: SEGI_SPOT_NDVI_20230719
Description:
Single Fused Map Cache: false
Extent:
XMin: -1.32474213914E7
YMin: 4340268.218539703
XMax: -1.3201260909217723E7
YMax: 4407551.574100003
Spatial Reference: 102100
(3857)
LatestVCSWkid(0)
Initial Extent:
XMin: -1.32474213914E7
YMin: 4340268.218539703
XMax: -1.3201260909217723E7
YMax: 4407551.574100003
Spatial Reference: 102100
(3857)
LatestVCSWkid(0)
Full Extent:
XMin: -1.32474213914E7
YMin: 4340268.218539703
XMax: -1.3201260909217723E7
YMax: 4407551.574100003
Spatial Reference: 102100
(3857)
LatestVCSWkid(0)
Pixel Size X: 1.5461040387954639
Pixel Size Y: 1.5461040387954397
Band Count: 1
Pixel Type: F32
RasterFunction Infos: {"rasterFunctionInfos": [
{
"name": "Classfied NDVI",
"description": "Normalized Difference Vegetation Index",
"help": ""
},
{
"name": "None",
"description": "Make a Raster or Raster Dataset into a Function Raster Dataset.",
"help": ""
}
]}
Mensuration Capabilities: Basic
Inspection Capabilities:
Has Histograms: true
Has Colormap: false
Has Multi Dimensions : false
Rendering Rule:
Min Scale: 0
Max Scale: 0
Copyright Text:
Service Data Type: esriImageServiceDataTypeScientific
Min Values: -0.5429480671882629
Max Values: 0.9994267821311951
Mean Values: 0.5443626219361326
Standard Deviation Values: 0.21255572194076697
Object ID Field:
Fields:
None
Default Mosaic Method: Center
Allowed Mosaic Methods:
SortField:
SortValue: null
Mosaic Operator: First
Default Compression Quality: 75
Default Resampling Method: Bilinear
Max Record Count: null
Max Image Height: 4100
Max Image Width: 15000
Max Download Image Count: null
Max Mosaic Image Count: null
Allow Raster Function: true
Allow Copy: true
Allow Analysis: true
Allow Compute TiePoints: false
Supports Statistics: false
Supports Advanced Queries: false
Use StandardizedQueries: true
Raster Type Infos:
Name: Raster Dataset
Description: Supports all ArcGIS Raster Datasets
Help:
Has Raster Attribute Table: false
Edit Fields Info: null
Ownership Based AccessControl For Rasters: null
Child Resources:
Info
Histograms
Statistics
Key Properties
Legend
Raster Function Infos
Supported Operations:
Export Image
Identify
Measure
Compute Histograms
Compute Statistics Histograms
Get Samples
Compute Class Statistics
Query Boundary
Compute Pixel Location
Compute Angles
Validate
Project