View In:
ArcGIS JavaScript
ArcGIS Online Map Viewer
ArcGIS Earth
Service Description: bc/EsriBuildingE_DSM
Name: bc/EsriBuildingE_DSM
Description:
Single Fused Map Cache: false
Extent:
XMin: 481648.8987484049
YMin: 3768534.9245514725
XMax: 481961.4951359553
YMax: 3768741.4190977467
Spatial Reference: 32611
(32611)
VCSWkid(5773)
LatestVCSWkid(5773)
Initial Extent:
XMin: 481648.8987484049
YMin: 3768534.9245514725
XMax: 481961.4951359553
YMax: 3768741.4190977467
Spatial Reference: 32611
(32611)
VCSWkid(5773)
LatestVCSWkid(5773)
Full Extent:
XMin: 481648.8987484049
YMin: 3768534.9245514725
XMax: 481961.4951359553
YMax: 3768741.4190977467
Spatial Reference: 32611
(32611)
VCSWkid(5773)
LatestVCSWkid(5773)
Time Info:
Start Time Field: StdTime
End Time Field: StdTime
Time Extent:
[2018/10/30 00:00:00 UTC, 2021/02/25 00:00:00 UTC]
Time Reference:
N/A
Pixel Size X: 0.016941057205200043
Pixel Size Y: 0.0169410572052005
Band Count: 1
Pixel Type: F32
RasterFunction Infos: {"rasterFunctionInfos": [
{
"name": "None",
"description": "Make a Raster or Raster Dataset into a Function Raster Dataset.",
"help": ""
},
{
"name": "Aspect-Slope",
"description": "Aspect-Slope",
"help": ""
},
{
"name": "Contour (1)",
"description": "1 ft or m (units based on input)",
"help": ""
},
{
"name": "Contour (2)",
"description": "2 ft or m (units based on input)",
"help": ""
},
{
"name": "Contour (5)",
"description": "5 ft or m (units based on input)",
"help": ""
},
{
"name": "Hillshade (Multidirectional)",
"description": "Hillshade (Multidirectional)",
"help": ""
},
{
"name": "Hillshade",
"description": "Hillshade (Traditional)",
"help": ""
},
{
"name": "Slope (Colormap)",
"description": "Slope with Colormap Applied",
"help": ""
},
{
"name": "Slope",
"description": "Slope",
"help": ""
},
{
"name": "StDev with DRA",
"description": "Stretch applied",
"help": ""
},
{
"name": "Time",
"description": "A raster function template.",
"help": ""
}
]}
Mensuration Capabilities: Basic
Inspection Capabilities:
Has Histograms: true
Has Colormap: false
Has Multi Dimensions : true
Rendering Rule:
Min Scale: 0
Max Scale: 0
Copyright Text:
Service Data Type: esriImageServiceDataTypeGeneric
Min Values: 387.4767616391182
Max Values: 410.9398338198662
Mean Values: 391.7649307765794
Standard Deviation Values: 2.187811061960822
Object ID Field: OBJECTID
Fields:
-
OBJECTID
(
type: esriFieldTypeOID, alias: OBJECTID
)
-
Shape
(
type: esriFieldTypeGeometry, alias: Shape
)
-
Name
(
type: esriFieldTypeString, alias: Name, length: 200
)
-
MinPS
(
type: esriFieldTypeDouble, alias: MinPS
)
-
MaxPS
(
type: esriFieldTypeDouble, alias: MaxPS
)
-
LowPS
(
type: esriFieldTypeDouble, alias: LowPS
)
-
HighPS
(
type: esriFieldTypeDouble, alias: HighPS
)
-
Category
(
type: esriFieldTypeInteger, alias: Category
, Coded Values:
[0: Unknown]
, [1: Primary]
, [2: Overview]
, ...6 more...
)
-
Tag
(
type: esriFieldTypeString, alias: Tag, length: 100
)
-
GroupName
(
type: esriFieldTypeString, alias: GroupName, length: 100
)
-
ProductName
(
type: esriFieldTypeString, alias: ProductName, length: 100
)
-
CenterX
(
type: esriFieldTypeDouble, alias: CenterX
)
-
CenterY
(
type: esriFieldTypeDouble, alias: CenterY
)
-
ZOrder
(
type: esriFieldTypeInteger, alias: ZOrder
)
-
Date
(
type: esriFieldTypeDate, alias: Date, length: 8
)
-
StdTime
(
type: esriFieldTypeDate, alias: Standard Time, length: 8
)
-
Dimensions
(
type: esriFieldTypeString, alias: Dimensions, length: 50
)
-
Variable
(
type: esriFieldTypeString, alias: Variable, length: 50
)
-
Shape_Length
(
type: esriFieldTypeDouble, alias: Shape_Length
)
-
Shape_Area
(
type: esriFieldTypeDouble, alias: Shape_Area
)
Default Mosaic Method: ByAttribute
Allowed Mosaic Methods: ByAttribute,NorthWest,Center,LockRaster,Nadir,Viewpoint,Seamline,None
SortField: StdTime
SortValue: 0
Mosaic Operator: First
Default Compression Quality: 75
Default Resampling Method: Bilinear
Max Record Count: 1000
Max Image Height: 4100
Max Image Width: 15000
Max Download Image Count: 20
Max Mosaic Image Count: 20
Allow Raster Function: true
Allow Copy: true
Allow Analysis: true
Allow Compute TiePoints: false
Supports Statistics: true
Supports Advanced Queries: true
Use StandardizedQueries: true
Raster Type Infos:
Name: Raster Dataset
Description: Supports all ArcGIS Raster Datasets
Help:
Has Raster Attribute Table: false
Edit Fields Info: null
Ownership Based AccessControl For Rasters: null
Child Resources:
Info
Histograms
Statistics
Key Properties
Legend
Raster Function Infos
Multidimensional Info
Slices
Supported Operations:
Export Image
Query
Identify
Measure
Compute Histograms
Compute Statistics Histograms
Get Samples
Compute Class Statistics
Query GPS Info
Find Images
Image to Map
Map to Image
Measure from Image
Image to Map Multiray
Query Boundary
Compute Pixel Location
Compute Angles
Validate
Project