View In:
ArcGIS JavaScript
ArcGIS Online Map Viewer
ArcGIS Earth
Service Description: bc/LakePowell_TopoBathy
Name: bc/LakePowell_TopoBathy
Description:
Single Fused Map Cache: false
Extent:
XMin: 387150.81350000016
YMin: 4022374.0000000014
XMax: 640958.8134999987
YMax: 4253374.0
Spatial Reference: 102059
(6341)
VCSWkid(5703)
LatestVCSWkid(5703)
Initial Extent:
XMin: 387150.81350000016
YMin: 4022374.0000000014
XMax: 640958.8134999987
YMax: 4253374.0
Spatial Reference: 102059
(6341)
VCSWkid(5703)
LatestVCSWkid(5703)
Full Extent:
XMin: 387150.81350000016
YMin: 4022374.0000000014
XMax: 640958.8134999987
YMax: 4253374.0
Spatial Reference: 102059
(6341)
VCSWkid(5703)
LatestVCSWkid(5703)
Pixel Size X: 0.999999999999994
Pixel Size Y: 0.999999999999994
Band Count: 1
Pixel Type: F32
RasterFunction Infos: {"rasterFunctionInfos": [
{
"name": "StDev with DRA",
"description": "Stretch applied",
"help": ""
},
{
"name": "None",
"description": "Make a Raster or Raster Dataset into a Function Raster Dataset.",
"help": ""
},
{
"name": "Aspect-Slope",
"description": "Aspect-Slope",
"help": ""
},
{
"name": "Contour (2)",
"description": "2 ft or m (units based on input)",
"help": ""
},
{
"name": "Contour (5)",
"description": "5 ft or m (units based on input)",
"help": ""
},
{
"name": "Contour (10)",
"description": "10 ft or m",
"help": ""
},
{
"name": "Contour (20)",
"description": "20 ft or m (units based on input)",
"help": ""
},
{
"name": "Contour (100)",
"description": "100 ft or m (units based on input)",
"help": ""
},
{
"name": "Hillshade (Multidirectional)",
"description": "Hillshade (Multidirectional)",
"help": ""
},
{
"name": "Hillshade",
"description": "Hillshade (Traditional)",
"help": ""
},
{
"name": "Slope",
"description": "Slope",
"help": ""
}
]}
Mensuration Capabilities: Basic
Inspection Capabilities:
Has Histograms: true
Has Colormap: false
Has Multi Dimensions : false
Rendering Rule:
Min Scale: 0
Max Scale: 0
Copyright Text:
Service Data Type: esriImageServiceDataTypeElevation
Min Values: 857.2517700195312
Max Values: 3512.599853515625
Mean Values: 1808.1294140852692
Standard Deviation Values: 403.51779629226263
Object ID Field: OBJECTID
Fields:
-
OBJECTID
(
type: esriFieldTypeOID, alias: OBJECTID
)
-
Shape
(
type: esriFieldTypeGeometry, alias: Shape
)
-
Name
(
type: esriFieldTypeString, alias: Name, length: 200
)
-
MinPS
(
type: esriFieldTypeDouble, alias: MinPS
)
-
MaxPS
(
type: esriFieldTypeDouble, alias: MaxPS
)
-
LowPS
(
type: esriFieldTypeDouble, alias: LowPS
)
-
HighPS
(
type: esriFieldTypeDouble, alias: HighPS
)
-
Category
(
type: esriFieldTypeInteger, alias: Category
, Coded Values:
[0: Unknown]
, [1: Primary]
, [2: Overview]
, ...6 more...
)
-
Tag
(
type: esriFieldTypeString, alias: Tag, length: 100
)
-
GroupName
(
type: esriFieldTypeString, alias: GroupName, length: 100
)
-
ProductName
(
type: esriFieldTypeString, alias: ProductName, length: 100
)
-
CenterX
(
type: esriFieldTypeDouble, alias: CenterX
)
-
CenterY
(
type: esriFieldTypeDouble, alias: CenterY
)
-
ZOrder
(
type: esriFieldTypeInteger, alias: ZOrder
)
-
Shape_Length
(
type: esriFieldTypeDouble, alias: Shape_Length
)
-
Shape_Area
(
type: esriFieldTypeDouble, alias: Shape_Area
)
Default Mosaic Method: Center
Allowed Mosaic Methods: Center,LockRaster,ByAttribute,Viewpoint,None
SortField:
SortValue: null
Mosaic Operator: Min
Default Compression Quality: 75
Default Resampling Method: Bilinear
Max Record Count: 1000
Max Image Height: 4100
Max Image Width: 15000
Max Download Image Count: 20
Max Mosaic Image Count: 20
Allow Raster Function: true
Allow Copy: true
Allow Analysis: true
Allow Compute TiePoints: false
Supports Statistics: true
Supports Advanced Queries: true
Use StandardizedQueries: true
Raster Type Infos:
Name: Raster Dataset
Description: Supports all ArcGIS Raster Datasets
Help:
Has Raster Attribute Table: false
Edit Fields Info: null
Ownership Based AccessControl For Rasters: null
Child Resources:
Info
Histograms
Statistics
Key Properties
Legend
Raster Function Infos
Supported Operations:
Export Image
Query
Identify
Measure
Compute Histograms
Compute Statistics Histograms
Get Samples
Compute Class Statistics
Query GPS Info
Find Images
Image to Map
Map to Image
Measure from Image
Image to Map Multiray
Query Boundary
Compute Pixel Location
Compute Angles
Validate
Project
Calculate Volume