View In:
ArcGIS JavaScript
ArcGIS Online Map Viewer
ArcGIS Earth
Service Description: bc/Thouare_topobathy
Name: bc/Thouare_topobathy
Description:
Single Fused Map Cache: false
Extent:
XMin: -159151.77070000023
YMin: 5984076.706978189
XMax: -158788.1176305277
YMax: 5984364.990500003
Spatial Reference: 102100
(3857)
LatestVCSWkid(0)
Initial Extent:
XMin: -159151.77070000023
YMin: 5984076.706978189
XMax: -158788.1176305277
YMax: 5984364.990500003
Spatial Reference: 102100
(3857)
LatestVCSWkid(0)
Full Extent:
XMin: -159151.77070000023
YMin: 5984076.706978189
XMax: -158788.1176305277
YMax: 5984364.990500003
Spatial Reference: 102100
(3857)
LatestVCSWkid(0)
Pixel Size X: 0.09995961227941794
Pixel Size Y: 0.0999596122795672
Band Count: 1
Pixel Type: F32
RasterFunction Infos: {"rasterFunctionInfos": [
{
"name": "None",
"description": "Make a Raster or Raster Dataset into a Function Raster Dataset.",
"help": ""
},
{
"name": "Aspect-Slope",
"description": "Aspect-Slope",
"help": ""
},
{
"name": "Contour (1)",
"description": "1 ft or m (units based on input)",
"help": ""
},
{
"name": "Contour (2)",
"description": "2 ft or m (units based on input)",
"help": ""
},
{
"name": "Contour (5)",
"description": "5 ft or m (units based on input)",
"help": ""
},
{
"name": "Hillshade (Multidirectional)",
"description": "Hillshade (Multidirectional)",
"help": ""
},
{
"name": "Hillshade",
"description": "Hillshade (Traditional)",
"help": ""
},
{
"name": "Slope",
"description": "Slope",
"help": ""
},
{
"name": "StDev with DRA",
"description": "Stretch applied",
"help": ""
}
]}
Mensuration Capabilities: Basic
Inspection Capabilities:
Has Histograms: true
Has Colormap: false
Has Multi Dimensions : false
Rendering Rule:
Min Scale: 0
Max Scale: 0
Copyright Text:
Service Data Type: esriImageServiceDataTypeGeneric
Min Values: -17.93454360961914
Max Values: 2.867978096008301
Mean Values: -6.8099807789452145
Standard Deviation Values: 4.075637956654228
Object ID Field: OBJECTID
Fields:
-
OBJECTID
(
type: esriFieldTypeOID, alias: OBJECTID
)
-
Shape
(
type: esriFieldTypeGeometry, alias: Shape
)
-
Name
(
type: esriFieldTypeString, alias: Name, length: 200
)
-
MinPS
(
type: esriFieldTypeDouble, alias: MinPS
)
-
MaxPS
(
type: esriFieldTypeDouble, alias: MaxPS
)
-
LowPS
(
type: esriFieldTypeDouble, alias: LowPS
)
-
HighPS
(
type: esriFieldTypeDouble, alias: HighPS
)
-
Category
(
type: esriFieldTypeInteger, alias: Category
, Coded Values:
[0: Unknown]
, [1: Primary]
, [2: Overview]
, ...6 more...
)
-
Tag
(
type: esriFieldTypeString, alias: Tag, length: 100
)
-
GroupName
(
type: esriFieldTypeString, alias: GroupName, length: 100
)
-
ProductName
(
type: esriFieldTypeString, alias: ProductName, length: 100
)
-
CenterX
(
type: esriFieldTypeDouble, alias: CenterX
)
-
CenterY
(
type: esriFieldTypeDouble, alias: CenterY
)
-
ZOrder
(
type: esriFieldTypeInteger, alias: ZOrder
)
-
dataset
(
type: esriFieldTypeString, alias: dataset, length: 255
)
-
AcquisitionDate
(
type: esriFieldTypeDate, alias: AcquisitionDate, length: 8
)
-
Shape_Length
(
type: esriFieldTypeDouble, alias: Shape_Length
)
-
Shape_Area
(
type: esriFieldTypeDouble, alias: Shape_Area
)
Default Mosaic Method: Northwest
Allowed Mosaic Methods: NorthWest,Center,LockRaster,ByAttribute,Nadir,Viewpoint,Seamline,None
SortField:
SortValue: null
Mosaic Operator: First
Default Compression Quality: 75
Default Resampling Method: Bilinear
Max Record Count: 1000
Max Image Height: 4100
Max Image Width: 15000
Max Download Image Count: 20
Max Mosaic Image Count: 20
Allow Raster Function: true
Allow Copy: true
Allow Analysis: true
Allow Compute TiePoints: false
Supports Statistics: true
Supports Advanced Queries: true
Use StandardizedQueries: true
Raster Type Infos:
Name: Raster Dataset
Description: Supports all ArcGIS Raster Datasets
Help:
Has Raster Attribute Table: false
Edit Fields Info: null
Ownership Based AccessControl For Rasters: null
Child Resources:
Info
Histograms
Statistics
Key Properties
Legend
Raster Function Infos
Supported Operations:
Export Image
Query
Identify
Measure
Compute Histograms
Compute Statistics Histograms
Get Samples
Compute Class Statistics
Query GPS Info
Find Images
Image to Map
Map to Image
Measure from Image
Image to Map Multiray
Query Boundary
Compute Pixel Location
Compute Angles
Validate
Project