View In:
ArcGIS JavaScript
ArcGIS Online Map Viewer
ArcGIS Earth
Service Description: daymet_10km
Name: daymet_10km
Description:
Single Fused Map Cache: false
Extent:
XMin: -113.95003509521484
YMin: 28.550331115722646
XMax: -77.95058441162107
YMax: 49.95000457763672
Spatial Reference: 4326
(4326)
LatestVCSWkid(0)
Initial Extent:
XMin: -113.95003509521484
YMin: 28.550331115722646
XMax: -77.95058441162107
YMax: 49.95000457763672
Spatial Reference: 4326
(4326)
LatestVCSWkid(0)
Full Extent:
XMin: -113.95003509521484
YMin: 28.550331115722646
XMax: -77.95058441162107
YMax: 49.95000457763672
Spatial Reference: 4326
(4326)
LatestVCSWkid(0)
Time Info:
Start Time Field: StdTime
End Time Field: StdTime
Time Extent:
[2016/03/01 00:00:00 UTC, 2016/03/31 00:00:00 UTC]
Time Reference:
N/A
Pixel Size X: 0.09999847412109383
Pixel Size Y: 0.0999984741210938
Band Count: 1
Pixel Type: F32
RasterFunction Infos: {"rasterFunctionInfos": [{
"name": "None",
"description": "Make a Raster or Raster Dataset into a Function Raster Dataset.",
"help": ""
}]}
Mensuration Capabilities: Basic
Inspection Capabilities:
Has Histograms: true
Has Colormap: false
Has Multi Dimensions : true
Rendering Rule:
Min Scale: 0
Max Scale: 0
Copyright Text:
Service Data Type: esriImageServiceDataTypeScientific
Min Values: 0.09119667857885361
Max Values: 0.8365483283996582
Mean Values: 0.23326867439144813
Standard Deviation Values: 0.1337554493890323
Object ID Field:
Fields:
None
Default Mosaic Method: Center
Allowed Mosaic Methods:
SortField:
SortValue: null
Mosaic Operator: First
Default Compression Quality: 75
Default Resampling Method: Bilinear
Max Record Count: null
Max Image Height: 4100
Max Image Width: 15000
Max Download Image Count: null
Max Mosaic Image Count: null
Allow Raster Function: true
Allow Copy: true
Allow Analysis: true
Allow Compute TiePoints: false
Supports Statistics: false
Supports Advanced Queries: false
Use StandardizedQueries: true
Raster Type Infos:
Name: Raster Dataset
Description: Supports all ArcGIS Raster Datasets
Help:
Has Raster Attribute Table: false
Edit Fields Info: null
Ownership Based AccessControl For Rasters: null
Child Resources:
Info
Histograms
Statistics
Key Properties
Legend
Raster Function Infos
Multidimensional Info
Slices
Supported Operations:
Export Image
Identify
Measure
Compute Histograms
Compute Statistics Histograms
Get Samples
Compute Class Statistics
Query Boundary
Compute Pixel Location
Compute Angles
Validate
Project