View In:
ArcGIS JavaScript
ArcGIS Online Map Viewer
ArcGIS Earth
Service Description: ICEYE_FloodDepth_washington_bc_R2_clean_lzw_tif
Name: ICEYE_FloodDepth_washington_bc_R2_clean_lzw_tif
Description:
Single Fused Map Cache: false
Extent:
XMin: 478540.8882113442
YMin: 5349142.4297154695
XMax: 672909.3200406728
YMax: 5470940.19626938
Spatial Reference: 32610
(32610)
LatestVCSWkid(0)
Initial Extent:
XMin: 478540.8882113442
YMin: 5349142.4297154695
XMax: 672909.3200406728
YMax: 5470940.19626938
Spatial Reference: 32610
(32610)
LatestVCSWkid(0)
Full Extent:
XMin: 478540.8882113442
YMin: 5349142.4297154695
XMax: 672909.3200406728
YMax: 5470940.19626938
Spatial Reference: 32610
(32610)
LatestVCSWkid(0)
Pixel Size X: 3.268948886280102
Pixel Size Y: 3.2689488862801053
Band Count: 1
Pixel Type: F32
RasterFunction Infos: {"rasterFunctionInfos": [{
"name": "None",
"description": "",
"help": ""
}]}
Mensuration Capabilities: Basic
Inspection Capabilities:
Has Histograms: true
Has Colormap: false
Has Multi Dimensions : false
Rendering Rule:
Min Scale: 0
Max Scale: 0
Copyright Text:
Service Data Type: esriImageServiceDataTypeGeneric
Min Values: 1.6293974700846E-14
Max Values: 5
Mean Values: 1.1422068238093
Standard Deviation Values: 1.0513255413272
Object ID Field:
Fields:
None
Default Mosaic Method: Center
Allowed Mosaic Methods:
SortField:
SortValue: null
Mosaic Operator: First
Default Compression Quality: 75
Default Resampling Method: Bilinear
Max Record Count: null
Max Image Height: 4100
Max Image Width: 15000
Max Download Image Count: null
Max Mosaic Image Count: null
Allow Raster Function: true
Allow Copy: true
Allow Analysis: true
Allow Compute TiePoints: false
Supports Statistics: false
Supports Advanced Queries: false
Use StandardizedQueries: true
Raster Type Infos:
Name: Raster Dataset
Description: Supports all ArcGIS Raster Datasets
Help:
Has Raster Attribute Table: false
Edit Fields Info: null
Ownership Based AccessControl For Rasters: null
Child Resources:
Info
Histograms
Statistics
Key Properties
Legend
Raster Function Infos
Supported Operations:
Export Image
Identify
Measure
Compute Histograms
Compute Statistics Histograms
Get Samples
Compute Class Statistics
Query Boundary
Compute Pixel Location
Compute Angles
Validate
Project