View In:
ArcGIS JavaScript
ArcGIS Online Map Viewer
ArcGIS Earth
Service Description: JHall_Data/LandCART_Multiband_CRF
Name: JHall_Data/LandCART_Multiband_CRF
Description:
Single Fused Map Cache: false
Extent:
XMin: -1.18968000013E7
YMin: 3824959.9222000027
XMax: -1.18560900013E7
YMax: 3872809.922200002
Spatial Reference: 102100
(3857)
LatestVCSWkid(0)
Initial Extent:
XMin: -1.18968000013E7
YMin: 3824959.9222000027
XMax: -1.18560900013E7
YMax: 3872809.922200002
Spatial Reference: 102100
(3857)
LatestVCSWkid(0)
Full Extent:
XMin: -1.18968000013E7
YMin: 3824959.9222000027
XMax: -1.18560900013E7
YMax: 3872809.922200002
Spatial Reference: 102100
(3857)
LatestVCSWkid(0)
Time Info:
Start Time Field: StdTime
End Time Field: StdTime
Time Extent:
[1986/01/01 00:00:00 UTC, 2023/01/01 00:00:00 UTC]
Time Reference:
N/A
Pixel Size X: 30.0
Pixel Size Y: 29.999999999999417
Band Count: 7
Pixel Type: F32
RasterFunction Infos: {"rasterFunctionInfos": [
{
"name": "None",
"description": "Make a Raster or Raster Dataset into a Function Raster Dataset.",
"help": ""
},
{
"name": "Annual Herbaceous Grasses MB",
"description": "subsets multiband landCART to AFG band",
"help": ""
},
{
"name": "Bare Ground MB",
"description": "subsets multiband landCART to BGR band",
"help": ""
},
{
"name": "Litter MB",
"description": "subsets multiband landCART to LTR band",
"help": ""
},
{
"name": "Perennial Herbaceous Grasses MB",
"description": "subsets multiband landCART to PHG band",
"help": ""
},
{
"name": "Shrubs",
"description": "subsets multiband landCART to SHR band",
"help": ""
},
{
"name": "Trees MB",
"description": "subsets multiband landCART to BGR band",
"help": ""
},
{
"name": "Woody Shrubs MB",
"description": "subsets multiband landCART to Woody band",
"help": ""
}
]}
Mensuration Capabilities: Basic
Inspection Capabilities:
Has Histograms: true
Has Colormap: false
Has Multi Dimensions : true
Rendering Rule:
Min Scale: 0
Max Scale: 0
Copyright Text:
Service Data Type: esriImageServiceDataTypeGeneric
Min Values: 0, 0, 0, 0, 0, 0, 0
Max Values: 38, 100, 52, 91, 69, 70, 90
Mean Values: 1.992865417195983, 41.020954998092314, 12.259520063523917, 16.423126789501893, 15.816750689075537, 1.3906208734210572, 17.20737156249642
Standard Deviation Values: 2.0568604345714627, 18.937794682927038, 3.3885776676038395, 12.047999818485488, 6.708417184457662, 3.3213568513526393, 7.884091752456153
Object ID Field:
Fields:
None
Default Mosaic Method: Center
Allowed Mosaic Methods:
SortField:
SortValue: null
Mosaic Operator: First
Default Compression Quality: 75
Default Resampling Method: Bilinear
Max Record Count: null
Max Image Height: 4100
Max Image Width: 15000
Max Download Image Count: null
Max Mosaic Image Count: null
Allow Raster Function: true
Allow Copy: true
Allow Analysis: true
Allow Compute TiePoints: false
Supports Statistics: false
Supports Advanced Queries: false
Use StandardizedQueries: true
Raster Type Infos:
Name: Raster Dataset
Description: Supports all ArcGIS Raster Datasets
Help:
Has Raster Attribute Table: false
Edit Fields Info: null
Ownership Based AccessControl For Rasters: null
Child Resources:
Info
Histograms
Statistics
Key Properties
Legend
Raster Function Infos
Multidimensional Info
Slices
Supported Operations:
Export Image
Identify
Measure
Compute Histograms
Compute Statistics Histograms
Get Samples
Compute Class Statistics
Query Boundary
Compute Pixel Location
Compute Angles
Validate
Project