View In:
ArcGIS JavaScript
ArcGIS Online Map Viewer
ArcGIS Earth
Service Description: JHall_Data/Mobile_Bay_Base_Hydrological
Name: JHall_Data/Mobile_Bay_Base_Hydrological
Description:
Single Fused Map Cache: false
Extent:
XMin: 500098.2723000003
YMin: 4238.45380000025
XMax: 584978.2723000003
YMax: 73068.45380000025
Spatial Reference: 26930
(26930)
VCSWkid(6357)
LatestVCSWkid(6357)
Initial Extent:
XMin: 500098.2723000003
YMin: 4238.45380000025
XMax: 584978.2723000003
YMax: 73068.45380000025
Spatial Reference: 26930
(26930)
VCSWkid(6357)
LatestVCSWkid(6357)
Full Extent:
XMin: 500098.2723000003
YMin: 4238.45380000025
XMax: 584978.2723000003
YMax: 73068.45380000025
Spatial Reference: 26930
(26930)
VCSWkid(6357)
LatestVCSWkid(6357)
Time Info:
Start Time Field: StdTime
End Time Field: StdTime_Max
Time Extent:
[2018/01/01 00:00:00 UTC, 2018/12/01 00:00:00 UTC]
Time Reference:
N/A
Pixel Size X: 10.0
Pixel Size Y: 10.0
Band Count: 1
Pixel Type: F32
RasterFunction Infos: {"rasterFunctionInfos": [
{
"name": "None",
"description": "Make a Raster or Raster Dataset into a Function Raster Dataset.",
"help": ""
},
{
"name": "Mean Seasonal Value",
"description": "The mean seasonal value",
"help": ""
},
{
"name": "Mean Yearly Value",
"description": "The mean yearly value",
"help": ""
},
{
"name": "Seasonal Value Range",
"description": "The seasonal range of values",
"help": ""
}
]}
Mensuration Capabilities: Basic
Inspection Capabilities:
Has Histograms: true
Has Colormap: false
Has Multi Dimensions : true
Rendering Rule:
Min Scale: 0
Max Scale: 0
Copyright Text:
Service Data Type: esriImageServiceDataTypeScientific
Min Values: 4.22218132019043
Max Values: 16.6706600189209
Mean Values: 8.928157863273505
Standard Deviation Values: 1.7548905548715465
Object ID Field:
Fields:
None
Default Mosaic Method: Center
Allowed Mosaic Methods:
SortField:
SortValue: null
Mosaic Operator: First
Default Compression Quality: 10000
Default Resampling Method: Bilinear
Max Record Count: null
Max Image Height: 4100
Max Image Width: 4100
Max Download Image Count: null
Max Mosaic Image Count: null
Allow Raster Function: true
Allow Copy: true
Allow Analysis: true
Allow Compute TiePoints: false
Supports Statistics: false
Supports Advanced Queries: false
Use StandardizedQueries: true
Raster Type Infos:
Name: Raster Dataset
Description: Supports all ArcGIS Raster Datasets
Help:
Has Raster Attribute Table: false
Edit Fields Info: null
Ownership Based AccessControl For Rasters: null
Child Resources:
Info
Histograms
Statistics
Key Properties
Legend
Raster Function Infos
Multidimensional Info
Slices
Supported Operations:
Export Image
Identify
Measure
Compute Histograms
Compute Statistics Histograms
Get Samples
Compute Class Statistics
Query Boundary
Compute Pixel Location
Compute Angles
Validate
Project