View In:
ArcGIS JavaScript
ArcGIS Online Map Viewer
ArcGIS Earth
Service Description: NAIP_NBS_NDVI_Change_2011_2020
Name: NAIP_NBS_NDVI_Change_2011_2020
Description:
Single Fused Map Cache: false
Extent:
XMin: -9128678.512
YMin: 4534986.613452464
XMax: -9044302.824099999
YMax: 4597559.381999999
Spatial Reference: 102100
(3857)
LatestVCSWkid(0)
Initial Extent:
XMin: -9128678.512
YMin: 4534986.613452464
XMax: -9044302.824099999
YMax: 4597559.381999999
Spatial Reference: 102100
(3857)
LatestVCSWkid(0)
Full Extent:
XMin: -9128678.512
YMin: 4534986.613452464
XMax: -9044302.824099999
YMax: 4597559.381999999
Spatial Reference: 102100
(3857)
LatestVCSWkid(0)
Pixel Size X: 0.9999963010808901
Pixel Size Y: 0.9999963010808965
Band Count: 1
Pixel Type: F32
RasterFunction Infos: {"rasterFunctionInfos": [{
"name": "None",
"description": "",
"help": ""
}]}
Mensuration Capabilities: Basic
Inspection Capabilities:
Has Histograms: true
Has Colormap: false
Has Multi Dimensions : false
Rendering Rule:
Min Scale: 0
Max Scale: 0
Copyright Text:
Service Data Type: esriImageServiceDataTypeGeneric
Min Values: -1.9600000381469727
Max Values: 1.377245545387268
Mean Values: -0.226839912965863
Standard Deviation Values: 0.20138728935865893
Object ID Field:
Fields:
None
Default Mosaic Method: Center
Allowed Mosaic Methods:
SortField:
SortValue: null
Mosaic Operator: First
Default Compression Quality: 75
Default Resampling Method: Bilinear
Max Record Count: null
Max Image Height: 1000000000
Max Image Width: 1000000000
Max Download Image Count: null
Max Mosaic Image Count: null
Allow Raster Function: true
Allow Copy: true
Allow Analysis: true
Allow Compute TiePoints: false
Supports Statistics: false
Supports Advanced Queries: false
Use StandardizedQueries: true
Raster Type Infos:
Name: Raster Dataset
Description: Supports all ArcGIS Raster Datasets
Help:
Has Raster Attribute Table: false
Edit Fields Info: null
Ownership Based AccessControl For Rasters: null
Child Resources:
Info
Histograms
Statistics
Key Properties
Legend
Raster Function Infos
Supported Operations:
Export Image
Identify
Measure
Compute Histograms
Compute Statistics Histograms
Get Samples
Compute Class Statistics
Query Boundary
Compute Pixel Location
Compute Angles
Validate
Project