View In:
ArcGIS JavaScript
ArcGIS Online Map Viewer
ArcGIS Earth
Service Description: NOAA_Ian_Naples3738
Name: NOAA_Ian_Naples3738
Description:
Single Fused Map Cache: false
Extent:
XMin: 423537.17
YMin: 2874188.9
XMax: 447873.13
YMax: 2883544.5
Spatial Reference: 32617
(32617)
VCSWkid(115700)
LatestVCSWkid(115700)
Initial Extent:
XMin: 423537.17
YMin: 2874188.9
XMax: 447873.13
YMax: 2883544.5
Spatial Reference: 32617
(32617)
VCSWkid(115700)
LatestVCSWkid(115700)
Full Extent:
XMin: 423537.17
YMin: 2874188.9
XMax: 447873.13
YMax: 2883544.5
Spatial Reference: 32617
(32617)
VCSWkid(115700)
LatestVCSWkid(115700)
Pixel Size X: 0.19000000000000017
Pixel Size Y: 0.1900000000000019
Band Count: 3
Pixel Type: U8
RasterFunction Infos: {"rasterFunctionInfos": [{
"name": "None",
"description": "Make a Raster or Raster Dataset into a Function Raster Dataset.",
"help": ""
}]}
Mensuration Capabilities: Basic
Inspection Capabilities:
Has Histograms: true
Has Colormap: false
Has Multi Dimensions : false
Rendering Rule:
Min Scale: 0
Max Scale: 0
Copyright Text:
Service Data Type: esriImageServiceDataTypeRGB
Min Values: 1, 1, 1
Max Values: 255, 255, 255
Mean Values: 59.278922526151135, 61.64916466057644, 68.96839824359458
Standard Deviation Values: 31.720504981531825, 29.80481128276, 26.710054876375178
Object ID Field:
Fields:
None
Default Mosaic Method: Center
Allowed Mosaic Methods:
SortField:
SortValue: null
Mosaic Operator: First
Default Compression Quality: 75
Default Resampling Method: Bilinear
Max Record Count: null
Max Image Height: 4100
Max Image Width: 15000
Max Download Image Count: null
Max Mosaic Image Count: null
Allow Raster Function: true
Allow Copy: true
Allow Analysis: true
Allow Compute TiePoints: false
Supports Statistics: false
Supports Advanced Queries: false
Use StandardizedQueries: true
Raster Type Infos:
Name: Raster Dataset
Description: Supports all ArcGIS Raster Datasets
Help:
Has Raster Attribute Table: false
Edit Fields Info: null
Ownership Based AccessControl For Rasters: null
Child Resources:
Info
Histograms
Statistics
Key Properties
Legend
Raster Function Infos
Supported Operations:
Export Image
Identify
Measure
Compute Histograms
Compute Statistics Histograms
Get Samples
Compute Class Statistics
Query Boundary
Compute Pixel Location
Compute Angles
Validate
Project