View In:
ArcGIS JavaScript
ArcGIS Online Map Viewer
ArcGIS Earth
Service Description: PineBeetle_2
Name: PineBeetle_2
Description:
Single Fused Map Cache: false
Extent:
XMin: -1.36923320396E7
YMin: 7173480.111699998
XMax: -1.31777620396E7
YMax: 7728260.111699998
Spatial Reference: 102100
(3857)
LatestVCSWkid(0)
Initial Extent:
XMin: -1.36923320396E7
YMin: 7173480.111699998
XMax: -1.31777620396E7
YMax: 7728260.111699998
Spatial Reference: 102100
(3857)
LatestVCSWkid(0)
Full Extent:
XMin: -1.36923320396E7
YMin: 7173480.111699998
XMax: -1.31777620396E7
YMax: 7728260.111699998
Spatial Reference: 102100
(3857)
LatestVCSWkid(0)
Time Info:
Start Time Field: DayDate
End Time Field: DayDate
Time Extent:
[2017/01/29 00:00:00 UTC, 2023/03/19 00:00:00 UTC]
Time Reference:
N/A
Pixel Size X: 10.0
Pixel Size Y: 10.0
Band Count: 15
Pixel Type: U16
RasterFunction Infos: {"rasterFunctionInfos": [
{
"name": "None",
"description": "Make a Raster or Raster Dataset into a Function Raster Dataset.",
"help": ""
},
{
"name": "Natural Color with DRA",
"description": "Natural Color bands red, green, blue (4, 3, 2) displayed with dynamic range adjustment applied.",
"help": ""
},
{
"name": "Agriculture with DRA",
"description": "Bands shortwave IR-1, near-IR, blue (11, 8, 2) with dynamic range adjustment applied. Vigorous veg. is bright green, stressed veg. dull green and bare areas as brown.",
"help": ""
},
{
"name": "Bathymetric with DRA",
"description": "Bands red, green, coastal/aerosol(4, 3, 1) with dynamic range adjustment applied. Useful in bathymetric mapping applicaitons.",
"help": ""
},
{
"name": "Color Infrared with DRA",
"description": "Bands near-infrared, red, green (8,4,3) with dynamic range adjustment applied. Healthy vegetation is bright red while stressed vegetation is dull red.",
"help": ""
},
{
"name": "Short-wave Infrared with DRA",
"description": "Bands shortwave infrared-2, shortwave infrared-1, red (12, 11, 4) with dynamic range adjustment applied.",
"help": ""
},
{
"name": "Geology with DRA",
"description": "Bands shortwave IR-2, shortwave IR-1, blue (12, 11, 2) with dynamic range adjustment applied. Highlights geological features.",
"help": ""
},
{
"name": "Natural Color",
"description": "Natural Color bands red, green, blue(4, 3, 2) displayed with fixed stretch applied.",
"help": ""
},
{
"name": "Agriculture",
"description": "Bands shortwave IR-1, near-IR, blue (11,8,2) with fixed stretched applied. Vigorous vegetation is bright green, stressed vegetation dull green and bare areas as brown.",
"help": ""
},
{
"name": "Bathymetric",
"description": "Bands red, green, coastal/aerosol(4, 3, 1) with fixed stretched applied. Useful in bathymetric mapping applicaitons.",
"help": ""
},
{
"name": "Geology",
"description": "Bands shortwave IR-2, shortwave IR-1, blue (12, 11, 2) with fixed stretched applied. Highlights geological features.",
"help": ""
},
{
"name": "Short-wave Infrared",
"description": "Bands shortwave infrared-2, shortwave infrared-1, red (12, 11, 4) with fixed stretch.",
"help": ""
},
{
"name": "Color Infrared",
"description": "Bands near-infrared, red, green (8,4,3) with fixed stretch applied. Healthy vegetation is bright red while stressed vegetation is dull red.",
"help": ""
},
{
"name": "NDVI Colormap",
"description": "Normalized difference vegetation index (NDVI) with colormap. Dark green represents vigorous vegetation and brown represents sparse vegetation. It is computed as (b8 - b4) / (b8 + b4) and is suitable for vegetation, land cover and plant health monitoring.",
"help": ""
},
{
"name": "NDMI Colorized",
"description": "Normalized Difference Moisture Index with color map. Wetlands and moist areas appear blue whereas dry areas are represented by deep yellow and brown color. It is computed as NIR(B8)-SWIR1(B11)/NIR(B8)+SWIR1(B11).",
"help": ""
},
{
"name": "Normalized Burn Ratio",
"description": "The NBR index is computed as NIR(Band08)-SWIR(Band12)/NIR(Band08)+SWIR(Band12) and appropriate for highlighting burned areas and estimating fire severity. It highlights burnt areas in fire zones greater than 500 acres. You will need to generate a differenced NBR image by subtracting a post-fire image from a pre-fire image. The resulting darker pixels represent burned areas.",
"help": ""
},
{
"name": "Normalized Difference Built-Up Index (NDBI)",
"description": "The NDBI index is computed as SWIR(Band11)-NIR(Band08)/ SWIR(Band11)+NIR(Band08) and is suitable for watershed runoff predictions, tracking urbananisation and land-use planning. It highlights urban areas with higher reflectance in the SWIR region, compared to the NIR region.",
"help": ""
},
{
"name": "NDVI Raw",
"description": "Normalized difference vegetation index (NDVI) computed as (b8 - b4) / (b8 + b4) and is suitable for vegetation, land cover and plant health monitoring.",
"help": ""
},
{
"name": "NDVI - VRE only Raw",
"description": "The NDVI - VRE only (NDVI705) Raw index is computed as VRE(Band06)-VRE(Band05)/VRE(Band06)+VRE(Band05) and is most suitable for precision agriculture, forest monitoring and vegetation stress detection. This index is an alteration of the NDVI index and unlike the NDVI index which uses bands from the main absorption and reflectance peaks, this index uses the bands along the red edge. The VRE bands are very sensitive to minor changes in canopy foliage content, gap fraction and deterioration.",
"help": ""
},
{
"name": "NDVI - with VRE Raw",
"description": "The NDVI - with VRE(NDRE) Raw index is computed as NIR(Band08)-VRE(Band05)/NIR(Band08)+VRE(Band05), also known as NDRE (Normalized Difference Red Edge) and is more appropriate than NDVI index for intensive management applications throughout the growing season. It is a modification of the NDVI index, however works as a better measure of vegetation health than NDVI especially for mid-late season crops that have elevated levels of chlorophyll because VRE bands are more translucent to leaves than red light and hence is seldom completely absorbed by a canopy.",
"help": ""
},
{
"name": "NDWI Raw",
"description": "The NDWI index is computed as Green(Band03)-NIR(Band08)/ Green(Band03)+NIR(Band08) and is most suitable for mapping of water bodies, droughts, boundary evaluation. Water bodies have strong absorbability and low radiation within the visible to infrared spectral ranges and this index is based on this phenomenon.",
"help": ""
},
{
"name": "NDWI - with VRE Raw",
"description": "The NDWI - with VRE Raw index is computed as Green(Band03)-VRE(Band05)/Green(Band03)+VRE(Band05) and is most suitable for mapping of water bodies, droughts, boundary evaluation. This index is an alteration of the NDWI index and unlike the NDWI index which uses the NIR band, this index uses VRE band05 along the red edge.",
"help": ""
},
{
"name": "Scene Classification Map",
"description": "Supervised classified land cover image",
"help": ""
},
{
"name": "WaterVapourMap",
"description": "WaterVapourMap",
"help": ""
},
{
"name": "Aerosol Optical Thickness Map",
"description": "AerosolOpticalThicknessMap",
"help": ""
},
{
"name": "NDVI_Classified",
"description": "Classified NDVI into four buckets: dead plant, unhealthy, moderately healthy and very healthy.",
"help": ""
},
{
"name": "NDVI_Classified_newsave",
"description": "Classified NDVI into four buckets: dead plant, unhealthy, moderately healthy and very healthy.",
"help": ""
}
]}
Mensuration Capabilities: Basic,Base-Top Height,Base-Top Shadow Height,Top-Top Shadow Height,3D
Inspection Capabilities:
Has Histograms: true
Has Colormap: false
Has Multi Dimensions : false
Rendering Rule:
Min Scale: 0
Max Scale: 0
Copyright Text:
Service Data Type: esriImageServiceDataTypeGeneric
Min Values: 0, 0, 0, 0, 0, 0, 0, 0, 0, 0, 0, 0, 0, 0, 0
Max Values: 19726, 19144, 18040, 17208, 16899, 16585, 16421, 16296, 16186, 16147, 15412, 15241, 208, 3007, 11
Mean Values: 3972.237257577389, 3956.864170925476, 3964.4155155586895, 3970.2973307168636, 4212.509695025044, 4455.307857938388, 4388.4950919341245, 4521.385025187653, 4323.66751381801, 4601.0003908053695, 811.9234308449174, 725.8903540047294, 123.58694332086748, 382.7782982119309, 9.38004295215994
Standard Deviation Values: 3231.429864639851, 3478.883695507838, 3387.291739894475, 3407.559116435484, 3369.6521740344556, 3057.906548382588, 2867.522652564141, 2936.689171117495, 2701.6226430165016, 2927.0118158065343, 750.1125100376581, 764.678863243534, 45.77548299621827, 155.3980817141889, 2.564750605822107
Object ID Field: OBJECTID
Fields:
-
OBJECTID
(
type: esriFieldTypeOID, alias: OBJECTID
)
-
Shape
(
type: esriFieldTypeGeometry, alias: Shape
)
-
Name
(
type: esriFieldTypeString, alias: Name, length: 200
)
-
MinPS
(
type: esriFieldTypeDouble, alias: MinPS
)
-
MaxPS
(
type: esriFieldTypeDouble, alias: MaxPS
)
-
LowPS
(
type: esriFieldTypeDouble, alias: LowPS
)
-
HighPS
(
type: esriFieldTypeDouble, alias: HighPS
)
-
Category
(
type: esriFieldTypeInteger, alias: Category
, Coded Values:
[0: Unknown]
, [1: Primary]
, [2: Overview]
, ...6 more...
)
-
ProductName
(
type: esriFieldTypeString, alias: ProductName, length: 100
)
-
AcquisitionDate
(
type: esriFieldTypeDate, alias: AcquisitionDate, length: 8
)
-
CloudCover
(
type: esriFieldTypeSingle, alias: CloudCover
)
-
Best
(
type: esriFieldTypeInteger, alias: Best
)
-
TargetDates
(
type: esriFieldTypeSmallInteger, alias: TargetDates
)
Default Mosaic Method: ByAttribute
Allowed Mosaic Methods: ByAttribute,Seamline,NorthWest,Center,LockRaster,Nadir,Viewpoint,None
SortField: best
SortValue: 0
Mosaic Operator: First
Default Compression Quality: 85
Default Resampling Method: Bilinear
Max Record Count: 2000
Max Image Height: 5000
Max Image Width: 5000
Max Download Image Count: 50
Max Mosaic Image Count: 50
Allow Raster Function: true
Allow Copy: true
Allow Analysis: true
Allow Compute TiePoints: false
Supports Statistics: true
Supports Advanced Queries: true
Use StandardizedQueries: true
Raster Type Infos:
Name: Raster Dataset
Description: Supports all ArcGIS Raster Datasets
Help:
Has Raster Attribute Table: false
Edit Fields Info: null
Ownership Based AccessControl For Rasters: null
Child Resources:
Info
Histograms
Statistics
Key Properties
Legend
Raster Function Infos
Supported Operations:
Export Image
Query
Identify
Measure
Compute Histograms
Compute Statistics Histograms
Get Samples
Compute Class Statistics
Query GPS Info
Find Images
Image to Map
Map to Image
Measure from Image
Image to Map Multiray
Query Boundary
Compute Pixel Location
Compute Angles
Validate
Project
Calculate Volume